BEGIN:VCALENDAR
VERSION:2.0
PRODID:-//Oregon State Grange - ECPv6.15.17.1//NONSGML v1.0//EN
CALSCALE:GREGORIAN
METHOD:PUBLISH
X-ORIGINAL-URL:https://orgrange.org
X-WR-CALDESC:Events for Oregon State Grange
REFRESH-INTERVAL;VALUE=DURATION:PT1H
X-Robots-Tag:noindex
X-PUBLISHED-TTL:PT1H
BEGIN:VTIMEZONE
TZID:America/Los_Angeles
BEGIN:DAYLIGHT
TZOFFSETFROM:-0800
TZOFFSETTO:-0700
TZNAME:PDT
DTSTART:20240310T100000
END:DAYLIGHT
BEGIN:STANDARD
TZOFFSETFROM:-0700
TZOFFSETTO:-0800
TZNAME:PST
DTSTART:20241103T090000
END:STANDARD
BEGIN:DAYLIGHT
TZOFFSETFROM:-0800
TZOFFSETTO:-0700
TZNAME:PDT
DTSTART:20250309T100000
END:DAYLIGHT
BEGIN:STANDARD
TZOFFSETFROM:-0700
TZOFFSETTO:-0800
TZNAME:PST
DTSTART:20251102T090000
END:STANDARD
BEGIN:DAYLIGHT
TZOFFSETFROM:-0800
TZOFFSETTO:-0700
TZNAME:PDT
DTSTART:20260308T100000
END:DAYLIGHT
BEGIN:STANDARD
TZOFFSETFROM:-0700
TZOFFSETTO:-0800
TZNAME:PST
DTSTART:20261101T090000
END:STANDARD
END:VTIMEZONE
BEGIN:VEVENT
DTSTART;TZID=America/Los_Angeles:20250711T180000
DTEND;TZID=America/Los_Angeles:20250711T203000
DTSTAMP:20260423T134140
CREATED:20250705T171123Z
LAST-MODIFIED:20250705T171123Z
UID:10002920-1752256800-1752265800@orgrange.org
SUMMARY:Bingo Nights at Mary's River Grange
DESCRIPTION:
URL:https://orgrange.org/event/bingo-nights-at-marys-river-grange/2025-07-11/
LOCATION:Marys River Grange 685 Hall\, 24707 Grange Hall Rd\, Philomath\, OR\, 97370\, United States
CATEGORIES:Community Grange Event
END:VEVENT
BEGIN:VEVENT
DTSTART;TZID=America/Los_Angeles:20250719T080000
DTEND;TZID=America/Los_Angeles:20250719T170000
DTSTAMP:20260423T134140
CREATED:20250714T201925Z
LAST-MODIFIED:20250714T201925Z
UID:10003312-1752912000-1752944400@orgrange.org
SUMMARY:Flea Market and Yard Sale at Harding Grange
DESCRIPTION:
URL:https://orgrange.org/event/flea-market-and-yard-sale-at-harding-grange/2025-07-19/
LOCATION:Harding Grange 122 Hall\, 21552 S Fischers Mill Rd\, Estacada\, OR\, 97023\, United States
CATEGORIES:Community Grange Event
END:VEVENT
BEGIN:VEVENT
DTSTART;TZID=America/Los_Angeles:20250720T080000
DTEND;TZID=America/Los_Angeles:20250720T150000
DTSTAMP:20260423T134140
CREATED:20250714T201925Z
LAST-MODIFIED:20250714T201925Z
UID:10003313-1752998400-1753023600@orgrange.org
SUMMARY:Flea Market and Yard Sale at Harding Grange
DESCRIPTION:
URL:https://orgrange.org/event/flea-market-and-yard-sale-at-harding-grange/2025-07-20/
LOCATION:Harding Grange 122 Hall\, 21552 S Fischers Mill Rd\, Estacada\, OR\, 97023\, United States
CATEGORIES:Community Grange Event
END:VEVENT
END:VCALENDAR