BEGIN:VCALENDAR
VERSION:2.0
PRODID:-//Oregon State Grange - ECPv6.15.17.1//NONSGML v1.0//EN
CALSCALE:GREGORIAN
METHOD:PUBLISH
X-ORIGINAL-URL:https://orgrange.org
X-WR-CALDESC:Events for Oregon State Grange
REFRESH-INTERVAL;VALUE=DURATION:PT1H
X-Robots-Tag:noindex
X-PUBLISHED-TTL:PT1H
BEGIN:VTIMEZONE
TZID:America/Los_Angeles
BEGIN:DAYLIGHT
TZOFFSETFROM:-0800
TZOFFSETTO:-0700
TZNAME:PDT
DTSTART:20240310T100000
END:DAYLIGHT
BEGIN:STANDARD
TZOFFSETFROM:-0700
TZOFFSETTO:-0800
TZNAME:PST
DTSTART:20241103T090000
END:STANDARD
BEGIN:DAYLIGHT
TZOFFSETFROM:-0800
TZOFFSETTO:-0700
TZNAME:PDT
DTSTART:20250309T100000
END:DAYLIGHT
BEGIN:STANDARD
TZOFFSETFROM:-0700
TZOFFSETTO:-0800
TZNAME:PST
DTSTART:20251102T090000
END:STANDARD
BEGIN:DAYLIGHT
TZOFFSETFROM:-0800
TZOFFSETTO:-0700
TZNAME:PDT
DTSTART:20260308T100000
END:DAYLIGHT
BEGIN:STANDARD
TZOFFSETFROM:-0700
TZOFFSETTO:-0800
TZNAME:PST
DTSTART:20261101T090000
END:STANDARD
END:VTIMEZONE
BEGIN:VEVENT
DTSTART;TZID=America/Los_Angeles:20251101T100000
DTEND;TZID=America/Los_Angeles:20251101T130000
DTSTAMP:20260422T210618
CREATED:20250420T183239Z
LAST-MODIFIED:20250420T183239Z
UID:10002462-1761991200-1762002000@orgrange.org
SUMMARY:Baker Pomona #24 Business Meeting
DESCRIPTION:10:30 AM Business Meeting \nPotluck at Noon\, Host grange furnishes meast dis\, members bring salads or desserts. \nMay 3 at New Bridge \nAugust 8 at Missouri Flat \nNovember 11 at Pine Valley \nFeb 1 ’26 at Eagle Valley
URL:https://orgrange.org/event/baker-pomona-24-business-meeting/2025-11-01/
LOCATION:OR
CATEGORIES:Pomona Grange Event
END:VEVENT
BEGIN:VEVENT
DTSTART;TZID=America/Los_Angeles:20251108T113000
DTEND;TZID=America/Los_Angeles:20251108T160000
DTSTAMP:20260422T210618
CREATED:20250421T015931Z
LAST-MODIFIED:20250421T015931Z
UID:10002477-1762601400-1762617600@orgrange.org
SUMMARY:Deschutes Pomona #25
DESCRIPTION:Potluck at 11:30 AM\, Business Meeting to follow at 1 PM \nLocations to be announced
URL:https://orgrange.org/event/deschutes-pomona-25/2025-11-08/
LOCATION:OR
CATEGORIES:Pomona Grange Event
END:VEVENT
BEGIN:VEVENT
DTSTART;TZID=America/Los_Angeles:20251115T103000
DTEND;TZID=America/Los_Angeles:20251115T143000
DTSTAMP:20260422T210618
CREATED:20250421T041413Z
LAST-MODIFIED:20250425T202134Z
UID:10002490-1763202600-1763217000@orgrange.org
SUMMARY:Lincoln Pomona #10 Business meeting and potluck
DESCRIPTION:Business meeting at 10:30 AM\, Potluck at noon or following meeting \nLocations to be announced.
URL:https://orgrange.org/event/lincoln-pomona-10-business-meeting-and-potluck/2025-11-15/
LOCATION:OR
CATEGORIES:Pomona Grange Event
END:VEVENT
BEGIN:VEVENT
DTSTART;TZID=America/Los_Angeles:20251122T130000
DTEND;TZID=America/Los_Angeles:20251122T143000
DTSTAMP:20260422T210618
CREATED:20251110T140049Z
LAST-MODIFIED:20251110T140049Z
UID:10004231-1763816400-1763821800@orgrange.org
SUMMARY:Friends Giving Potluck at North End Grange
DESCRIPTION:
URL:https://orgrange.org/event/friends-giving-potluck-at-north-end-grange/
LOCATION:North End Grange 820 Hall\, 81029 Flora Ln\, Enterprise\, OR\, 97828\, United States
CATEGORIES:Community Grange Event
END:VEVENT
BEGIN:VEVENT
DTSTART;TZID=America/Los_Angeles:20251123T130000
DTEND;TZID=America/Los_Angeles:20251123T143000
DTSTAMP:20260422T210618
CREATED:20251112T151628Z
LAST-MODIFIED:20251112T153154Z
UID:10004295-1763902800-1763908200@orgrange.org
SUMMARY:Thanksgiving open house and potluck at London Grange
DESCRIPTION:London Grange #937 \nFacebook for more info:  https://www.facebook.com/LondonGrange/posts/pfbid0Rm1fvFghTzRFnkasVP7RQLBxXRN1L9G22XBC8XBSYaw9JARjUs2d7yR2xh1MdrRtl?__cft__%5b0%5d=AZXAAcPGsZTPq1wuiER2_R_j96xavTuZckWQcFDaMm4M1f22aBDPinX7E7qUxjJYWc1qcjS5Rw4B36k00roRo_zPqZt6Fy7sIFXTHEvFHgkmQYNPbEmN1rahW2ampE0nQzE0wT9_TQtQX-ho7mQTpcPTbKUZlezE0kq5AHfshrFl8h7LDzoxMaJK7tQo2m7P06AocUilmsxxjPq9cUmSVhci&__tn__=%2CO%2CP-R \nSave The Date! London Grange # 937 will be holding their annual Thanksgiving Community Open House and Potluck on Sunday Nov 23 at 1:00. \nThe Grange will provide the turkey\, ham\, mashed potatoes\, gravy and dressing . Please bring a dish to share. Come join your neighbors for a wonderful feast. \n72746 London Rd. Cottage Grove mp10. Any questions\, please call Alice at 541-942-6148.
URL:https://orgrange.org/event/thanksgiving-open-house-and-potluck-at-london-grange/
LOCATION:London Grange 937\, 72746 London Road\, Cottage Grove\, OR\, 97424\, United States
CATEGORIES:Community Grange Event
END:VEVENT
BEGIN:VEVENT
DTSTART;TZID=America/Los_Angeles:20251129T100000
DTEND;TZID=America/Los_Angeles:20251129T140000
DTSTAMP:20260422T210618
CREATED:20250421T035432Z
LAST-MODIFIED:20250421T035432Z
UID:10002483-1764410400-1764424800@orgrange.org
SUMMARY:Josephine Pomona #20
DESCRIPTION:10 AM Business meeting\, Potluck at noon. \nAll meetings at Fruitdale Grange
URL:https://orgrange.org/event/josephine-pomona-20-3/2025-11-29/
LOCATION:Fruitdale Grange 379 Hall\, 1440 Parkdale Dr\, Grants Pass\, OR\, 97527\, United States
CATEGORIES:Pomona Grange Event
END:VEVENT
END:VCALENDAR