BEGIN:VCALENDAR
VERSION:2.0
PRODID:-//Oregon State Grange - ECPv6.15.17.1//NONSGML v1.0//EN
CALSCALE:GREGORIAN
METHOD:PUBLISH
X-ORIGINAL-URL:https://orgrange.org
X-WR-CALDESC:Events for Oregon State Grange
REFRESH-INTERVAL;VALUE=DURATION:PT1H
X-Robots-Tag:noindex
X-PUBLISHED-TTL:PT1H
BEGIN:VTIMEZONE
TZID:America/Los_Angeles
BEGIN:DAYLIGHT
TZOFFSETFROM:-0800
TZOFFSETTO:-0700
TZNAME:PDT
DTSTART:20250309T100000
END:DAYLIGHT
BEGIN:STANDARD
TZOFFSETFROM:-0700
TZOFFSETTO:-0800
TZNAME:PST
DTSTART:20251102T090000
END:STANDARD
BEGIN:DAYLIGHT
TZOFFSETFROM:-0800
TZOFFSETTO:-0700
TZNAME:PDT
DTSTART:20260308T100000
END:DAYLIGHT
BEGIN:STANDARD
TZOFFSETFROM:-0700
TZOFFSETTO:-0800
TZNAME:PST
DTSTART:20261101T090000
END:STANDARD
BEGIN:DAYLIGHT
TZOFFSETFROM:-0800
TZOFFSETTO:-0700
TZNAME:PDT
DTSTART:20270314T100000
END:DAYLIGHT
BEGIN:STANDARD
TZOFFSETFROM:-0700
TZOFFSETTO:-0800
TZNAME:PST
DTSTART:20271107T090000
END:STANDARD
END:VTIMEZONE
BEGIN:VEVENT
DTSTART;TZID=America/Los_Angeles:20260207T100000
DTEND;TZID=America/Los_Angeles:20260207T140000
DTSTAMP:20260420T232033
CREATED:20250421T015454Z
LAST-MODIFIED:20250421T015454Z
UID:10002474-1770458400-1770472800@orgrange.org
SUMMARY:Columbia Pomona #18
DESCRIPTION:Business meeting 10:00 AM\, Lunch by host grange except August picinic \nFebruary 1 – Beaver Homes \nMay 3 – Fern Hill \nAugust 2 – Potluck picinic at the Fairgrounds \nNovember 1 – Deer Island \nFebruary 2 2026 – Yankton \n 
URL:https://orgrange.org/event/columbia-pomona-18/2026-02-07/
CATEGORIES:Pomona Grange Event
END:VEVENT
END:VCALENDAR