BEGIN:VCALENDAR
VERSION:2.0
PRODID:-//Oregon State Grange - ECPv6.15.17.1//NONSGML v1.0//EN
CALSCALE:GREGORIAN
METHOD:PUBLISH
X-ORIGINAL-URL:https://orgrange.org
X-WR-CALDESC:Events for Oregon State Grange
REFRESH-INTERVAL;VALUE=DURATION:PT1H
X-Robots-Tag:noindex
X-PUBLISHED-TTL:PT1H
BEGIN:VTIMEZONE
TZID:America/Los_Angeles
BEGIN:DAYLIGHT
TZOFFSETFROM:-0800
TZOFFSETTO:-0700
TZNAME:PDT
DTSTART:20250309T100000
END:DAYLIGHT
BEGIN:STANDARD
TZOFFSETFROM:-0700
TZOFFSETTO:-0800
TZNAME:PST
DTSTART:20251102T090000
END:STANDARD
BEGIN:DAYLIGHT
TZOFFSETFROM:-0800
TZOFFSETTO:-0700
TZNAME:PDT
DTSTART:20260308T100000
END:DAYLIGHT
BEGIN:STANDARD
TZOFFSETFROM:-0700
TZOFFSETTO:-0800
TZNAME:PST
DTSTART:20261101T090000
END:STANDARD
BEGIN:DAYLIGHT
TZOFFSETFROM:-0800
TZOFFSETTO:-0700
TZNAME:PDT
DTSTART:20270314T100000
END:DAYLIGHT
BEGIN:STANDARD
TZOFFSETFROM:-0700
TZOFFSETTO:-0800
TZNAME:PST
DTSTART:20271107T090000
END:STANDARD
END:VTIMEZONE
BEGIN:VEVENT
DTSTART;TZID=America/Los_Angeles:20261001T090000
DTEND;TZID=America/Los_Angeles:20261001T103000
DTSTAMP:20260420T143013
CREATED:20260110T053544Z
LAST-MODIFIED:20260110T053544Z
UID:10004691-1790845200-1790850600@orgrange.org
SUMMARY:Zumba at Maplewood Grange
DESCRIPTION:Zumba with Cristine \n9-10:30 and 6-7:30 \nMonday thru Friday \n503-914-9561
URL:https://orgrange.org/event/zumba-at-maplewood-grange/2026-10-01/
LOCATION:Maplewood Grange 662 Hall\, 25480 S Hwy 99E\, Aurora\, OR\, 97002\, United States
CATEGORIES:Community Grange Event,Sponsored community benefit event
END:VEVENT
BEGIN:VEVENT
DTSTART;TZID=America/Los_Angeles:20261002T090000
DTEND;TZID=America/Los_Angeles:20261002T103000
DTSTAMP:20260420T143014
CREATED:20260110T053544Z
LAST-MODIFIED:20260110T053544Z
UID:10004692-1790931600-1790937000@orgrange.org
SUMMARY:Zumba at Maplewood Grange
DESCRIPTION:Zumba with Cristine \n9-10:30 and 6-7:30 \nMonday thru Friday \n503-914-9561
URL:https://orgrange.org/event/zumba-at-maplewood-grange/2026-10-02/
LOCATION:Maplewood Grange 662 Hall\, 25480 S Hwy 99E\, Aurora\, OR\, 97002\, United States
CATEGORIES:Community Grange Event,Sponsored community benefit event
END:VEVENT
BEGIN:VEVENT
DTSTART;TZID=America/Los_Angeles:20261005T090000
DTEND;TZID=America/Los_Angeles:20261005T103000
DTSTAMP:20260420T143014
CREATED:20260110T053544Z
LAST-MODIFIED:20260110T053544Z
UID:10004693-1791190800-1791196200@orgrange.org
SUMMARY:Zumba at Maplewood Grange
DESCRIPTION:Zumba with Cristine \n9-10:30 and 6-7:30 \nMonday thru Friday \n503-914-9561
URL:https://orgrange.org/event/zumba-at-maplewood-grange/2026-10-05/
LOCATION:Maplewood Grange 662 Hall\, 25480 S Hwy 99E\, Aurora\, OR\, 97002\, United States
CATEGORIES:Community Grange Event,Sponsored community benefit event
END:VEVENT
BEGIN:VEVENT
DTSTART;TZID=America/Los_Angeles:20261006T090000
DTEND;TZID=America/Los_Angeles:20261006T103000
DTSTAMP:20260420T143014
CREATED:20260110T053544Z
LAST-MODIFIED:20260110T053544Z
UID:10004694-1791277200-1791282600@orgrange.org
SUMMARY:Zumba at Maplewood Grange
DESCRIPTION:Zumba with Cristine \n9-10:30 and 6-7:30 \nMonday thru Friday \n503-914-9561
URL:https://orgrange.org/event/zumba-at-maplewood-grange/2026-10-06/
LOCATION:Maplewood Grange 662 Hall\, 25480 S Hwy 99E\, Aurora\, OR\, 97002\, United States
CATEGORIES:Community Grange Event,Sponsored community benefit event
END:VEVENT
BEGIN:VEVENT
DTSTART;TZID=America/Los_Angeles:20261007T090000
DTEND;TZID=America/Los_Angeles:20261007T103000
DTSTAMP:20260420T143014
CREATED:20260110T053544Z
LAST-MODIFIED:20260110T053544Z
UID:10004695-1791363600-1791369000@orgrange.org
SUMMARY:Zumba at Maplewood Grange
DESCRIPTION:Zumba with Cristine \n9-10:30 and 6-7:30 \nMonday thru Friday \n503-914-9561
URL:https://orgrange.org/event/zumba-at-maplewood-grange/2026-10-07/
LOCATION:Maplewood Grange 662 Hall\, 25480 S Hwy 99E\, Aurora\, OR\, 97002\, United States
CATEGORIES:Community Grange Event,Sponsored community benefit event
END:VEVENT
BEGIN:VEVENT
DTSTART;TZID=America/Los_Angeles:20261008T090000
DTEND;TZID=America/Los_Angeles:20261008T103000
DTSTAMP:20260420T143014
CREATED:20260110T053544Z
LAST-MODIFIED:20260110T053544Z
UID:10004696-1791450000-1791455400@orgrange.org
SUMMARY:Zumba at Maplewood Grange
DESCRIPTION:Zumba with Cristine \n9-10:30 and 6-7:30 \nMonday thru Friday \n503-914-9561
URL:https://orgrange.org/event/zumba-at-maplewood-grange/2026-10-08/
LOCATION:Maplewood Grange 662 Hall\, 25480 S Hwy 99E\, Aurora\, OR\, 97002\, United States
CATEGORIES:Community Grange Event,Sponsored community benefit event
END:VEVENT
BEGIN:VEVENT
DTSTART;TZID=America/Los_Angeles:20261009T090000
DTEND;TZID=America/Los_Angeles:20261009T103000
DTSTAMP:20260420T143014
CREATED:20260110T053544Z
LAST-MODIFIED:20260110T053544Z
UID:10004697-1791536400-1791541800@orgrange.org
SUMMARY:Zumba at Maplewood Grange
DESCRIPTION:Zumba with Cristine \n9-10:30 and 6-7:30 \nMonday thru Friday \n503-914-9561
URL:https://orgrange.org/event/zumba-at-maplewood-grange/2026-10-09/
LOCATION:Maplewood Grange 662 Hall\, 25480 S Hwy 99E\, Aurora\, OR\, 97002\, United States
CATEGORIES:Community Grange Event,Sponsored community benefit event
END:VEVENT
BEGIN:VEVENT
DTSTART;TZID=America/Los_Angeles:20261012T090000
DTEND;TZID=America/Los_Angeles:20261012T103000
DTSTAMP:20260420T143014
CREATED:20260110T053544Z
LAST-MODIFIED:20260110T053544Z
UID:10004698-1791795600-1791801000@orgrange.org
SUMMARY:Zumba at Maplewood Grange
DESCRIPTION:Zumba with Cristine \n9-10:30 and 6-7:30 \nMonday thru Friday \n503-914-9561
URL:https://orgrange.org/event/zumba-at-maplewood-grange/2026-10-12/
LOCATION:Maplewood Grange 662 Hall\, 25480 S Hwy 99E\, Aurora\, OR\, 97002\, United States
CATEGORIES:Community Grange Event,Sponsored community benefit event
END:VEVENT
BEGIN:VEVENT
DTSTART;TZID=America/Los_Angeles:20261013T090000
DTEND;TZID=America/Los_Angeles:20261013T103000
DTSTAMP:20260420T143014
CREATED:20260110T053544Z
LAST-MODIFIED:20260110T053544Z
UID:10004699-1791882000-1791887400@orgrange.org
SUMMARY:Zumba at Maplewood Grange
DESCRIPTION:Zumba with Cristine \n9-10:30 and 6-7:30 \nMonday thru Friday \n503-914-9561
URL:https://orgrange.org/event/zumba-at-maplewood-grange/2026-10-13/
LOCATION:Maplewood Grange 662 Hall\, 25480 S Hwy 99E\, Aurora\, OR\, 97002\, United States
CATEGORIES:Community Grange Event,Sponsored community benefit event
END:VEVENT
BEGIN:VEVENT
DTSTART;TZID=America/Los_Angeles:20261014T090000
DTEND;TZID=America/Los_Angeles:20261014T103000
DTSTAMP:20260420T143014
CREATED:20260110T053544Z
LAST-MODIFIED:20260110T053544Z
UID:10004700-1791968400-1791973800@orgrange.org
SUMMARY:Zumba at Maplewood Grange
DESCRIPTION:Zumba with Cristine \n9-10:30 and 6-7:30 \nMonday thru Friday \n503-914-9561
URL:https://orgrange.org/event/zumba-at-maplewood-grange/2026-10-14/
LOCATION:Maplewood Grange 662 Hall\, 25480 S Hwy 99E\, Aurora\, OR\, 97002\, United States
CATEGORIES:Community Grange Event,Sponsored community benefit event
END:VEVENT
BEGIN:VEVENT
DTSTART;TZID=America/Los_Angeles:20261015T090000
DTEND;TZID=America/Los_Angeles:20261015T103000
DTSTAMP:20260420T143014
CREATED:20260110T053544Z
LAST-MODIFIED:20260110T053544Z
UID:10004701-1792054800-1792060200@orgrange.org
SUMMARY:Zumba at Maplewood Grange
DESCRIPTION:Zumba with Cristine \n9-10:30 and 6-7:30 \nMonday thru Friday \n503-914-9561
URL:https://orgrange.org/event/zumba-at-maplewood-grange/2026-10-15/
LOCATION:Maplewood Grange 662 Hall\, 25480 S Hwy 99E\, Aurora\, OR\, 97002\, United States
CATEGORIES:Community Grange Event,Sponsored community benefit event
END:VEVENT
BEGIN:VEVENT
DTSTART;TZID=America/Los_Angeles:20261016T090000
DTEND;TZID=America/Los_Angeles:20261016T103000
DTSTAMP:20260420T143014
CREATED:20260110T053544Z
LAST-MODIFIED:20260110T053544Z
UID:10004702-1792141200-1792146600@orgrange.org
SUMMARY:Zumba at Maplewood Grange
DESCRIPTION:Zumba with Cristine \n9-10:30 and 6-7:30 \nMonday thru Friday \n503-914-9561
URL:https://orgrange.org/event/zumba-at-maplewood-grange/2026-10-16/
LOCATION:Maplewood Grange 662 Hall\, 25480 S Hwy 99E\, Aurora\, OR\, 97002\, United States
CATEGORIES:Community Grange Event,Sponsored community benefit event
END:VEVENT
BEGIN:VEVENT
DTSTART;TZID=America/Los_Angeles:20261019T090000
DTEND;TZID=America/Los_Angeles:20261019T103000
DTSTAMP:20260420T143014
CREATED:20260110T053544Z
LAST-MODIFIED:20260110T053544Z
UID:10004703-1792400400-1792405800@orgrange.org
SUMMARY:Zumba at Maplewood Grange
DESCRIPTION:Zumba with Cristine \n9-10:30 and 6-7:30 \nMonday thru Friday \n503-914-9561
URL:https://orgrange.org/event/zumba-at-maplewood-grange/2026-10-19/
LOCATION:Maplewood Grange 662 Hall\, 25480 S Hwy 99E\, Aurora\, OR\, 97002\, United States
CATEGORIES:Community Grange Event,Sponsored community benefit event
END:VEVENT
BEGIN:VEVENT
DTSTART;TZID=America/Los_Angeles:20261020T090000
DTEND;TZID=America/Los_Angeles:20261020T103000
DTSTAMP:20260420T143014
CREATED:20260110T053544Z
LAST-MODIFIED:20260110T053544Z
UID:10004704-1792486800-1792492200@orgrange.org
SUMMARY:Zumba at Maplewood Grange
DESCRIPTION:Zumba with Cristine \n9-10:30 and 6-7:30 \nMonday thru Friday \n503-914-9561
URL:https://orgrange.org/event/zumba-at-maplewood-grange/2026-10-20/
LOCATION:Maplewood Grange 662 Hall\, 25480 S Hwy 99E\, Aurora\, OR\, 97002\, United States
CATEGORIES:Community Grange Event,Sponsored community benefit event
END:VEVENT
BEGIN:VEVENT
DTSTART;TZID=America/Los_Angeles:20261021T090000
DTEND;TZID=America/Los_Angeles:20261021T103000
DTSTAMP:20260420T143014
CREATED:20260110T053544Z
LAST-MODIFIED:20260110T053544Z
UID:10004705-1792573200-1792578600@orgrange.org
SUMMARY:Zumba at Maplewood Grange
DESCRIPTION:Zumba with Cristine \n9-10:30 and 6-7:30 \nMonday thru Friday \n503-914-9561
URL:https://orgrange.org/event/zumba-at-maplewood-grange/2026-10-21/
LOCATION:Maplewood Grange 662 Hall\, 25480 S Hwy 99E\, Aurora\, OR\, 97002\, United States
CATEGORIES:Community Grange Event,Sponsored community benefit event
END:VEVENT
BEGIN:VEVENT
DTSTART;TZID=America/Los_Angeles:20261022T090000
DTEND;TZID=America/Los_Angeles:20261022T103000
DTSTAMP:20260420T143014
CREATED:20260110T053544Z
LAST-MODIFIED:20260110T053544Z
UID:10004706-1792659600-1792665000@orgrange.org
SUMMARY:Zumba at Maplewood Grange
DESCRIPTION:Zumba with Cristine \n9-10:30 and 6-7:30 \nMonday thru Friday \n503-914-9561
URL:https://orgrange.org/event/zumba-at-maplewood-grange/2026-10-22/
LOCATION:Maplewood Grange 662 Hall\, 25480 S Hwy 99E\, Aurora\, OR\, 97002\, United States
CATEGORIES:Community Grange Event,Sponsored community benefit event
END:VEVENT
BEGIN:VEVENT
DTSTART;TZID=America/Los_Angeles:20261023T090000
DTEND;TZID=America/Los_Angeles:20261023T103000
DTSTAMP:20260420T143014
CREATED:20260110T053544Z
LAST-MODIFIED:20260110T053544Z
UID:10004707-1792746000-1792751400@orgrange.org
SUMMARY:Zumba at Maplewood Grange
DESCRIPTION:Zumba with Cristine \n9-10:30 and 6-7:30 \nMonday thru Friday \n503-914-9561
URL:https://orgrange.org/event/zumba-at-maplewood-grange/2026-10-23/
LOCATION:Maplewood Grange 662 Hall\, 25480 S Hwy 99E\, Aurora\, OR\, 97002\, United States
CATEGORIES:Community Grange Event,Sponsored community benefit event
END:VEVENT
BEGIN:VEVENT
DTSTART;TZID=America/Los_Angeles:20261026T090000
DTEND;TZID=America/Los_Angeles:20261026T103000
DTSTAMP:20260420T143014
CREATED:20260110T053544Z
LAST-MODIFIED:20260110T053544Z
UID:10004708-1793005200-1793010600@orgrange.org
SUMMARY:Zumba at Maplewood Grange
DESCRIPTION:Zumba with Cristine \n9-10:30 and 6-7:30 \nMonday thru Friday \n503-914-9561
URL:https://orgrange.org/event/zumba-at-maplewood-grange/2026-10-26/
LOCATION:Maplewood Grange 662 Hall\, 25480 S Hwy 99E\, Aurora\, OR\, 97002\, United States
CATEGORIES:Community Grange Event,Sponsored community benefit event
END:VEVENT
BEGIN:VEVENT
DTSTART;TZID=America/Los_Angeles:20261027T090000
DTEND;TZID=America/Los_Angeles:20261027T103000
DTSTAMP:20260420T143014
CREATED:20260110T053544Z
LAST-MODIFIED:20260110T053544Z
UID:10004709-1793091600-1793097000@orgrange.org
SUMMARY:Zumba at Maplewood Grange
DESCRIPTION:Zumba with Cristine \n9-10:30 and 6-7:30 \nMonday thru Friday \n503-914-9561
URL:https://orgrange.org/event/zumba-at-maplewood-grange/2026-10-27/
LOCATION:Maplewood Grange 662 Hall\, 25480 S Hwy 99E\, Aurora\, OR\, 97002\, United States
CATEGORIES:Community Grange Event,Sponsored community benefit event
END:VEVENT
BEGIN:VEVENT
DTSTART;TZID=America/Los_Angeles:20261028T090000
DTEND;TZID=America/Los_Angeles:20261028T103000
DTSTAMP:20260420T143014
CREATED:20260110T053544Z
LAST-MODIFIED:20260110T053544Z
UID:10004710-1793178000-1793183400@orgrange.org
SUMMARY:Zumba at Maplewood Grange
DESCRIPTION:Zumba with Cristine \n9-10:30 and 6-7:30 \nMonday thru Friday \n503-914-9561
URL:https://orgrange.org/event/zumba-at-maplewood-grange/2026-10-28/
LOCATION:Maplewood Grange 662 Hall\, 25480 S Hwy 99E\, Aurora\, OR\, 97002\, United States
CATEGORIES:Community Grange Event,Sponsored community benefit event
END:VEVENT
BEGIN:VEVENT
DTSTART;TZID=America/Los_Angeles:20261029T090000
DTEND;TZID=America/Los_Angeles:20261029T103000
DTSTAMP:20260420T143014
CREATED:20260110T053544Z
LAST-MODIFIED:20260110T053544Z
UID:10004711-1793264400-1793269800@orgrange.org
SUMMARY:Zumba at Maplewood Grange
DESCRIPTION:Zumba with Cristine \n9-10:30 and 6-7:30 \nMonday thru Friday \n503-914-9561
URL:https://orgrange.org/event/zumba-at-maplewood-grange/2026-10-29/
LOCATION:Maplewood Grange 662 Hall\, 25480 S Hwy 99E\, Aurora\, OR\, 97002\, United States
CATEGORIES:Community Grange Event,Sponsored community benefit event
END:VEVENT
BEGIN:VEVENT
DTSTART;TZID=America/Los_Angeles:20261030T090000
DTEND;TZID=America/Los_Angeles:20261030T103000
DTSTAMP:20260420T143014
CREATED:20260110T053544Z
LAST-MODIFIED:20260110T053544Z
UID:10004712-1793350800-1793356200@orgrange.org
SUMMARY:Zumba at Maplewood Grange
DESCRIPTION:Zumba with Cristine \n9-10:30 and 6-7:30 \nMonday thru Friday \n503-914-9561
URL:https://orgrange.org/event/zumba-at-maplewood-grange/2026-10-30/
LOCATION:Maplewood Grange 662 Hall\, 25480 S Hwy 99E\, Aurora\, OR\, 97002\, United States
CATEGORIES:Community Grange Event,Sponsored community benefit event
END:VEVENT
END:VCALENDAR