BEGIN:VCALENDAR
VERSION:2.0
PRODID:-//Oregon State Grange - ECPv6.15.17.1//NONSGML v1.0//EN
CALSCALE:GREGORIAN
METHOD:PUBLISH
X-WR-CALNAME:Oregon State Grange
X-ORIGINAL-URL:https://orgrange.org
X-WR-CALDESC:Events for Oregon State Grange
REFRESH-INTERVAL;VALUE=DURATION:PT1H
X-Robots-Tag:noindex
X-PUBLISHED-TTL:PT1H
BEGIN:VTIMEZONE
TZID:America/Los_Angeles
BEGIN:DAYLIGHT
TZOFFSETFROM:-0800
TZOFFSETTO:-0700
TZNAME:PDT
DTSTART:20240310T100000
END:DAYLIGHT
BEGIN:STANDARD
TZOFFSETFROM:-0700
TZOFFSETTO:-0800
TZNAME:PST
DTSTART:20241103T090000
END:STANDARD
BEGIN:DAYLIGHT
TZOFFSETFROM:-0800
TZOFFSETTO:-0700
TZNAME:PDT
DTSTART:20250309T100000
END:DAYLIGHT
BEGIN:STANDARD
TZOFFSETFROM:-0700
TZOFFSETTO:-0800
TZNAME:PST
DTSTART:20251102T090000
END:STANDARD
BEGIN:DAYLIGHT
TZOFFSETFROM:-0800
TZOFFSETTO:-0700
TZNAME:PDT
DTSTART:20260308T100000
END:DAYLIGHT
BEGIN:STANDARD
TZOFFSETFROM:-0700
TZOFFSETTO:-0800
TZNAME:PST
DTSTART:20261101T090000
END:STANDARD
END:VTIMEZONE
BEGIN:VEVENT
DTSTART;TZID=America/Los_Angeles:20250901T080000
DTEND;TZID=America/Los_Angeles:20250901T170000
DTSTAMP:20260420T063007
CREATED:20250801T201912Z
LAST-MODIFIED:20250818T160014Z
UID:10003343-1756713600-1756746000@orgrange.org
SUMMARY:Log Cabin at State Fair
DESCRIPTION:Log Cabin Sign up! \nThe 2025 State Fair is approaching\, and we are looking for volunteers to represent the Oregon State Grange. \nThe Sate Fair runs from August 22 Through September 1st\, and we have three shifts for each day\, each three hours in duration: from 10 am until 1pm\, 1 pm until 4pm and 4 pm until 7pm. \nVolunteers are provided a pass for free entry to the fair\, and cold beverages are provided in the cabin. You should be able to park for free in the nearby vendor lot\, but if it is full and you need to pay for parking elsewhere\, we can reimburse your parking cost. \nThis year we are having each Director and Committee sponsor a day\, so if you would like to work on behalf of a specific committee\, please contact the Director of that committee. The contact information for Directors can be found in our Roster. You can also contact the office directly. \nThis is a low key\, enjoyable opportunity to represent the Oregon State Grange\, interact with the public\, meet old Grange friends and make new ones\, and to spend some time at the Oregon State Fair.
URL:https://orgrange.org/event/log-cabin-at-state-fair/2025-09-01/
CATEGORIES:State Grange Event
END:VEVENT
END:VCALENDAR