BEGIN:VCALENDAR
VERSION:2.0
PRODID:-//Oregon State Grange - ECPv6.15.17.1//NONSGML v1.0//EN
CALSCALE:GREGORIAN
METHOD:PUBLISH
X-WR-CALNAME:Oregon State Grange
X-ORIGINAL-URL:https://orgrange.org
X-WR-CALDESC:Events for Oregon State Grange
REFRESH-INTERVAL;VALUE=DURATION:PT1H
X-Robots-Tag:noindex
X-PUBLISHED-TTL:PT1H
BEGIN:VTIMEZONE
TZID:America/Los_Angeles
BEGIN:DAYLIGHT
TZOFFSETFROM:-0800
TZOFFSETTO:-0700
TZNAME:PDT
DTSTART:20240310T100000
END:DAYLIGHT
BEGIN:STANDARD
TZOFFSETFROM:-0700
TZOFFSETTO:-0800
TZNAME:PST
DTSTART:20241103T090000
END:STANDARD
BEGIN:DAYLIGHT
TZOFFSETFROM:-0800
TZOFFSETTO:-0700
TZNAME:PDT
DTSTART:20250309T100000
END:DAYLIGHT
BEGIN:STANDARD
TZOFFSETFROM:-0700
TZOFFSETTO:-0800
TZNAME:PST
DTSTART:20251102T090000
END:STANDARD
BEGIN:DAYLIGHT
TZOFFSETFROM:-0800
TZOFFSETTO:-0700
TZNAME:PDT
DTSTART:20260308T100000
END:DAYLIGHT
BEGIN:STANDARD
TZOFFSETFROM:-0700
TZOFFSETTO:-0800
TZNAME:PST
DTSTART:20261101T090000
END:STANDARD
END:VTIMEZONE
BEGIN:VEVENT
DTSTART;TZID=America/Los_Angeles:20251010T183000
DTEND;TZID=America/Los_Angeles:20251010T213000
DTSTAMP:20260420T213900
CREATED:20251008T033920Z
LAST-MODIFIED:20251008T033920Z
UID:10004022-1760121000-1760131800@orgrange.org
SUMMARY:Haunted house at Beaver Homes Grange
DESCRIPTION:Beaver Homes Grange\n31105 Beaver Homes Rd\nRainier\nHaunted House days 4th\, 10th\, 11th\, 17th\, 18th\, 24th\, 25th\, 31st\n6:30p-9:30pm\nAll ages welcome\, we cater to children needs.\n$6 per person\, free parking\nPLEASE BRING CASH\, NO CELL SERVICE AND NOT ABLE TO USE DEBIT OR CREDIT AND NO ATM\nFood is for sale in basement\, kids games .25$\, Bingo $.50 per card. Crafts for sale \n  \n 
URL:https://orgrange.org/event/haunted-house-at-beaver-homes-grange-2/2025-10-10/
LOCATION:Beaver Homes Grange 518 Hall\, 31105 Beaver Homes Rd\, Ranier\, OR\, 97048\, United States
CATEGORIES:Community Grange Event
END:VEVENT
BEGIN:VEVENT
DTSTART;TZID=America/Los_Angeles:20251011T183000
DTEND;TZID=America/Los_Angeles:20251011T213000
DTSTAMP:20260420T213901
CREATED:20251008T033920Z
LAST-MODIFIED:20251008T033920Z
UID:10004023-1760207400-1760218200@orgrange.org
SUMMARY:Haunted house at Beaver Homes Grange
DESCRIPTION:Beaver Homes Grange\n31105 Beaver Homes Rd\nRainier\nHaunted House days 4th\, 10th\, 11th\, 17th\, 18th\, 24th\, 25th\, 31st\n6:30p-9:30pm\nAll ages welcome\, we cater to children needs.\n$6 per person\, free parking\nPLEASE BRING CASH\, NO CELL SERVICE AND NOT ABLE TO USE DEBIT OR CREDIT AND NO ATM\nFood is for sale in basement\, kids games .25$\, Bingo $.50 per card. Crafts for sale \n  \n 
URL:https://orgrange.org/event/haunted-house-at-beaver-homes-grange-2/2025-10-11/
LOCATION:Beaver Homes Grange 518 Hall\, 31105 Beaver Homes Rd\, Ranier\, OR\, 97048\, United States
CATEGORIES:Community Grange Event
END:VEVENT
BEGIN:VEVENT
DTSTART;TZID=America/Los_Angeles:20251017T183000
DTEND;TZID=America/Los_Angeles:20251017T213000
DTSTAMP:20260420T213901
CREATED:20251008T033920Z
LAST-MODIFIED:20251008T033920Z
UID:10004024-1760725800-1760736600@orgrange.org
SUMMARY:Haunted house at Beaver Homes Grange
DESCRIPTION:Beaver Homes Grange\n31105 Beaver Homes Rd\nRainier\nHaunted House days 4th\, 10th\, 11th\, 17th\, 18th\, 24th\, 25th\, 31st\n6:30p-9:30pm\nAll ages welcome\, we cater to children needs.\n$6 per person\, free parking\nPLEASE BRING CASH\, NO CELL SERVICE AND NOT ABLE TO USE DEBIT OR CREDIT AND NO ATM\nFood is for sale in basement\, kids games .25$\, Bingo $.50 per card. Crafts for sale \n  \n 
URL:https://orgrange.org/event/haunted-house-at-beaver-homes-grange-2/2025-10-17/
LOCATION:Beaver Homes Grange 518 Hall\, 31105 Beaver Homes Rd\, Ranier\, OR\, 97048\, United States
CATEGORIES:Community Grange Event
END:VEVENT
BEGIN:VEVENT
DTSTART;TZID=America/Los_Angeles:20251018T183000
DTEND;TZID=America/Los_Angeles:20251018T213000
DTSTAMP:20260420T213901
CREATED:20251008T033920Z
LAST-MODIFIED:20251008T033920Z
UID:10004025-1760812200-1760823000@orgrange.org
SUMMARY:Haunted house at Beaver Homes Grange
DESCRIPTION:Beaver Homes Grange\n31105 Beaver Homes Rd\nRainier\nHaunted House days 4th\, 10th\, 11th\, 17th\, 18th\, 24th\, 25th\, 31st\n6:30p-9:30pm\nAll ages welcome\, we cater to children needs.\n$6 per person\, free parking\nPLEASE BRING CASH\, NO CELL SERVICE AND NOT ABLE TO USE DEBIT OR CREDIT AND NO ATM\nFood is for sale in basement\, kids games .25$\, Bingo $.50 per card. Crafts for sale \n  \n 
URL:https://orgrange.org/event/haunted-house-at-beaver-homes-grange-2/2025-10-18/
LOCATION:Beaver Homes Grange 518 Hall\, 31105 Beaver Homes Rd\, Ranier\, OR\, 97048\, United States
CATEGORIES:Community Grange Event
END:VEVENT
BEGIN:VEVENT
DTSTART;TZID=America/Los_Angeles:20251024T183000
DTEND;TZID=America/Los_Angeles:20251024T213000
DTSTAMP:20260420T213901
CREATED:20251008T033920Z
LAST-MODIFIED:20251008T033920Z
UID:10004026-1761330600-1761341400@orgrange.org
SUMMARY:Haunted house at Beaver Homes Grange
DESCRIPTION:Beaver Homes Grange\n31105 Beaver Homes Rd\nRainier\nHaunted House days 4th\, 10th\, 11th\, 17th\, 18th\, 24th\, 25th\, 31st\n6:30p-9:30pm\nAll ages welcome\, we cater to children needs.\n$6 per person\, free parking\nPLEASE BRING CASH\, NO CELL SERVICE AND NOT ABLE TO USE DEBIT OR CREDIT AND NO ATM\nFood is for sale in basement\, kids games .25$\, Bingo $.50 per card. Crafts for sale \n  \n 
URL:https://orgrange.org/event/haunted-house-at-beaver-homes-grange-2/2025-10-24/
LOCATION:Beaver Homes Grange 518 Hall\, 31105 Beaver Homes Rd\, Ranier\, OR\, 97048\, United States
CATEGORIES:Community Grange Event
END:VEVENT
BEGIN:VEVENT
DTSTART;TZID=America/Los_Angeles:20251025T183000
DTEND;TZID=America/Los_Angeles:20251025T213000
DTSTAMP:20260420T213901
CREATED:20251008T033920Z
LAST-MODIFIED:20251008T033920Z
UID:10004027-1761417000-1761427800@orgrange.org
SUMMARY:Haunted house at Beaver Homes Grange
DESCRIPTION:Beaver Homes Grange\n31105 Beaver Homes Rd\nRainier\nHaunted House days 4th\, 10th\, 11th\, 17th\, 18th\, 24th\, 25th\, 31st\n6:30p-9:30pm\nAll ages welcome\, we cater to children needs.\n$6 per person\, free parking\nPLEASE BRING CASH\, NO CELL SERVICE AND NOT ABLE TO USE DEBIT OR CREDIT AND NO ATM\nFood is for sale in basement\, kids games .25$\, Bingo $.50 per card. Crafts for sale \n  \n 
URL:https://orgrange.org/event/haunted-house-at-beaver-homes-grange-2/2025-10-25/
LOCATION:Beaver Homes Grange 518 Hall\, 31105 Beaver Homes Rd\, Ranier\, OR\, 97048\, United States
CATEGORIES:Community Grange Event
END:VEVENT
BEGIN:VEVENT
DTSTART;TZID=America/Los_Angeles:20251031T183000
DTEND;TZID=America/Los_Angeles:20251031T213000
DTSTAMP:20260420T213901
CREATED:20251008T033920Z
LAST-MODIFIED:20251008T033920Z
UID:10004028-1761935400-1761946200@orgrange.org
SUMMARY:Haunted house at Beaver Homes Grange
DESCRIPTION:Beaver Homes Grange\n31105 Beaver Homes Rd\nRainier\nHaunted House days 4th\, 10th\, 11th\, 17th\, 18th\, 24th\, 25th\, 31st\n6:30p-9:30pm\nAll ages welcome\, we cater to children needs.\n$6 per person\, free parking\nPLEASE BRING CASH\, NO CELL SERVICE AND NOT ABLE TO USE DEBIT OR CREDIT AND NO ATM\nFood is for sale in basement\, kids games .25$\, Bingo $.50 per card. Crafts for sale \n  \n 
URL:https://orgrange.org/event/haunted-house-at-beaver-homes-grange-2/2025-10-31/
LOCATION:Beaver Homes Grange 518 Hall\, 31105 Beaver Homes Rd\, Ranier\, OR\, 97048\, United States
CATEGORIES:Community Grange Event
END:VEVENT
END:VCALENDAR