BEGIN:VCALENDAR
VERSION:2.0
PRODID:-//Oregon State Grange - ECPv6.15.17.1//NONSGML v1.0//EN
CALSCALE:GREGORIAN
METHOD:PUBLISH
X-ORIGINAL-URL:https://orgrange.org
X-WR-CALDESC:Events for Oregon State Grange
REFRESH-INTERVAL;VALUE=DURATION:PT1H
X-Robots-Tag:noindex
X-PUBLISHED-TTL:PT1H
BEGIN:VTIMEZONE
TZID:America/Los_Angeles
BEGIN:DAYLIGHT
TZOFFSETFROM:-0800
TZOFFSETTO:-0700
TZNAME:PDT
DTSTART:20250309T100000
END:DAYLIGHT
BEGIN:STANDARD
TZOFFSETFROM:-0700
TZOFFSETTO:-0800
TZNAME:PST
DTSTART:20251102T090000
END:STANDARD
BEGIN:DAYLIGHT
TZOFFSETFROM:-0800
TZOFFSETTO:-0700
TZNAME:PDT
DTSTART:20260308T100000
END:DAYLIGHT
BEGIN:STANDARD
TZOFFSETFROM:-0700
TZOFFSETTO:-0800
TZNAME:PST
DTSTART:20261101T090000
END:STANDARD
BEGIN:DAYLIGHT
TZOFFSETFROM:-0800
TZOFFSETTO:-0700
TZNAME:PDT
DTSTART:20270314T100000
END:DAYLIGHT
BEGIN:STANDARD
TZOFFSETFROM:-0700
TZOFFSETTO:-0800
TZNAME:PST
DTSTART:20271107T090000
END:STANDARD
END:VTIMEZONE
BEGIN:VEVENT
DTSTART;TZID=America/Los_Angeles:20260902T123000
DTEND;TZID=America/Los_Angeles:20260902T140000
DTSTAMP:20260423T143614
CREATED:20260408T041424Z
LAST-MODIFIED:20260408T041424Z
UID:10005242-1788352200-1788357600@orgrange.org
SUMMARY:Food Pantry (free) at Williams Grange
DESCRIPTION:
URL:https://orgrange.org/event/food-pantry-free-at-williams-grange/2026-09-02/
LOCATION:Williams Grange 399 Hall\, 20100 Williams Hwy\, Williams\, OR\, United States
CATEGORIES:Community Grange Event,Sponsored community benefit event
END:VEVENT
BEGIN:VEVENT
DTSTART;TZID=America/Los_Angeles:20260909T123000
DTEND;TZID=America/Los_Angeles:20260909T140000
DTSTAMP:20260423T143614
CREATED:20260408T041424Z
LAST-MODIFIED:20260408T041424Z
UID:10005243-1788957000-1788962400@orgrange.org
SUMMARY:Food Pantry (free) at Williams Grange
DESCRIPTION:
URL:https://orgrange.org/event/food-pantry-free-at-williams-grange/2026-09-09/
LOCATION:Williams Grange 399 Hall\, 20100 Williams Hwy\, Williams\, OR\, United States
CATEGORIES:Community Grange Event,Sponsored community benefit event
END:VEVENT
BEGIN:VEVENT
DTSTART;TZID=America/Los_Angeles:20260916T123000
DTEND;TZID=America/Los_Angeles:20260916T140000
DTSTAMP:20260423T143614
CREATED:20260408T041424Z
LAST-MODIFIED:20260408T041424Z
UID:10005244-1789561800-1789567200@orgrange.org
SUMMARY:Food Pantry (free) at Williams Grange
DESCRIPTION:
URL:https://orgrange.org/event/food-pantry-free-at-williams-grange/2026-09-16/
LOCATION:Williams Grange 399 Hall\, 20100 Williams Hwy\, Williams\, OR\, United States
CATEGORIES:Community Grange Event,Sponsored community benefit event
END:VEVENT
BEGIN:VEVENT
DTSTART;TZID=America/Los_Angeles:20260923T123000
DTEND;TZID=America/Los_Angeles:20260923T140000
DTSTAMP:20260423T143614
CREATED:20260408T041424Z
LAST-MODIFIED:20260408T041424Z
UID:10005245-1790166600-1790172000@orgrange.org
SUMMARY:Food Pantry (free) at Williams Grange
DESCRIPTION:
URL:https://orgrange.org/event/food-pantry-free-at-williams-grange/2026-09-23/
LOCATION:Williams Grange 399 Hall\, 20100 Williams Hwy\, Williams\, OR\, United States
CATEGORIES:Community Grange Event,Sponsored community benefit event
END:VEVENT
BEGIN:VEVENT
DTSTART;TZID=America/Los_Angeles:20260930T123000
DTEND;TZID=America/Los_Angeles:20260930T140000
DTSTAMP:20260423T143614
CREATED:20260408T041424Z
LAST-MODIFIED:20260408T041424Z
UID:10005246-1790771400-1790776800@orgrange.org
SUMMARY:Food Pantry (free) at Williams Grange
DESCRIPTION:
URL:https://orgrange.org/event/food-pantry-free-at-williams-grange/2026-09-30/
LOCATION:Williams Grange 399 Hall\, 20100 Williams Hwy\, Williams\, OR\, United States
CATEGORIES:Community Grange Event,Sponsored community benefit event
END:VEVENT
END:VCALENDAR