BEGIN:VCALENDAR
VERSION:2.0
PRODID:-//Oregon State Grange - ECPv6.15.17.1//NONSGML v1.0//EN
CALSCALE:GREGORIAN
METHOD:PUBLISH
X-WR-CALNAME:Oregon State Grange
X-ORIGINAL-URL:https://orgrange.org
X-WR-CALDESC:Events for Oregon State Grange
REFRESH-INTERVAL;VALUE=DURATION:PT1H
X-Robots-Tag:noindex
X-PUBLISHED-TTL:PT1H
BEGIN:VTIMEZONE
TZID:America/Los_Angeles
BEGIN:DAYLIGHT
TZOFFSETFROM:-0800
TZOFFSETTO:-0700
TZNAME:PDT
DTSTART:20240310T100000
END:DAYLIGHT
BEGIN:STANDARD
TZOFFSETFROM:-0700
TZOFFSETTO:-0800
TZNAME:PST
DTSTART:20241103T090000
END:STANDARD
BEGIN:DAYLIGHT
TZOFFSETFROM:-0800
TZOFFSETTO:-0700
TZNAME:PDT
DTSTART:20250309T100000
END:DAYLIGHT
BEGIN:STANDARD
TZOFFSETFROM:-0700
TZOFFSETTO:-0800
TZNAME:PST
DTSTART:20251102T090000
END:STANDARD
BEGIN:DAYLIGHT
TZOFFSETFROM:-0800
TZOFFSETTO:-0700
TZNAME:PDT
DTSTART:20260308T100000
END:DAYLIGHT
BEGIN:STANDARD
TZOFFSETFROM:-0700
TZOFFSETTO:-0800
TZNAME:PST
DTSTART:20261101T090000
END:STANDARD
END:VTIMEZONE
BEGIN:VEVENT
DTSTART;TZID=America/Los_Angeles:20251114T180000
DTEND;TZID=America/Los_Angeles:20251114T203000
DTSTAMP:20260423T090136
CREATED:20250705T171123Z
LAST-MODIFIED:20250705T171123Z
UID:10002924-1763143200-1763152200@orgrange.org
SUMMARY:Bingo Nights at Mary's River Grange
DESCRIPTION:
URL:https://orgrange.org/event/bingo-nights-at-marys-river-grange/2025-11-14/
LOCATION:Marys River Grange 685 Hall\, 24707 Grange Hall Rd\, Philomath\, OR\, 97370\, United States
CATEGORIES:Community Grange Event
END:VEVENT
BEGIN:VEVENT
DTSTART;TZID=America/Los_Angeles:20251116T120000
DTEND;TZID=America/Los_Angeles:20251116T160000
DTSTAMP:20260423T090136
CREATED:20251101T142200Z
LAST-MODIFIED:20251101T142200Z
UID:10004097-1763294400-1763308800@orgrange.org
SUMMARY:Holiday Dinner at Harding Grange
DESCRIPTION:
URL:https://orgrange.org/event/holiday-dinner-at-harding-grange-2/
LOCATION:Harding Grange 122 Hall\, 21552 S Fischers Mill Rd\, Estacada\, OR\, 97023\, United States
CATEGORIES:Community Grange Event
END:VEVENT
END:VCALENDAR