BEGIN:VCALENDAR
VERSION:2.0
PRODID:-//Oregon State Grange - ECPv6.15.17.1//NONSGML v1.0//EN
CALSCALE:GREGORIAN
METHOD:PUBLISH
X-WR-CALNAME:Oregon State Grange
X-ORIGINAL-URL:https://orgrange.org
X-WR-CALDESC:Events for Oregon State Grange
REFRESH-INTERVAL;VALUE=DURATION:PT1H
X-Robots-Tag:noindex
X-PUBLISHED-TTL:PT1H
BEGIN:VTIMEZONE
TZID:America/Los_Angeles
BEGIN:DAYLIGHT
TZOFFSETFROM:-0800
TZOFFSETTO:-0700
TZNAME:PDT
DTSTART:20250309T100000
END:DAYLIGHT
BEGIN:STANDARD
TZOFFSETFROM:-0700
TZOFFSETTO:-0800
TZNAME:PST
DTSTART:20251102T090000
END:STANDARD
BEGIN:DAYLIGHT
TZOFFSETFROM:-0800
TZOFFSETTO:-0700
TZNAME:PDT
DTSTART:20260308T100000
END:DAYLIGHT
BEGIN:STANDARD
TZOFFSETFROM:-0700
TZOFFSETTO:-0800
TZNAME:PST
DTSTART:20261101T090000
END:STANDARD
BEGIN:DAYLIGHT
TZOFFSETFROM:-0800
TZOFFSETTO:-0700
TZNAME:PDT
DTSTART:20270314T100000
END:DAYLIGHT
BEGIN:STANDARD
TZOFFSETFROM:-0700
TZOFFSETTO:-0800
TZNAME:PST
DTSTART:20271107T090000
END:STANDARD
END:VTIMEZONE
BEGIN:VEVENT
DTSTART;TZID=America/Los_Angeles:20260501T193000
DTEND;TZID=America/Los_Angeles:20260501T223000
DTSTAMP:20260420T071742
CREATED:20260227T155236Z
LAST-MODIFIED:20260227T155236Z
UID:10005013-1777663800-1777674600@orgrange.org
SUMMARY:Dance at McMinnville Grange
DESCRIPTION:
URL:https://orgrange.org/event/dance-at-mcminnville-grange/2026-05-01/
LOCATION:McMinnville Grange 31\, 1700 Old Sheridan Rd\, McMinnville\, OR\, 97128\, United States
CATEGORIES:Community Grange Event
END:VEVENT
BEGIN:VEVENT
DTSTART;TZID=America/Los_Angeles:20260503T130000
DTEND;TZID=America/Los_Angeles:20260503T160000
DTSTAMP:20260420T071742
CREATED:20260227T155828Z
LAST-MODIFIED:20260227T155828Z
UID:10005109-1777813200-1777824000@orgrange.org
SUMMARY:Dance at McMinnville Grange
DESCRIPTION:
URL:https://orgrange.org/event/dance-at-mcminnville-grange-2/2026-05-03/
LOCATION:McMinnville Grange 31\, 1700 Old Sheridan Rd\, McMinnville\, OR\, 97128\, United States
CATEGORIES:Community Grange Event
END:VEVENT
BEGIN:VEVENT
DTSTART;TZID=America/Los_Angeles:20260508T193000
DTEND;TZID=America/Los_Angeles:20260508T223000
DTSTAMP:20260420T071742
CREATED:20260227T155236Z
LAST-MODIFIED:20260227T155236Z
UID:10005014-1778268600-1778279400@orgrange.org
SUMMARY:Dance at McMinnville Grange
DESCRIPTION:
URL:https://orgrange.org/event/dance-at-mcminnville-grange/2026-05-08/
LOCATION:McMinnville Grange 31\, 1700 Old Sheridan Rd\, McMinnville\, OR\, 97128\, United States
CATEGORIES:Community Grange Event
END:VEVENT
BEGIN:VEVENT
DTSTART;TZID=America/Los_Angeles:20260510T130000
DTEND;TZID=America/Los_Angeles:20260510T160000
DTSTAMP:20260420T071742
CREATED:20260227T155828Z
LAST-MODIFIED:20260227T155828Z
UID:10005110-1778418000-1778428800@orgrange.org
SUMMARY:Dance at McMinnville Grange
DESCRIPTION:
URL:https://orgrange.org/event/dance-at-mcminnville-grange-2/2026-05-10/
LOCATION:McMinnville Grange 31\, 1700 Old Sheridan Rd\, McMinnville\, OR\, 97128\, United States
CATEGORIES:Community Grange Event
END:VEVENT
BEGIN:VEVENT
DTSTART;TZID=America/Los_Angeles:20260515T193000
DTEND;TZID=America/Los_Angeles:20260515T223000
DTSTAMP:20260420T071742
CREATED:20260227T155236Z
LAST-MODIFIED:20260227T155236Z
UID:10005015-1778873400-1778884200@orgrange.org
SUMMARY:Dance at McMinnville Grange
DESCRIPTION:
URL:https://orgrange.org/event/dance-at-mcminnville-grange/2026-05-15/
LOCATION:McMinnville Grange 31\, 1700 Old Sheridan Rd\, McMinnville\, OR\, 97128\, United States
CATEGORIES:Community Grange Event
END:VEVENT
BEGIN:VEVENT
DTSTART;TZID=America/Los_Angeles:20260517T130000
DTEND;TZID=America/Los_Angeles:20260517T160000
DTSTAMP:20260420T071742
CREATED:20260227T155828Z
LAST-MODIFIED:20260227T155828Z
UID:10005111-1779022800-1779033600@orgrange.org
SUMMARY:Dance at McMinnville Grange
DESCRIPTION:
URL:https://orgrange.org/event/dance-at-mcminnville-grange-2/2026-05-17/
LOCATION:McMinnville Grange 31\, 1700 Old Sheridan Rd\, McMinnville\, OR\, 97128\, United States
CATEGORIES:Community Grange Event
END:VEVENT
BEGIN:VEVENT
DTSTART;TZID=America/Los_Angeles:20260522T193000
DTEND;TZID=America/Los_Angeles:20260522T223000
DTSTAMP:20260420T071742
CREATED:20260227T155236Z
LAST-MODIFIED:20260227T155236Z
UID:10005016-1779478200-1779489000@orgrange.org
SUMMARY:Dance at McMinnville Grange
DESCRIPTION:
URL:https://orgrange.org/event/dance-at-mcminnville-grange/2026-05-22/
LOCATION:McMinnville Grange 31\, 1700 Old Sheridan Rd\, McMinnville\, OR\, 97128\, United States
CATEGORIES:Community Grange Event
END:VEVENT
BEGIN:VEVENT
DTSTART;TZID=America/Los_Angeles:20260524T130000
DTEND;TZID=America/Los_Angeles:20260524T160000
DTSTAMP:20260420T071742
CREATED:20260227T155828Z
LAST-MODIFIED:20260227T155828Z
UID:10005112-1779627600-1779638400@orgrange.org
SUMMARY:Dance at McMinnville Grange
DESCRIPTION:
URL:https://orgrange.org/event/dance-at-mcminnville-grange-2/2026-05-24/
LOCATION:McMinnville Grange 31\, 1700 Old Sheridan Rd\, McMinnville\, OR\, 97128\, United States
CATEGORIES:Community Grange Event
END:VEVENT
BEGIN:VEVENT
DTSTART;TZID=America/Los_Angeles:20260529T193000
DTEND;TZID=America/Los_Angeles:20260529T223000
DTSTAMP:20260420T071742
CREATED:20260227T155236Z
LAST-MODIFIED:20260227T155236Z
UID:10005017-1780083000-1780093800@orgrange.org
SUMMARY:Dance at McMinnville Grange
DESCRIPTION:
URL:https://orgrange.org/event/dance-at-mcminnville-grange/2026-05-29/
LOCATION:McMinnville Grange 31\, 1700 Old Sheridan Rd\, McMinnville\, OR\, 97128\, United States
CATEGORIES:Community Grange Event
END:VEVENT
BEGIN:VEVENT
DTSTART;TZID=America/Los_Angeles:20260531T130000
DTEND;TZID=America/Los_Angeles:20260531T160000
DTSTAMP:20260420T071742
CREATED:20260227T155828Z
LAST-MODIFIED:20260227T155828Z
UID:10005113-1780232400-1780243200@orgrange.org
SUMMARY:Dance at McMinnville Grange
DESCRIPTION:
URL:https://orgrange.org/event/dance-at-mcminnville-grange-2/2026-05-31/
LOCATION:McMinnville Grange 31\, 1700 Old Sheridan Rd\, McMinnville\, OR\, 97128\, United States
CATEGORIES:Community Grange Event
END:VEVENT
END:VCALENDAR