BEGIN:VCALENDAR
VERSION:2.0
PRODID:-//Oregon State Grange - ECPv6.15.17.1//NONSGML v1.0//EN
CALSCALE:GREGORIAN
METHOD:PUBLISH
X-ORIGINAL-URL:https://orgrange.org
X-WR-CALDESC:Events for Oregon State Grange
REFRESH-INTERVAL;VALUE=DURATION:PT1H
X-Robots-Tag:noindex
X-PUBLISHED-TTL:PT1H
BEGIN:VTIMEZONE
TZID:America/Los_Angeles
BEGIN:DAYLIGHT
TZOFFSETFROM:-0800
TZOFFSETTO:-0700
TZNAME:PDT
DTSTART:20240310T100000
END:DAYLIGHT
BEGIN:STANDARD
TZOFFSETFROM:-0700
TZOFFSETTO:-0800
TZNAME:PST
DTSTART:20241103T090000
END:STANDARD
BEGIN:DAYLIGHT
TZOFFSETFROM:-0800
TZOFFSETTO:-0700
TZNAME:PDT
DTSTART:20250309T100000
END:DAYLIGHT
BEGIN:STANDARD
TZOFFSETFROM:-0700
TZOFFSETTO:-0800
TZNAME:PST
DTSTART:20251102T090000
END:STANDARD
BEGIN:DAYLIGHT
TZOFFSETFROM:-0800
TZOFFSETTO:-0700
TZNAME:PDT
DTSTART:20260308T100000
END:DAYLIGHT
BEGIN:STANDARD
TZOFFSETFROM:-0700
TZOFFSETTO:-0800
TZNAME:PST
DTSTART:20261101T090000
END:STANDARD
END:VTIMEZONE
BEGIN:VEVENT
DTSTART;TZID=America/Los_Angeles:20250315T170000
DTEND;TZID=America/Los_Angeles:20250315T200000
DTSTAMP:20260420T071900
CREATED:20250131T170842Z
LAST-MODIFIED:20250131T170842Z
UID:10002033-1742058000-1742068800@orgrange.org
SUMMARY:Community game night at Springwater Grange
DESCRIPTION:
URL:https://orgrange.org/event/community-game-night-at-springwater-grange/
LOCATION:Springwater Grange 263 Hall\, 24591 S Springwater Rd\, Estacada\, OR\, 97023\, United States
CATEGORIES:Community Grange Event
END:VEVENT
BEGIN:VEVENT
DTSTART;TZID=America/Los_Angeles:20250315T170000
DTEND;TZID=America/Los_Angeles:20250315T200000
DTSTAMP:20260420T071900
CREATED:20250228T051922Z
LAST-MODIFIED:20250228T051922Z
UID:10002397-1742058000-1742068800@orgrange.org
SUMMARY:Family Fun Game Night at Springwater Grange
DESCRIPTION:
URL:https://orgrange.org/event/family-fun-game-night-at-springwater-grange/
LOCATION:Springwater Grange 263 Hall\, 24591 S Springwater Rd\, Estacada\, OR\, 97023\, United States
CATEGORIES:Community Grange Event
END:VEVENT
BEGIN:VEVENT
DTSTART;TZID=America/Los_Angeles:20250315T173000
DTEND;TZID=America/Los_Angeles:20250315T203000
DTSTAMP:20260420T071900
CREATED:20250222T003244Z
LAST-MODIFIED:20250222T003244Z
UID:10002385-1742059800-1742070600@orgrange.org
SUMMARY:St. Patrick's Day Dinner and Auction
DESCRIPTION:
URL:https://orgrange.org/event/st-patricks-day-dinner-and-auction/
LOCATION:Pleasant Valley Grange 348\, 17115 SE Foster Rd\, Gresham\, OR\, 97080\, United States
CATEGORIES:Community Grange Event
END:VEVENT
BEGIN:VEVENT
DTSTART;TZID=America/Los_Angeles:20250316T160000
DTEND;TZID=America/Los_Angeles:20250316T180000
DTSTAMP:20260420T071900
CREATED:20250310T150153Z
LAST-MODIFIED:20250310T150153Z
UID:10002404-1742140800-1742148000@orgrange.org
SUMMARY:Corned beef (or chicken) dinner at Beavercreek Grange
DESCRIPTION:A dinner in honor of St. Patrick and all the Irish and Irish at heart!  Classic corned beef and cabbage with all the trimmings and a chicken alternative for those that can’t do the beef.
URL:https://orgrange.org/event/corned-beef-or-chicken-dinner-at-beavercreek-grange/
LOCATION:Beavercreek Grange 276 Hall\, 22041 S Kamrath Rd\, Oregon City\, OR\, 97045\, United States
CATEGORIES:Community Grange Event
END:VEVENT
BEGIN:VEVENT
DTSTART;TZID=America/Los_Angeles:20250319T100000
DTEND;TZID=America/Los_Angeles:20250319T150000
DTSTAMP:20260420T071900
CREATED:20250320T033036Z
LAST-MODIFIED:20250320T033036Z
UID:10002415-1742378400-1742396400@orgrange.org
SUMMARY:Spring Craft and Vintage Sale at Creswell Grange
DESCRIPTION:
URL:https://orgrange.org/event/spring-craft-and-vintage-sale-at-creswell-grange/2025-03-19/
LOCATION:Creswell Grange 496\, 274 W Oregon Ave\, Creswell\, OR\, 97426\, United States
CATEGORIES:Community Grange Event
END:VEVENT
BEGIN:VEVENT
DTSTART;TZID=America/Los_Angeles:20250322T130000
DTEND;TZID=America/Los_Angeles:20250322T160000
DTSTAMP:20260420T071900
CREATED:20250320T032009Z
LAST-MODIFIED:20250320T032009Z
UID:10002412-1742648400-1742659200@orgrange.org
SUMMARY:Seed Swap at Lorane Grange
DESCRIPTION:
URL:https://orgrange.org/event/seed-swap-at-lorane-grange/
LOCATION:Lorane Grange 54\, 80356 Old Lorane Hwy\, Lorane\, OR\, 97451\, United States
CATEGORIES:Community Grange Event
END:VEVENT
BEGIN:VEVENT
DTSTART;TZID=America/Los_Angeles:20250329T090000
DTEND;TZID=America/Los_Angeles:20250329T160000
DTSTAMP:20260420T071900
CREATED:20250207T063155Z
LAST-MODIFIED:20250207T063155Z
UID:10002351-1743238800-1743264000@orgrange.org
SUMMARY:Health\, Wellness and Education Fair at Fruitdale
DESCRIPTION:
URL:https://orgrange.org/event/health-wellness-and-education-fair-at-fruitdale/
LOCATION:OR
CATEGORIES:Community Grange Event
END:VEVENT
BEGIN:VEVENT
DTSTART;TZID=America/Los_Angeles:20250330T150000
DTEND;TZID=America/Los_Angeles:20250330T180000
DTSTAMP:20260420T071900
CREATED:20250310T151832Z
LAST-MODIFIED:20250310T151832Z
UID:10002407-1743346800-1743357600@orgrange.org
SUMMARY:Homemade Soup Supper at Molalla Grange
DESCRIPTION:
URL:https://orgrange.org/event/homemade-soup-supper-at-molalla-grange/
LOCATION:Molalla Grange 310 Hall\, 127 Grange Ave\, Molalla\, OR\, 97038\, United States
CATEGORIES:Community Grange Event
END:VEVENT
BEGIN:VEVENT
DTSTART;TZID=America/Los_Angeles:20250330T150000
DTEND;TZID=America/Los_Angeles:20250330T180000
DTSTAMP:20260420T071900
CREATED:20250320T032441Z
LAST-MODIFIED:20250320T032441Z
UID:10002413-1743346800-1743357600@orgrange.org
SUMMARY:"Soup is on" supper at Molalla Grange
DESCRIPTION:
URL:https://orgrange.org/event/soup-is-on-supper-at-molalla-grange/
LOCATION:Molalla Grange 310 Hall\, 127 Grange Ave\, Molalla\, OR\, 97038\, United States
CATEGORIES:Community Grange Event
END:VEVENT
BEGIN:VEVENT
DTSTART;TZID=America/Los_Angeles:20250404T090000
DTEND;TZID=America/Los_Angeles:20250405T170000
DTSTAMP:20260420T071900
CREATED:20250228T052806Z
LAST-MODIFIED:20250228T052806Z
UID:10002401-1743757200-1743872400@orgrange.org
SUMMARY:Tree and Plant Sale at Skyline Grange
DESCRIPTION:
URL:https://orgrange.org/event/tree-and-plant-sale-at-skyline-grange/
LOCATION:Skyline Grange 894 Hall\, 11275 NW Skyline Blvd\, Portland\, OR\, 97231\, United States
CATEGORIES:Community Grange Event
END:VEVENT
BEGIN:VEVENT
DTSTART;TZID=America/Los_Angeles:20250405T080000
DTEND;TZID=America/Los_Angeles:20250405T170000
DTSTAMP:20260420T071900
CREATED:20241223T055453Z
LAST-MODIFIED:20241223T055453Z
UID:10001991-1743840000-1743872400@orgrange.org
SUMMARY:Willamette Valley Big Band Concert at Warner Grange
DESCRIPTION:
URL:https://orgrange.org/event/willamette-valley-big-band-concert-at-warner-grange/
LOCATION:Warner Grange 117 Hall\, 10100 S New Era Rd\, Canby\, OR\, 97013\, United States
CATEGORIES:Community Grange Event
END:VEVENT
BEGIN:VEVENT
DTSTART;TZID=America/Los_Angeles:20250405T090000
DTEND;TZID=America/Los_Angeles:20250405T160000
DTSTAMP:20260420T071900
CREATED:20250320T033641Z
LAST-MODIFIED:20250320T033641Z
UID:10002418-1743843600-1743868800@orgrange.org
SUMMARY:Anything Goes Sale at Boring Damascus Grange
DESCRIPTION:
URL:https://orgrange.org/event/anything-goes-sale-at-boring-damascus-grange/2025-04-05/
LOCATION:Boring-Damascus Grange 260 Hall\, 27861 SE grange St.\, Boring\, OR\, 97009\, United States
CATEGORIES:Community Grange Event
END:VEVENT
BEGIN:VEVENT
DTSTART;TZID=America/Los_Angeles:20250405T100000
DTEND;TZID=America/Los_Angeles:20250405T150000
DTSTAMP:20260420T071900
CREATED:20250320T031504Z
LAST-MODIFIED:20250320T031504Z
UID:10002410-1743847200-1743865200@orgrange.org
SUMMARY:Spring Fling Bazaar at Silverton Grange
DESCRIPTION:Spring
URL:https://orgrange.org/event/spring-fling-bazaar-at-silverton-grange/
LOCATION:Silverton Grange 748\, 201 NE Division\, Silverton\, OR\, 97381\, United States
CATEGORIES:Community Grange Event
END:VEVENT
BEGIN:VEVENT
DTSTART;TZID=America/Los_Angeles:20250406T150000
DTEND;TZID=America/Los_Angeles:20250406T163000
DTSTAMP:20260420T071900
CREATED:20250320T032727Z
LAST-MODIFIED:20250320T032727Z
UID:10002414-1743951600-1743957000@orgrange.org
SUMMARY:Talent Show at Lorane Grange
DESCRIPTION:
URL:https://orgrange.org/event/talent-show-at-lorane-grange/
LOCATION:Lorane Grange 54\, 80356 Old Lorane Hwy\, Lorane\, OR\, 97451\, United States
CATEGORIES:Community Grange Event
END:VEVENT
BEGIN:VEVENT
DTSTART;TZID=America/Los_Angeles:20250409T070000
DTEND;TZID=America/Los_Angeles:20250412T110000
DTSTAMP:20260420T071900
CREATED:20250409T155345Z
LAST-MODIFIED:20250409T155345Z
UID:10002432-1744182000-1744455600@orgrange.org
SUMMARY:Easter Breakfast with Easter Bunny at Hurricane Creek Grange
DESCRIPTION:
URL:https://orgrange.org/event/easter-breakfast-with-easter-bunny-at-hurricane-creek-grange/
LOCATION:Hurricane Creek Grange 608 Hall\, 82930 Airport Lane\, Joseph\, OR\, 97846\, United States
CATEGORIES:Community Grange Event
END:VEVENT
BEGIN:VEVENT
DTSTART;VALUE=DATE:20250412
DTEND;VALUE=DATE:20250413
DTSTAMP:20260420T071901
CREATED:20250409T152526Z
LAST-MODIFIED:20250409T152526Z
UID:10002425-1744416000-1744502399@orgrange.org
SUMMARY:Spring Garden Festival at White Clover Grange
DESCRIPTION:
URL:https://orgrange.org/event/spring-garden-festival-at-white-clover-grange/
LOCATION:White Clover Grange 784 Hall\, 36585 Hwy 53\, Nehalem\, OR\, 97131\, United States
CATEGORIES:Community Grange Event
END:VEVENT
BEGIN:VEVENT
DTSTART;TZID=America/Los_Angeles:20250412T130000
DTEND;TZID=America/Los_Angeles:20250412T150000
DTSTAMP:20260420T071901
CREATED:20250222T005604Z
LAST-MODIFIED:20250222T005604Z
UID:10002390-1744462800-1744470000@orgrange.org
SUMMARY:Cookie and Recipe Exchange and Baking at Maplewood
DESCRIPTION:
URL:https://orgrange.org/event/cookie-and-recipe-exchange-and-baking-at-maplewood/
LOCATION:Maplewood Grange 662 Hall\, 25480 S Hwy 99E\, Aurora\, OR\, 97002\, United States
CATEGORIES:Community Grange Event
END:VEVENT
BEGIN:VEVENT
DTSTART;TZID=America/Los_Angeles:20250412T160000
DTEND;TZID=America/Los_Angeles:20250412T190000
DTSTAMP:20260420T071901
CREATED:20250409T153253Z
LAST-MODIFIED:20250409T153253Z
UID:10002427-1744473600-1744484400@orgrange.org
SUMMARY:Spaghetti Dinner Benefit at Springwater Grange
DESCRIPTION:
URL:https://orgrange.org/event/spaghetti-dinner-benefit-at-springwater-grange/
LOCATION:Springwater Grange 263 Hall\, 24591 S Springwater Rd\, Estacada\, OR\, 97023\, United States
CATEGORIES:Community Grange Event
END:VEVENT
BEGIN:VEVENT
DTSTART;TZID=America/Los_Angeles:20250413T120000
DTEND;TZID=America/Los_Angeles:20250413T150000
DTSTAMP:20260420T071901
CREATED:20250409T154107Z
LAST-MODIFIED:20250409T154107Z
UID:10002429-1744545600-1744556400@orgrange.org
SUMMARY:49th annual Chicken Dinner at Quincy Grange
DESCRIPTION:
URL:https://orgrange.org/event/49th-annual-chicken-dinner-at-quincy-grange/
LOCATION:OR
CATEGORIES:Community Grange Event
END:VEVENT
BEGIN:VEVENT
DTSTART;TZID=America/Los_Angeles:20250413T140000
DTEND;TZID=America/Los_Angeles:20250413T153000
DTSTAMP:20260420T071901
CREATED:20250409T152245Z
LAST-MODIFIED:20250409T152245Z
UID:10002424-1744552800-1744558200@orgrange.org
SUMMARY:Garden Party at Wickiup Grange
DESCRIPTION:
URL:https://orgrange.org/event/garden-party-at-wickiup-grange/
LOCATION:Wickiup Grange 722 Hall\, 92683 Svensen Market Rd\, Astoria\, OR\, 97103\, United States
CATEGORIES:Community Grange Event
END:VEVENT
BEGIN:VEVENT
DTSTART;TZID=America/Los_Angeles:20250418T100000
DTEND;TZID=America/Los_Angeles:20250418T140000
DTSTAMP:20260420T071901
CREATED:20250119T055618Z
LAST-MODIFIED:20250119T055618Z
UID:10002007-1744970400-1744984800@orgrange.org
SUMMARY:Washington Yamhill Pomona Meeting
DESCRIPTION:Meeting at 10 AM\, Lunch by host grange is $5.
URL:https://orgrange.org/event/washington-yamhill-pomona-meeting-2/
LOCATION:Tigard Grange 148\, 13770 SW Pacific Highway\, Tigard\, OR\, 97223\, United States
CATEGORIES:Pomona Grange Event
END:VEVENT
BEGIN:VEVENT
DTSTART;TZID=America/Los_Angeles:20250418T183000
DTEND;TZID=America/Los_Angeles:20250418T200000
DTSTAMP:20260420T071901
CREATED:20250409T153618Z
LAST-MODIFIED:20250409T153618Z
UID:10002428-1745001000-1745006400@orgrange.org
SUMMARY:April Birthz Partyz Celebration at Row River
DESCRIPTION:
URL:https://orgrange.org/event/april-birthz-partyz-celebration-at-row-river/
LOCATION:Row River 835\, 34360 Row River Rd\, Cottage Grove\, OR\, 97424\, United States
CATEGORIES:Community Grange Event
END:VEVENT
BEGIN:VEVENT
DTSTART;TZID=America/Los_Angeles:20250419T100000
DTEND;TZID=America/Los_Angeles:20250419T163000
DTSTAMP:20260420T071901
CREATED:20250207T060907Z
LAST-MODIFIED:20250207T060907Z
UID:10002048-1745056800-1745080200@orgrange.org
SUMMARY:Easter egg hunt and bazaar at Sandy Grange
DESCRIPTION:
URL:https://orgrange.org/event/easter-egg-hunt-and-bazaar-at-sandy-grange/2025-04-19/
LOCATION:The Sandy 392 Grange Hall\, 34705 SE Kelso Rd\, Sandy\, OR\, 97055\, United States
CATEGORIES:Community Grange Event
END:VEVENT
BEGIN:VEVENT
DTSTART;TZID=America/Los_Angeles:20250419T110000
DTEND;TZID=America/Los_Angeles:20250419T113000
DTSTAMP:20260420T071901
CREATED:20250106T160748Z
LAST-MODIFIED:20250106T160748Z
UID:10001996-1745060400-1745062200@orgrange.org
SUMMARY:Easter Eggs at Alsea Hope Grange!
DESCRIPTION:Easter Egg Hunt and Quilt Raffle – 11am – April 19th\, 2025 – Hope Grange #269\, 27373 Alsea Deadwood Hwy\, Alsea\, OR\, 97324 – Hope Grange\, alseahopegrange@gmail.com – Community
URL:https://orgrange.org/event/easter-eggs-at-alsea-hope-grange/
LOCATION:Hope Grange 269 Hall\, 27373 Alsea Deadwood Hwy\, Alsea\, OR\, 97324\, United States
CATEGORIES:Community Grange Event
END:VEVENT
BEGIN:VEVENT
DTSTART;TZID=America/Los_Angeles:20250419T110000
DTEND;TZID=America/Los_Angeles:20250419T120000
DTSTAMP:20260420T071901
CREATED:20250409T155756Z
LAST-MODIFIED:20250409T155756Z
UID:10002433-1745060400-1745064000@orgrange.org
SUMMARY:Easter Egg Hunt at Alsea Hope Grange
DESCRIPTION:
URL:https://orgrange.org/event/easter-egg-hunt-at-alsea-hope-grange/
LOCATION:Hope Grange 269 Hall\, 27373 Alsea Deadwood Hwy\, Alsea\, OR\, 97324\, United States
CATEGORIES:Community Grange Event
END:VEVENT
BEGIN:VEVENT
DTSTART;TZID=America/Los_Angeles:20250419T110000
DTEND;TZID=America/Los_Angeles:20250419T120000
DTSTAMP:20260420T071901
CREATED:20250409T160038Z
LAST-MODIFIED:20250409T160038Z
UID:10002434-1745060400-1745064000@orgrange.org
SUMMARY:Egg Hunt at Goldson Grange
DESCRIPTION:
URL:https://orgrange.org/event/egg-hunt-at-goldson-grange/
LOCATION:Goldson Grange 868\, 23479 Hwy 36\, Cheshire\, OR\, 97419\, United States
CATEGORIES:Community Grange Event
END:VEVENT
BEGIN:VEVENT
DTSTART;TZID=America/Los_Angeles:20250419T130000
DTEND;TZID=America/Los_Angeles:20250419T140000
DTSTAMP:20260420T071901
CREATED:20250320T031216Z
LAST-MODIFIED:20250320T031216Z
UID:10002409-1745067600-1745071200@orgrange.org
SUMMARY:Easter Egg hunt at Lowell Grange
DESCRIPTION:
URL:https://orgrange.org/event/easter-egg-hunt-at-lowell-grange/
LOCATION:Lowell Grange 745\, 51 E 2nd St\, Lowell\, OR\, 97452\, United States
CATEGORIES:Community Grange Event
END:VEVENT
BEGIN:VEVENT
DTSTART;TZID=America/Los_Angeles:20250424T090000
DTEND;TZID=America/Los_Angeles:20250424T140000
DTSTAMP:20260420T071901
CREATED:20250421T162414Z
LAST-MODIFIED:20250421T162648Z
UID:10002497-1745485200-1745503200@orgrange.org
SUMMARY:Grange Day at the Legislature
DESCRIPTION:Lunches can be ordered up to April 22 from Mark Noah (marknoah00Agmail.com).  See Bulletin article.  At state grange office.
URL:https://orgrange.org/event/grange-day-at-the-legislature/
LOCATION:Oregon State Grange Office\, 643 Union St NE\, Salem\, OR\, 97301\, United States
CATEGORIES:State Grange Event
END:VEVENT
BEGIN:VEVENT
DTSTART;TZID=America/Los_Angeles:20250424T183000
DTEND;TZID=America/Los_Angeles:20250424T200000
DTSTAMP:20260420T071901
CREATED:20250418T043740Z
LAST-MODIFIED:20250418T043740Z
UID:10002439-1745519400-1745524800@orgrange.org
SUMMARY:The Buzz about Bees at Long Tom Grange
DESCRIPTION:
URL:https://orgrange.org/event/the-buzz-about-bees-at-long-tom-grange/
LOCATION:Long Tom Grange 866\, 25855 Ferguson Rd\, Junction City\, OR\, 97448\, United States
CATEGORIES:Community Grange Event
END:VEVENT
BEGIN:VEVENT
DTSTART;TZID=America/Los_Angeles:20250425T180000
DTEND;TZID=America/Los_Angeles:20250425T210000
DTSTAMP:20260420T071901
CREATED:20250418T042834Z
LAST-MODIFIED:20250418T042834Z
UID:10002436-1745604000-1745614800@orgrange.org
SUMMARY:Family Game and Exchange Night at Redwood Grange
DESCRIPTION:
URL:https://orgrange.org/event/family-game-and-exchange-night-at-redwood-grange/
LOCATION:Redwood Grange 760 Hall\, 1830 Redwood Ave\, Grants pass\, OR\, 97527\, United States
CATEGORIES:Community Grange Event
END:VEVENT
END:VCALENDAR