BEGIN:VCALENDAR
VERSION:2.0
PRODID:-//Oregon State Grange - ECPv6.15.17.1//NONSGML v1.0//EN
CALSCALE:GREGORIAN
METHOD:PUBLISH
X-ORIGINAL-URL:https://orgrange.org
X-WR-CALDESC:Events for Oregon State Grange
REFRESH-INTERVAL;VALUE=DURATION:PT1H
X-Robots-Tag:noindex
X-PUBLISHED-TTL:PT1H
BEGIN:VTIMEZONE
TZID:America/Los_Angeles
BEGIN:DAYLIGHT
TZOFFSETFROM:-0800
TZOFFSETTO:-0700
TZNAME:PDT
DTSTART:20250309T100000
END:DAYLIGHT
BEGIN:STANDARD
TZOFFSETFROM:-0700
TZOFFSETTO:-0800
TZNAME:PST
DTSTART:20251102T090000
END:STANDARD
BEGIN:DAYLIGHT
TZOFFSETFROM:-0800
TZOFFSETTO:-0700
TZNAME:PDT
DTSTART:20260308T100000
END:DAYLIGHT
BEGIN:STANDARD
TZOFFSETFROM:-0700
TZOFFSETTO:-0800
TZNAME:PST
DTSTART:20261101T090000
END:STANDARD
BEGIN:DAYLIGHT
TZOFFSETFROM:-0800
TZOFFSETTO:-0700
TZNAME:PDT
DTSTART:20270314T100000
END:DAYLIGHT
BEGIN:STANDARD
TZOFFSETFROM:-0700
TZOFFSETTO:-0800
TZNAME:PST
DTSTART:20271107T090000
END:STANDARD
END:VTIMEZONE
BEGIN:VEVENT
DTSTART;TZID=America/Los_Angeles:20260425T170000
DTEND;TZID=America/Los_Angeles:20260425T200000
DTSTAMP:20260425T195057
CREATED:20260323T051158Z
LAST-MODIFIED:20260323T051158Z
UID:10005187-1777136400-1777147200@orgrange.org
SUMMARY:Fry Bread and Friends at Fruitdale Grange
DESCRIPTION:
URL:https://orgrange.org/event/fry-bread-and-friends-at-fruitdale-grange/
LOCATION:Fruitdale Grange 379 Hall\, 1440 Parkdale Dr\, Grants Pass\, OR\, 97527\, United States
CATEGORIES:Community Grange Event,Sponsored community benefit event
END:VEVENT
BEGIN:VEVENT
DTSTART;TZID=America/Los_Angeles:20260425T170000
DTEND;TZID=America/Los_Angeles:20260425T200000
DTSTAMP:20260425T195057
CREATED:20260417T141352Z
LAST-MODIFIED:20260417T141352Z
UID:10005456-1777136400-1777147200@orgrange.org
SUMMARY:Bingo at Alsea Hope Grange
DESCRIPTION:
URL:https://orgrange.org/event/bingo-at-alsea-hope-grange-2/
LOCATION:Hope Grange 269 Hall\, 27373 Alsea Deadwood Hwy\, Alsea\, OR\, 97324\, United States
CATEGORIES:Community Grange Event
END:VEVENT
BEGIN:VEVENT
DTSTART;TZID=America/Los_Angeles:20260426T073000
DTEND;TZID=America/Los_Angeles:20260426T083000
DTSTAMP:20260425T195057
CREATED:20260416T151647Z
LAST-MODIFIED:20260416T151647Z
UID:10005275-1777188600-1777192200@orgrange.org
SUMMARY:Tai Chi at Rockford Grange
DESCRIPTION:
URL:https://orgrange.org/event/tai-chi-at-rockford-grange/2026-04-26/
LOCATION:Rockford Grange 501\, 4262 Barrett Dr\, Hood River\, OR\, 97031\, United States
CATEGORIES:Community Grange Event
END:VEVENT
BEGIN:VEVENT
DTSTART;TZID=America/Los_Angeles:20260426T080000
DTEND;TZID=America/Los_Angeles:20260426T170000
DTSTAMP:20260425T195057
CREATED:20260213T164436Z
LAST-MODIFIED:20260213T164436Z
UID:10004928-1777190400-1777222800@orgrange.org
SUMMARY:Farmers market sign up at Winona Grange
DESCRIPTION:
URL:https://orgrange.org/event/farmers-market-sign-up-at-winona-grange/2026-04-26/
LOCATION:Winona Grange 271\, 8340 SW Seneca Street\, Tualatin\, OR\, 97062\, United States
CATEGORIES:Community Grange Event
END:VEVENT
BEGIN:VEVENT
DTSTART;TZID=America/Los_Angeles:20260426T130000
DTEND;TZID=America/Los_Angeles:20260426T160000
DTSTAMP:20260425T195057
CREATED:20260227T155828Z
LAST-MODIFIED:20260227T155828Z
UID:10005108-1777208400-1777219200@orgrange.org
SUMMARY:Dance at McMinnville Grange
DESCRIPTION:
URL:https://orgrange.org/event/dance-at-mcminnville-grange-2/2026-04-26/
LOCATION:McMinnville Grange 31\, 1700 Old Sheridan Rd\, McMinnville\, OR\, 97128\, United States
CATEGORIES:Community Grange Event
END:VEVENT
BEGIN:VEVENT
DTSTART;TZID=America/Los_Angeles:20260427T090000
DTEND;TZID=America/Los_Angeles:20260427T103000
DTSTAMP:20260425T195057
CREATED:20260110T053544Z
LAST-MODIFIED:20260110T053544Z
UID:10004578-1777280400-1777285800@orgrange.org
SUMMARY:Zumba at Maplewood Grange
DESCRIPTION:Zumba with Cristine \n9-10:30 and 6-7:30 \nMonday thru Friday \n503-914-9561
URL:https://orgrange.org/event/zumba-at-maplewood-grange/2026-04-27/
LOCATION:Maplewood Grange 662 Hall\, 25480 S Hwy 99E\, Aurora\, OR\, 97002\, United States
CATEGORIES:Community Grange Event,Sponsored community benefit event
END:VEVENT
BEGIN:VEVENT
DTSTART;TZID=America/Los_Angeles:20260427T100000
DTEND;TZID=America/Los_Angeles:20260427T110000
DTSTAMP:20260425T195057
CREATED:20260206T061012Z
LAST-MODIFIED:20260206T061023Z
UID:10004825-1777284000-1777287600@orgrange.org
SUMMARY:Yoga in Cottage Grove at Row River Grange
DESCRIPTION:
URL:https://orgrange.org/event/yoga-in-cottage-grove-at-row-river-grange-2/2026-04-27/
LOCATION:Row River 835\, 34360 Row River Rd\, Cottage Grove\, OR\, 97424\, United States
CATEGORIES:Community Grange Event
END:VEVENT
BEGIN:VEVENT
DTSTART;TZID=America/Los_Angeles:20260427T110000
DTEND;TZID=America/Los_Angeles:20260427T120000
DTSTAMP:20260425T195057
CREATED:20260110T052722Z
LAST-MODIFIED:20260110T052722Z
UID:10004466-1777287600-1777291200@orgrange.org
SUMMARY:Tai Chi Walking at Camas Valley Grange
DESCRIPTION:
URL:https://orgrange.org/event/tai-chi-walking-at-camas-valley-grange/2026-04-27/
LOCATION:Camas Valley Grange 521 Hall\, 321 S Camas Rd\, Camas Valley\, OR\, 97416\, United States
CATEGORIES:Community Grange Event,Sponsored community benefit event
END:VEVENT
BEGIN:VEVENT
DTSTART;TZID=America/Los_Angeles:20260427T190000
DTEND;TZID=America/Los_Angeles:20260427T203000
DTSTAMP:20260425T195057
CREATED:20251221T154853Z
LAST-MODIFIED:20251221T154853Z
UID:10004365-1777316400-1777321800@orgrange.org
SUMMARY:Dance classes at McMinnville Grange
DESCRIPTION:
URL:https://orgrange.org/event/dance-classes-at-mcminnville-grange/2026-04-27/
LOCATION:McMinnville Grange 31\, 1700 Old Sheridan Rd\, McMinnville\, OR\, 97128\, United States
CATEGORIES:Community Grange Event
END:VEVENT
BEGIN:VEVENT
DTSTART;TZID=America/Los_Angeles:20260427T190000
DTEND;TZID=America/Los_Angeles:20260427T203000
DTSTAMP:20260425T195057
CREATED:20260110T051530Z
LAST-MODIFIED:20260110T051530Z
UID:10004440-1777316400-1777321800@orgrange.org
SUMMARY:Sewing Club at Row River Grange
DESCRIPTION:Sewing
URL:https://orgrange.org/event/sewing-club-at-row-river-grange/2026-04-27/
LOCATION:Row River 835\, 34360 Row River Rd\, Cottage Grove\, OR\, 97424\, United States
CATEGORIES:Community Grange Event,Sponsored community benefit event
END:VEVENT
BEGIN:VEVENT
DTSTART;TZID=America/Los_Angeles:20260429T123000
DTEND;TZID=America/Los_Angeles:20260429T133000
DTSTAMP:20260425T195057
CREATED:20260416T152026Z
LAST-MODIFIED:20260416T152026Z
UID:10005364-1777465800-1777469400@orgrange.org
SUMMARY:Tai Chi at Rockford Grange
DESCRIPTION:
URL:https://orgrange.org/event/tai-chi-at-rockford-grange-2/2026-04-29/
LOCATION:Rockford Grange 501\, 4262 Barrett Dr\, Hood River\, OR\, 97031\, United States
CATEGORIES:Community Grange Event
END:VEVENT
BEGIN:VEVENT
DTSTART;TZID=America/Los_Angeles:20260429T123000
DTEND;TZID=America/Los_Angeles:20260429T140000
DTSTAMP:20260425T195057
CREATED:20260408T041424Z
LAST-MODIFIED:20260408T041424Z
UID:10005224-1777465800-1777471200@orgrange.org
SUMMARY:Food Pantry (free) at Williams Grange
DESCRIPTION:
URL:https://orgrange.org/event/food-pantry-free-at-williams-grange/2026-04-29/
LOCATION:Williams Grange 399 Hall\, 20100 Williams Hwy\, Williams\, OR\, United States
CATEGORIES:Community Grange Event,Sponsored community benefit event
END:VEVENT
BEGIN:VEVENT
DTSTART;TZID=America/Los_Angeles:20260430T100000
DTEND;TZID=America/Los_Angeles:20260430T110000
DTSTAMP:20260425T195057
CREATED:20260206T142417Z
LAST-MODIFIED:20260206T142417Z
UID:10004875-1777543200-1777546800@orgrange.org
SUMMARY:
DESCRIPTION:
URL:https://orgrange.org/event/7602/2026-04-30/
LOCATION:Salmon River Grange 516\, 5371 Salmon River Hwy\, Otis\, OR\, 97368\, United States
CATEGORIES:Community Grange Event
END:VEVENT
BEGIN:VEVENT
DTSTART;TZID=America/Los_Angeles:20260430T173000
DTEND;TZID=America/Los_Angeles:20260430T183000
DTSTAMP:20260425T195057
CREATED:20250207T061915Z
LAST-MODIFIED:20250207T061915Z
UID:10002312-1777570200-1777573800@orgrange.org
SUMMARY:Pilates and Yoga at Row River Grange
DESCRIPTION:Row
URL:https://orgrange.org/event/pilates-and-yoga-at-row-river-grange/2026-04-30/
LOCATION:Row River 835\, 34360 Row River Rd\, Cottage Grove\, OR\, 97424\, United States
CATEGORIES:Community Grange Event
END:VEVENT
BEGIN:VEVENT
DTSTART;TZID=America/Los_Angeles:20260501T090000
DTEND;TZID=America/Los_Angeles:20260501T103000
DTSTAMP:20260425T195057
CREATED:20251110T144740Z
LAST-MODIFIED:20251113T050933Z
UID:10004259-1777626000-1777631400@orgrange.org
SUMMARY:Walk the Hall at Wickiup
DESCRIPTION:
URL:https://orgrange.org/event/walk-the-hall-at-wickiup/2026-05-01/
LOCATION:Wickiup Grange 722 Hall\, 92683 Svensen Market Rd\, Astoria\, OR\, 97103\, United States
CATEGORIES:Community Grange Event
END:VEVENT
BEGIN:VEVENT
DTSTART;TZID=America/Los_Angeles:20260501T090000
DTEND;TZID=America/Los_Angeles:20260501T160000
DTSTAMP:20260425T195057
CREATED:20250705T162857Z
LAST-MODIFIED:20250705T162857Z
UID:10002904-1777626000-1777651200@orgrange.org
SUMMARY:Community Flea Market and Craft Fair at Pacific Grange
DESCRIPTION:
URL:https://orgrange.org/event/community-flea-market-and-craft-fair-at-pacific-grange/2026-05-01/
LOCATION:Pacific Grange 413 Hall\, 90475 Alt Hwy 101\, Astoria\, OR\, 97103\, United States
CATEGORIES:Community Grange Event
END:VEVENT
BEGIN:VEVENT
DTSTART;TZID=America/Los_Angeles:20260501T193000
DTEND;TZID=America/Los_Angeles:20260501T223000
DTSTAMP:20260425T195057
CREATED:20260227T155236Z
LAST-MODIFIED:20260227T155236Z
UID:10005013-1777663800-1777674600@orgrange.org
SUMMARY:Dance at McMinnville Grange
DESCRIPTION:
URL:https://orgrange.org/event/dance-at-mcminnville-grange/2026-05-01/
LOCATION:McMinnville Grange 31\, 1700 Old Sheridan Rd\, McMinnville\, OR\, 97128\, United States
CATEGORIES:Community Grange Event
END:VEVENT
BEGIN:VEVENT
DTSTART;TZID=America/Los_Angeles:20260502T070000
DTEND;TZID=America/Los_Angeles:20260502T110000
DTSTAMP:20260425T195057
CREATED:20260321T164320Z
LAST-MODIFIED:20260321T164738Z
UID:10005167-1777705200-1777719600@orgrange.org
SUMMARY:Springwater Grange events
DESCRIPTION:
URL:https://orgrange.org/event/springwater-grange-events/2026-05-02/
LOCATION:Springwater Grange 263 Hall\, 24591 S Springwater Rd\, Estacada\, OR\, 97023\, United States
CATEGORIES:Community Grange Event
END:VEVENT
BEGIN:VEVENT
DTSTART;TZID=America/Los_Angeles:20260502T090000
DTEND;TZID=America/Los_Angeles:20260502T160000
DTSTAMP:20260425T195057
CREATED:20260227T162133Z
LAST-MODIFIED:20260227T162133Z
UID:10005144-1777712400-1777737600@orgrange.org
SUMMARY:Bazzar at Redland Grange
DESCRIPTION:
URL:https://orgrange.org/event/bazzar-at-redland-grange/2026-05-02/
LOCATION:Redland Grange 796 Hall\, 18131 S Fischers Mill Rd\, Oregon City\, OR\, 97045\, United States
CATEGORIES:Community Grange Event
END:VEVENT
BEGIN:VEVENT
DTSTART;TZID=America/Los_Angeles:20260502T100000
DTEND;TZID=America/Los_Angeles:20260502T140000
DTSTAMP:20260425T195057
CREATED:20260324T222040Z
LAST-MODIFIED:20260324T222040Z
UID:10005193-1777716000-1777730400@orgrange.org
SUMMARY:Columbia County Pomona Meetings
DESCRIPTION:1st Saturday in Feb\, May\, Aug\, & Nov at 10 am; lunch served by host except August picnic  \n2/7 Yankton\, 5/2 Natal\, 8/1 Picnic at Columbia Fairgrounds\, 11/7 Vernonia\, 2/6/27 Yankton
URL:https://orgrange.org/event/columbia-county-pomona-meetings/2026-05-02/
LOCATION:OR
CATEGORIES:Pomona Grange Event
END:VEVENT
BEGIN:VEVENT
DTSTART;TZID=America/Los_Angeles:20260502T103000
DTEND;TZID=America/Los_Angeles:20260502T140000
DTSTAMP:20260425T195057
CREATED:20260321T170342Z
LAST-MODIFIED:20260321T170342Z
UID:10005173-1777717800-1777730400@orgrange.org
SUMMARY:Baker Pomona Meeting
DESCRIPTION:2/7 Eagle Valley; 5/2 New Bridge; 8/1 Missouri Flat; 11/7 Pine Valley; Feb 1\, 2027 TBA\nPotluck noon: Host Grange provides main dish\, members bring salads or desserts\n1st Saturday in Feb\, May\, & Nov & 2nd Sat in Aug\, 10:30 am Business meeting
URL:https://orgrange.org/event/baker-pomona-meeting-2/2026-05-02/
LOCATION:OR
CATEGORIES:Pomona Grange Event
END:VEVENT
BEGIN:VEVENT
DTSTART;TZID=America/Los_Angeles:20260502T110000
DTEND;TZID=America/Los_Angeles:20260502T160000
DTSTAMP:20260425T195057
CREATED:20260227T153739Z
LAST-MODIFIED:20260227T153739Z
UID:10005002-1777719600-1777737600@orgrange.org
SUMMARY:Outdoor Gear Sale at Applegate Grange
DESCRIPTION:
URL:https://orgrange.org/event/outdoor-gear-sale-at-applegate-grange/
LOCATION:Upper Applegate 839\, 3901 Upper Applegate Road\,\, Jacksonville\, OR\, 97530\, United States
CATEGORIES:Sponsored community benefit event
END:VEVENT
BEGIN:VEVENT
DTSTART;TZID=America/Los_Angeles:20260502T170000
DTEND;TZID=America/Los_Angeles:20260502T200000
DTSTAMP:20260425T195057
CREATED:20260417T145540Z
LAST-MODIFIED:20260417T145651Z
UID:10005462-1777741200-1777752000@orgrange.org
SUMMARY:Cinco De Mayo at Crow Grange
DESCRIPTION:
URL:https://orgrange.org/event/8019/
LOCATION:Crow Grange 450\, 85994 Territorial Rd\, Crow\, OR\, 97402\, United States
CATEGORIES:Community Grange Event
END:VEVENT
BEGIN:VEVENT
DTSTART;TZID=America/Los_Angeles:20260503T130000
DTEND;TZID=America/Los_Angeles:20260503T170000
DTSTAMP:20260425T195057
CREATED:20260310T212502Z
LAST-MODIFIED:20260411T190034Z
UID:10005163-1777813200-1777827600@orgrange.org
SUMMARY:Clackamas Commissioner Candidate Forum at Abernathy Grange
DESCRIPTION:Come have lunch and hear the views of candidates for the Clackamas County Commission at Abernathy Grange! \nLunch with candidates at 1 PM and forum begins around 2 PM. \nQuestions?  Dan Keeley at 503-508-7807
URL:https://orgrange.org/event/clackamas-commissioner-candidate-forum-at-abernathy-grange/
LOCATION:Abernathy Grange 346 Hall\, 15745 S Harley Ave.\, Oregon City\, OR\, 97045\, United States
END:VEVENT
BEGIN:VEVENT
DTSTART;TZID=America/Los_Angeles:20260505T183000
DTEND;TZID=America/Los_Angeles:20260505T213000
DTSTAMP:20260425T195057
CREATED:20250830T051006Z
LAST-MODIFIED:20250830T051006Z
UID:10003840-1778005800-1778016600@orgrange.org
SUMMARY:Jam Session Tuesdays at Hope Grange
DESCRIPTION:
URL:https://orgrange.org/event/jam-session-tuesdays-at-hope-grange/2026-05-05/
LOCATION:Hope Grange 269 Hall\, 27373 Alsea Deadwood Hwy\, Alsea\, OR\, 97324\, United States
CATEGORIES:Community Grange Event
END:VEVENT
BEGIN:VEVENT
DTSTART;TZID=America/Los_Angeles:20260507T100000
DTEND;TZID=America/Los_Angeles:20260507T110000
DTSTAMP:20260425T195057
CREATED:20260206T142417Z
LAST-MODIFIED:20260206T142417Z
UID:10004876-1778148000-1778151600@orgrange.org
SUMMARY:
DESCRIPTION:
URL:https://orgrange.org/event/7602/2026-05-07/
LOCATION:Salmon River Grange 516\, 5371 Salmon River Hwy\, Otis\, OR\, 97368\, United States
CATEGORIES:Community Grange Event
END:VEVENT
BEGIN:VEVENT
DTSTART;TZID=America/Los_Angeles:20260508T170000
DTEND;TZID=America/Los_Angeles:20260508T180000
DTSTAMP:20260425T195057
CREATED:20260323T045311Z
LAST-MODIFIED:20260323T045311Z
UID:10005182-1778259600-1778263200@orgrange.org
SUMMARY:Spray Grange presents a Burrito Dinner at General Store
DESCRIPTION:
URL:https://orgrange.org/event/spray-grange-presents-a-burrito-dinner-at-general-store/
LOCATION:Spray Grange 940\, 807 Winlock St\, Spray\, OR\, 97874\, United States
CATEGORIES:Community Grange Event
END:VEVENT
BEGIN:VEVENT
DTSTART;TZID=America/Los_Angeles:20260508T180000
DTEND;TZID=America/Los_Angeles:20260508T203000
DTSTAMP:20260425T195057
CREATED:20250705T171123Z
LAST-MODIFIED:20250705T171123Z
UID:10002930-1778263200-1778272200@orgrange.org
SUMMARY:Bingo Nights at Mary's River Grange
DESCRIPTION:
URL:https://orgrange.org/event/bingo-nights-at-marys-river-grange/2026-05-08/
LOCATION:Marys River Grange 685 Hall\, 24707 Grange Hall Rd\, Philomath\, OR\, 97370\, United States
CATEGORIES:Community Grange Event
END:VEVENT
BEGIN:VEVENT
DTSTART;TZID=America/Los_Angeles:20260509T090000
DTEND;TZID=America/Los_Angeles:20260509T160000
DTSTAMP:20260425T195057
CREATED:20260213T171035Z
LAST-MODIFIED:20260213T171035Z
UID:10004987-1778317200-1778342400@orgrange.org
SUMMARY:Spring Craft Fair at Centeral Point Grange
DESCRIPTION:
URL:https://orgrange.org/event/spring-craft-fair-at-centeral-point-grange/
LOCATION:Central Point Grange 698 Hall\, 436 E Pine St\, Central Point\, OR\, 97502\, United States
CATEGORIES:Community Grange Event
END:VEVENT
BEGIN:VEVENT
DTSTART;TZID=America/Los_Angeles:20260509T100000
DTEND;TZID=America/Los_Angeles:20260509T140000
DTSTAMP:20260425T195057
CREATED:20260323T052314Z
LAST-MODIFIED:20260323T052314Z
UID:10005190-1778320800-1778335200@orgrange.org
SUMMARY:Plant Share at Columbia Grange
DESCRIPTION:
URL:https://orgrange.org/event/plant-share-at-columbia-grange/
LOCATION:Columbia Grange 867 Hall\, 32339 Diagonal Rd\, Hermiston\, OR\, 97838\, United States
CATEGORIES:Community Grange Event
END:VEVENT
END:VCALENDAR