BEGIN:VCALENDAR
VERSION:2.0
PRODID:-//Oregon State Grange - ECPv6.15.17.1//NONSGML v1.0//EN
CALSCALE:GREGORIAN
METHOD:PUBLISH
X-WR-CALNAME:Oregon State Grange
X-ORIGINAL-URL:https://orgrange.org
X-WR-CALDESC:Events for Oregon State Grange
REFRESH-INTERVAL;VALUE=DURATION:PT1H
X-Robots-Tag:noindex
X-PUBLISHED-TTL:PT1H
BEGIN:VTIMEZONE
TZID:America/Los_Angeles
BEGIN:DAYLIGHT
TZOFFSETFROM:-0800
TZOFFSETTO:-0700
TZNAME:PDT
DTSTART:20250309T100000
END:DAYLIGHT
BEGIN:STANDARD
TZOFFSETFROM:-0700
TZOFFSETTO:-0800
TZNAME:PST
DTSTART:20251102T090000
END:STANDARD
BEGIN:DAYLIGHT
TZOFFSETFROM:-0800
TZOFFSETTO:-0700
TZNAME:PDT
DTSTART:20260308T100000
END:DAYLIGHT
BEGIN:STANDARD
TZOFFSETFROM:-0700
TZOFFSETTO:-0800
TZNAME:PST
DTSTART:20261101T090000
END:STANDARD
BEGIN:DAYLIGHT
TZOFFSETFROM:-0800
TZOFFSETTO:-0700
TZNAME:PDT
DTSTART:20270314T100000
END:DAYLIGHT
BEGIN:STANDARD
TZOFFSETFROM:-0700
TZOFFSETTO:-0800
TZNAME:PST
DTSTART:20271107T090000
END:STANDARD
END:VTIMEZONE
BEGIN:VEVENT
DTSTART;TZID=America/Los_Angeles:20260326T080000
DTEND;TZID=America/Los_Angeles:20260326T170000
DTSTAMP:20260419T073909
CREATED:20251127T043542Z
LAST-MODIFIED:20260207T151735Z
UID:10004319-1774512000-1774544400@orgrange.org
SUMMARY:Western Regional Leadership Conference
DESCRIPTION:
URL:https://orgrange.org/event/western-regional-leadership-conference/2026-03-26/
CATEGORIES:National Grange Event
END:VEVENT
BEGIN:VEVENT
DTSTART;TZID=America/Los_Angeles:20260327T080000
DTEND;TZID=America/Los_Angeles:20260327T170000
DTSTAMP:20260419T073909
CREATED:20251127T043542Z
LAST-MODIFIED:20260207T151735Z
UID:10004320-1774598400-1774630800@orgrange.org
SUMMARY:Western Regional Leadership Conference
DESCRIPTION:
URL:https://orgrange.org/event/western-regional-leadership-conference/2026-03-27/
CATEGORIES:National Grange Event
END:VEVENT
BEGIN:VEVENT
DTSTART;TZID=America/Los_Angeles:20260328T080000
DTEND;TZID=America/Los_Angeles:20260328T170000
DTSTAMP:20260419T073909
CREATED:20251127T043542Z
LAST-MODIFIED:20260207T151735Z
UID:10004321-1774684800-1774717200@orgrange.org
SUMMARY:Western Regional Leadership Conference
DESCRIPTION:
URL:https://orgrange.org/event/western-regional-leadership-conference/2026-03-28/
CATEGORIES:National Grange Event
END:VEVENT
END:VCALENDAR