BEGIN:VCALENDAR
VERSION:2.0
PRODID:-//Oregon State Grange - ECPv6.15.17.1//NONSGML v1.0//EN
CALSCALE:GREGORIAN
METHOD:PUBLISH
X-ORIGINAL-URL:https://orgrange.org
X-WR-CALDESC:Events for Oregon State Grange
REFRESH-INTERVAL;VALUE=DURATION:PT1H
X-Robots-Tag:noindex
X-PUBLISHED-TTL:PT1H
BEGIN:VTIMEZONE
TZID:America/Los_Angeles
BEGIN:DAYLIGHT
TZOFFSETFROM:-0800
TZOFFSETTO:-0700
TZNAME:PDT
DTSTART:20240310T100000
END:DAYLIGHT
BEGIN:STANDARD
TZOFFSETFROM:-0700
TZOFFSETTO:-0800
TZNAME:PST
DTSTART:20241103T090000
END:STANDARD
BEGIN:DAYLIGHT
TZOFFSETFROM:-0800
TZOFFSETTO:-0700
TZNAME:PDT
DTSTART:20250309T100000
END:DAYLIGHT
BEGIN:STANDARD
TZOFFSETFROM:-0700
TZOFFSETTO:-0800
TZNAME:PST
DTSTART:20251102T090000
END:STANDARD
BEGIN:DAYLIGHT
TZOFFSETFROM:-0800
TZOFFSETTO:-0700
TZNAME:PDT
DTSTART:20260308T100000
END:DAYLIGHT
BEGIN:STANDARD
TZOFFSETFROM:-0700
TZOFFSETTO:-0800
TZNAME:PST
DTSTART:20261101T090000
END:STANDARD
END:VTIMEZONE
BEGIN:VEVENT
DTSTART;TZID=America/Los_Angeles:20251214T100000
DTEND;TZID=America/Los_Angeles:20251214T160000
DTSTAMP:20260419T143622
CREATED:20251017T053431Z
LAST-MODIFIED:20251017T053431Z
UID:10004074-1765706400-1765728000@orgrange.org
SUMMARY:Holiday Bazaar at Barlow Gate Grange
DESCRIPTION:
URL:https://orgrange.org/event/holiday-bazaar-at-barlow-gate-grange/2025-12-14/
LOCATION:Barlow Gate Grange 157\, 56960 Wamic Market Rd\, Wamic Valley\, OR\, 97063\, United States
CATEGORIES:Community Grange Event
END:VEVENT
BEGIN:VEVENT
DTSTART;TZID=America/Los_Angeles:20251213T100000
DTEND;TZID=America/Los_Angeles:20251213T160000
DTSTAMP:20260419T143622
CREATED:20251002T230107Z
LAST-MODIFIED:20251002T230107Z
UID:10003901-1765620000-1765641600@orgrange.org
SUMMARY:Christmas Bazaar
DESCRIPTION:
URL:https://orgrange.org/event/christmas-bazaar/
LOCATION:Frogpond Grange 111 Hall\, 27350 SW Stafford Rd\, Wilsonville\, OR\, 97070\, United States
CATEGORIES:Community Grange Event
END:VEVENT
BEGIN:VEVENT
DTSTART;TZID=America/Los_Angeles:20251213T100000
DTEND;TZID=America/Los_Angeles:20251213T150000
DTSTAMP:20260419T143622
CREATED:20251101T141423Z
LAST-MODIFIED:20251101T141423Z
UID:10004095-1765620000-1765638000@orgrange.org
SUMMARY:Festive Finders Market
DESCRIPTION:
URL:https://orgrange.org/event/festive-finders-market/
LOCATION:Milwaukie Grange 268 Hall\, 12015 SE 22nd St\, Milwaukie\, OR\, 97269\, United States
CATEGORIES:Community Grange Event
END:VEVENT
BEGIN:VEVENT
DTSTART;TZID=America/Los_Angeles:20251213T090000
DTEND;TZID=America/Los_Angeles:20251213T160000
DTSTAMP:20260419T143622
CREATED:20251127T045146Z
LAST-MODIFIED:20251127T045146Z
UID:10004323-1765616400-1765641600@orgrange.org
SUMMARY:Holiday Bazaar at Spray Grange
DESCRIPTION:
URL:https://orgrange.org/event/holiday-bazaar-at-spray-grange/
LOCATION:Spray Grange 940\, 807 Winlock St\, Spray\, OR\, 97874\, United States
CATEGORIES:Community Grange Event
END:VEVENT
BEGIN:VEVENT
DTSTART;TZID=America/Los_Angeles:20251213T080000
DTEND;TZID=America/Los_Angeles:20251213T190000
DTSTAMP:20260419T143622
CREATED:20251120T144605Z
LAST-MODIFIED:20251127T041008Z
UID:10004302-1765612800-1765652400@orgrange.org
SUMMARY:Community Celebration at Vernonia
DESCRIPTION:
URL:https://orgrange.org/event/community-celebration-at-beavercreek/
LOCATION:Vernonia Grange 305 Hall\, 375 North St\, Vernonia\, OR\, 97064\, United States
CATEGORIES:Community Grange Event,Sponsored community benefit event
END:VEVENT
BEGIN:VEVENT
DTSTART;TZID=America/Los_Angeles:20251212T183000
DTEND;TZID=America/Los_Angeles:20251212T210000
DTSTAMP:20260419T143622
CREATED:20251204T213237Z
LAST-MODIFIED:20251204T213237Z
UID:10004330-1765564200-1765573200@orgrange.org
SUMMARY:Holiday Movie Night at Long Tom Grange
DESCRIPTION:
URL:https://orgrange.org/event/holiday-movie-night-at-long-tom-grange/
LOCATION:Long Tom Grange 866\, 25855 Ferguson Rd\, Junction City\, OR\, 97448\, United States
CATEGORIES:Community Grange Event
END:VEVENT
BEGIN:VEVENT
DTSTART;TZID=America/Los_Angeles:20251209T180000
DTEND;TZID=America/Los_Angeles:20251209T200000
DTSTAMP:20260419T143622
CREATED:20251127T044719Z
LAST-MODIFIED:20251127T044719Z
UID:10004322-1765303200-1765310400@orgrange.org
SUMMARY:Holiday Dinner at Walterville Grange
DESCRIPTION:
URL:https://orgrange.org/event/holiday-dinner-at-walterville-grange/
LOCATION:Walterville Grange 416 Hall\, 39259 Camp Creek Rd.\, Walterville\, OR\, 97489\, United States
CATEGORIES:Community Grange Event
END:VEVENT
BEGIN:VEVENT
DTSTART;TZID=America/Los_Angeles:20251207T160000
DTEND;TZID=America/Los_Angeles:20251207T190000
DTSTAMP:20260419T143622
CREATED:20251120T150420Z
LAST-MODIFIED:20251120T150420Z
UID:10004308-1765123200-1765134000@orgrange.org
SUMMARY:Chili Feed at Christmas Celebration at Coburg Grange
DESCRIPTION:
URL:https://orgrange.org/event/chili-feed-at-christmas-celebration-at-coburg-grange/
LOCATION:Coburg West Point Grange 535\, 32663 N Mill St\, Coburg\, OR\, 97408\, United States
CATEGORIES:Community Grange Event,Sponsored community benefit event
END:VEVENT
BEGIN:VEVENT
DTSTART;TZID=America/Los_Angeles:20251207T140000
DTEND;TZID=America/Los_Angeles:20251207T160000
DTSTAMP:20260419T143622
CREATED:20251115T053345Z
LAST-MODIFIED:20251115T053345Z
UID:10004300-1765116000-1765123200@orgrange.org
SUMMARY:Cookie Exchange and Holiday Market at Silverton Grange
DESCRIPTION:
URL:https://orgrange.org/event/cookie-exchange-and-holiday-market-at-silverton-grange-2/
LOCATION:Silverton Grange 748\, 201 NE Division\, Silverton\, OR\, 97381\, United States
CATEGORIES:Community Grange Event
END:VEVENT
BEGIN:VEVENT
DTSTART;TZID=America/Los_Angeles:20251207T100000
DTEND;TZID=America/Los_Angeles:20251207T180000
DTSTAMP:20260419T143622
CREATED:20250824T030729Z
LAST-MODIFIED:20250824T030729Z
UID:10003795-1765101600-1765130400@orgrange.org
SUMMARY:First Sunday Market and Dance at Enterprise
DESCRIPTION:
URL:https://orgrange.org/event/first-sunday-market-and-dance-at-enterprise/2025-12-07/
LOCATION:OR
CATEGORIES:Community Grange Event
END:VEVENT
BEGIN:VEVENT
DTSTART;TZID=America/Los_Angeles:20251207T100000
DTEND;TZID=America/Los_Angeles:20251207T150000
DTSTAMP:20260419T143622
CREATED:20251122T150725Z
LAST-MODIFIED:20251122T150725Z
UID:10004313-1765101600-1765119600@orgrange.org
SUMMARY:Holiday craft fair at Columbia Grange
DESCRIPTION:
URL:https://orgrange.org/event/holiday-craft-fair-at-columbia-grange/2025-12-07/
LOCATION:Corbett Elementary School\, 35800 E. Historic Columbia River Highway\, Corbett\, 97019\, United States
CATEGORIES:Community Grange Event,Sponsored community benefit event
END:VEVENT
BEGIN:VEVENT
DTSTART;TZID=America/Los_Angeles:20251207T090000
DTEND;TZID=America/Los_Angeles:20251207T160000
DTSTAMP:20260419T143622
CREATED:20251120T145706Z
LAST-MODIFIED:20251120T145706Z
UID:10004306-1765098000-1765123200@orgrange.org
SUMMARY:Big Foot Bazaar at Redland Grange
DESCRIPTION:
URL:https://orgrange.org/event/big-foot-bazaar-at-redland-grange/2025-12-07/
LOCATION:Redland Grange 796 Hall\, 18131 S Fischers Mill Rd\, Oregon City\, OR\, 97045\, United States
CATEGORIES:Community Grange Event
END:VEVENT
BEGIN:VEVENT
DTSTART;TZID=America/Los_Angeles:20251207T090000
DTEND;TZID=America/Los_Angeles:20251207T160000
DTSTAMP:20260419T143622
CREATED:20251108T171608Z
LAST-MODIFIED:20251108T171608Z
UID:10004103-1765098000-1765123200@orgrange.org
SUMMARY:Holiday arts and crafts fair at Wickiup Grange
DESCRIPTION:
URL:https://orgrange.org/event/holiday-arts-and-crafts-fair-at-wickiup-grange/2025-12-07/
LOCATION:Wickiup Grange 722 Hall\, 92683 Svensen Market Rd\, Astoria\, OR\, 97103\, United States
CATEGORIES:Community Grange Event
END:VEVENT
BEGIN:VEVENT
DTSTART;TZID=America/Los_Angeles:20251207T090000
DTEND;TZID=America/Los_Angeles:20251207T150000
DTSTAMP:20260419T143622
CREATED:20251110T064310Z
LAST-MODIFIED:20251110T064310Z
UID:10004230-1765098000-1765119600@orgrange.org
SUMMARY:December Craft Fair at Pacific Grange
DESCRIPTION:
URL:https://orgrange.org/event/december-craft-fair-at-pacific-grange/2025-12-07/
LOCATION:Pacific Grange 413 Hall\, 90475 Alt Hwy 101\, Astoria\, OR\, 97103\, United States
CATEGORIES:Community Grange Event
END:VEVENT
BEGIN:VEVENT
DTSTART;TZID=America/Los_Angeles:20251207T080000
DTEND;TZID=America/Los_Angeles:20251207T170000
DTSTAMP:20260419T143622
CREATED:20250824T033137Z
LAST-MODIFIED:20250824T033137Z
UID:10003807-1765094400-1765126800@orgrange.org
SUMMARY:Live Music at Creswell Grange
DESCRIPTION:
URL:https://orgrange.org/event/live-music-at-creswell-grange/2025-12-07/
LOCATION:Creswell Grange 496\, 274 W Oregon Ave\, Creswell\, OR\, 97426\, United States
CATEGORIES:Community Grange Event
END:VEVENT
BEGIN:VEVENT
DTSTART;TZID=America/Los_Angeles:20251206T170000
DTEND;TZID=America/Los_Angeles:20251206T183000
DTSTAMP:20260419T143622
CREATED:20251120T151006Z
LAST-MODIFIED:20251120T151006Z
UID:10004310-1765040400-1765045800@orgrange.org
SUMMARY:Christmas Potluck at Azalea Grange
DESCRIPTION:
URL:https://orgrange.org/event/christmas-potluck-at-azalea-grange-2/
LOCATION:Azalea Grange 786 Hall\, 142 Pisqually Ln\, Azalea\, OR\, 97410\, United States
CATEGORIES:Community Grange Event
END:VEVENT
BEGIN:VEVENT
DTSTART;TZID=America/Los_Angeles:20251206T100000
DTEND;TZID=America/Los_Angeles:20251206T160000
DTSTAMP:20260419T143622
CREATED:20251120T144022Z
LAST-MODIFIED:20251120T144121Z
UID:10004301-1765015200-1765036800@orgrange.org
SUMMARY:Holiday Fair at Willamette Grange Hall
DESCRIPTION:
URL:https://orgrange.org/event/holiday-fair-at-willamette-grange-hall/
LOCATION:Willamette Grange 52 Hall\, 27555 Greenberry Rd\, Corvallis\, OR\, 97333\, United States
CATEGORIES:Community Grange Event
END:VEVENT
BEGIN:VEVENT
DTSTART;TZID=America/Los_Angeles:20251206T100000
DTEND;TZID=America/Los_Angeles:20251206T150000
DTSTAMP:20260419T143622
CREATED:20251127T045912Z
LAST-MODIFIED:20251127T045912Z
UID:10004324-1765015200-1765033200@orgrange.org
SUMMARY:Holiday Bazaar at Siletz Grange
DESCRIPTION:
URL:https://orgrange.org/event/holiday-bazaar-at-siletz-grange-2/
LOCATION:Siletz Valley Grange 558\, 224 Gaither St\, Siletz\, OR\, 97380\, United States
CATEGORIES:Community Grange Event
END:VEVENT
BEGIN:VEVENT
DTSTART;TZID=America/Los_Angeles:20251206T100000
DTEND;TZID=America/Los_Angeles:20251206T150000
DTSTAMP:20260419T143622
CREATED:20251008T044319Z
LAST-MODIFIED:20251008T044319Z
UID:10004062-1765015200-1765033200@orgrange.org
SUMMARY:Christmas Bazaar at Hope Grange
DESCRIPTION:
URL:https://orgrange.org/event/christmas-bazaar-at-hope-grange/
LOCATION:OR
CATEGORIES:Community Grange Event
END:VEVENT
BEGIN:VEVENT
DTSTART;TZID=America/Los_Angeles:20251206T080000
DTEND;TZID=America/Los_Angeles:20251206T190000
DTSTAMP:20260419T143622
CREATED:20251113T045550Z
LAST-MODIFIED:20251113T045550Z
UID:10004298-1765008000-1765047600@orgrange.org
SUMMARY:Annual Tree Lighting at Beavercreek Grange
DESCRIPTION:
URL:https://orgrange.org/event/annual-tree-lighting-at-beavercreek-grange/
LOCATION:Beavercreek Grange 276 Hall\, 22041 S Kamrath Rd\, Oregon City\, OR\, 97045\, United States
CATEGORIES:Community Grange Event
END:VEVENT
BEGIN:VEVENT
DTSTART;TZID=America/Los_Angeles:20251206T070000
DTEND;TZID=America/Los_Angeles:20251206T110000
DTSTAMP:20260419T143622
CREATED:20251120T144940Z
LAST-MODIFIED:20251120T144940Z
UID:10004303-1765004400-1765018800@orgrange.org
SUMMARY:Breakfast at Springwater Grange
DESCRIPTION:
URL:https://orgrange.org/event/breakfast-at-springwater-grange-3/
LOCATION:Springwater Grange 263 Hall\, 24591 S Springwater Rd\, Estacada\, OR\, 97023\, United States
CATEGORIES:Community Grange Event
END:VEVENT
BEGIN:VEVENT
DTSTART;TZID=America/Los_Angeles:20251206T070000
DTEND;TZID=America/Los_Angeles:20251206T110000
DTSTAMP:20260419T143622
CREATED:20250124T045455Z
LAST-MODIFIED:20250131T165446Z
UID:10002027-1765004400-1765018800@orgrange.org
SUMMARY:Springwater Monthly Breakfast
DESCRIPTION:
URL:https://orgrange.org/event/spring-water-monthly-breakfast-3/2025-12-06/
LOCATION:Springwater Grange 263 Hall\, 24591 S Springwater Rd\, Estacada\, OR\, 97023\, United States
CATEGORIES:Community Grange Event
ORGANIZER;CN="Springwater Grange #263":MAILTO:springwater263events@gmail.com
END:VEVENT
BEGIN:VEVENT
DTSTART;TZID=America/Los_Angeles:20251130T080000
DTEND;TZID=America/Los_Angeles:20251130T170000
DTSTAMP:20260419T143622
CREATED:20251101T142529Z
LAST-MODIFIED:20251101T142529Z
UID:10004100-1764489600-1764522000@orgrange.org
SUMMARY:Holiday Bazaar at Goshen Grange
DESCRIPTION:
URL:https://orgrange.org/event/holiday-bazaar-at-goshen-grange/2025-11-30/
LOCATION:Goshen Grange 561\, 85628 Dillard Access Rd\, Eugene\, OR\, 97405\, United States
CATEGORIES:Community Grange Event
END:VEVENT
BEGIN:VEVENT
DTSTART;TZID=America/Los_Angeles:20251129T100000
DTEND;TZID=America/Los_Angeles:20251129T160000
DTSTAMP:20260419T143622
CREATED:20251120T150711Z
LAST-MODIFIED:20251120T150711Z
UID:10004309-1764410400-1764432000@orgrange.org
SUMMARY:Holiday Market at Beavercreek Grange
DESCRIPTION:
URL:https://orgrange.org/event/holiday-market-at-beavercreek-grange/
LOCATION:Beavercreek Grange 276 Hall\, 22041 S Kamrath Rd\, Oregon City\, OR\, 97045\, United States
CATEGORIES:Community Grange Event
END:VEVENT
BEGIN:VEVENT
DTSTART;TZID=America/Los_Angeles:20251129T100000
DTEND;TZID=America/Los_Angeles:20251129T160000
DTSTAMP:20260419T143622
CREATED:20251120T145359Z
LAST-MODIFIED:20251122T152630Z
UID:10004304-1764410400-1764432000@orgrange.org
SUMMARY:Crafters Market at Rockwall Grange
DESCRIPTION:rs
URL:https://orgrange.org/event/crafters-market-at/
LOCATION:Rockwall Grange 679 Hall\, 71562 Middle Rd\, Elgin\, OR\, 97827\, United States
CATEGORIES:Community Grange Event
END:VEVENT
BEGIN:VEVENT
DTSTART;TZID=America/Los_Angeles:20251129T090000
DTEND;TZID=America/Los_Angeles:20251129T160000
DTSTAMP:20260419T143622
CREATED:20251122T151724Z
LAST-MODIFIED:20251122T151724Z
UID:10004318-1764406800-1764432000@orgrange.org
SUMMARY:Holiday Sale at Bellview Grange
DESCRIPTION:
URL:https://orgrange.org/event/holiday-sale-at-bellview-grange/2025-11-29/
LOCATION:Bellview Grange 759 Hall\, 1050 Tolman Creek Rd\, Ashland\, OR\, 97520\, United States
CATEGORIES:Community Grange Event
END:VEVENT
BEGIN:VEVENT
DTSTART;TZID=America/Los_Angeles:20251128T110000
DTEND;TZID=America/Los_Angeles:20251128T163000
DTSTAMP:20260419T143622
CREATED:20251101T140706Z
LAST-MODIFIED:20251101T140706Z
UID:10004093-1764327600-1764347400@orgrange.org
SUMMARY:Blood Drive at Sunnyside Grange
DESCRIPTION:
URL:https://orgrange.org/event/blood-drive-at-sunnyside-grange/
LOCATION:Sunnyside Grange 842 Hall\, 13130 SE Sunnyside Rd\, Clackamas\, OR\, 97015\, United States
CATEGORIES:Community Grange Event,Sponsored community benefit event
END:VEVENT
BEGIN:VEVENT
DTSTART;TZID=America/Los_Angeles:20251127T150000
DTEND;TZID=America/Los_Angeles:20251127T173000
DTSTAMP:20260419T143622
CREATED:20251108T174224Z
LAST-MODIFIED:20251108T174224Z
UID:10004225-1764255600-1764264600@orgrange.org
SUMMARY:Thanksgiving Dinner at Pleasant Grove Grange
DESCRIPTION:
URL:https://orgrange.org/event/thanksgiving-dinner-at-pleasant-grove-grange-2/
LOCATION:Pleasant Grove Grange 475\, 67218 Hunter Rd\, Summerville\, OR\, 97876\, United States
CATEGORIES:Community Grange Event
END:VEVENT
BEGIN:VEVENT
DTSTART;TZID=America/Los_Angeles:20251125T160000
DTEND;TZID=America/Los_Angeles:20251125T190000
DTSTAMP:20260419T143622
CREATED:20251110T140854Z
LAST-MODIFIED:20251110T140948Z
UID:10004232-1764086400-1764097200@orgrange.org
SUMMARY:Thanksgiving Dinner at Frog Pond Grange
DESCRIPTION:
URL:https://orgrange.org/event/thanksgive-dinner-at-frog-pond-grange/
LOCATION:Frogpond Grange 111 Hall\, 27350 SW Stafford Rd\, Wilsonville\, OR\, 97070\, United States
CATEGORIES:Community Grange Event
END:VEVENT
BEGIN:VEVENT
DTSTART;TZID=America/Los_Angeles:20251123T130000
DTEND;TZID=America/Los_Angeles:20251123T143000
DTSTAMP:20260419T143622
CREATED:20251112T151628Z
LAST-MODIFIED:20251112T153154Z
UID:10004295-1763902800-1763908200@orgrange.org
SUMMARY:Thanksgiving open house and potluck at London Grange
DESCRIPTION:London Grange #937 \nFacebook for more info:  https://www.facebook.com/LondonGrange/posts/pfbid0Rm1fvFghTzRFnkasVP7RQLBxXRN1L9G22XBC8XBSYaw9JARjUs2d7yR2xh1MdrRtl?__cft__%5b0%5d=AZXAAcPGsZTPq1wuiER2_R_j96xavTuZckWQcFDaMm4M1f22aBDPinX7E7qUxjJYWc1qcjS5Rw4B36k00roRo_zPqZt6Fy7sIFXTHEvFHgkmQYNPbEmN1rahW2ampE0nQzE0wT9_TQtQX-ho7mQTpcPTbKUZlezE0kq5AHfshrFl8h7LDzoxMaJK7tQo2m7P06AocUilmsxxjPq9cUmSVhci&__tn__=%2CO%2CP-R \nSave The Date! London Grange # 937 will be holding their annual Thanksgiving Community Open House and Potluck on Sunday Nov 23 at 1:00. \nThe Grange will provide the turkey\, ham\, mashed potatoes\, gravy and dressing . Please bring a dish to share. Come join your neighbors for a wonderful feast. \n72746 London Rd. Cottage Grove mp10. Any questions\, please call Alice at 541-942-6148.
URL:https://orgrange.org/event/thanksgiving-open-house-and-potluck-at-london-grange/
LOCATION:London Grange 937\, 72746 London Road\, Cottage Grove\, OR\, 97424\, United States
CATEGORIES:Community Grange Event
END:VEVENT
END:VCALENDAR