BEGIN:VCALENDAR
VERSION:2.0
PRODID:-//Oregon State Grange - ECPv6.15.17.1//NONSGML v1.0//EN
CALSCALE:GREGORIAN
METHOD:PUBLISH
X-ORIGINAL-URL:https://orgrange.org
X-WR-CALDESC:Events for Oregon State Grange
REFRESH-INTERVAL;VALUE=DURATION:PT1H
X-Robots-Tag:noindex
X-PUBLISHED-TTL:PT1H
BEGIN:VTIMEZONE
TZID:America/Los_Angeles
BEGIN:DAYLIGHT
TZOFFSETFROM:-0800
TZOFFSETTO:-0700
TZNAME:PDT
DTSTART:20260308T100000
END:DAYLIGHT
BEGIN:STANDARD
TZOFFSETFROM:-0700
TZOFFSETTO:-0800
TZNAME:PST
DTSTART:20261101T090000
END:STANDARD
BEGIN:DAYLIGHT
TZOFFSETFROM:-0800
TZOFFSETTO:-0700
TZNAME:PDT
DTSTART:20270314T100000
END:DAYLIGHT
BEGIN:STANDARD
TZOFFSETFROM:-0700
TZOFFSETTO:-0800
TZNAME:PST
DTSTART:20271107T090000
END:STANDARD
BEGIN:DAYLIGHT
TZOFFSETFROM:-0800
TZOFFSETTO:-0700
TZNAME:PDT
DTSTART:20280312T100000
END:DAYLIGHT
BEGIN:STANDARD
TZOFFSETFROM:-0700
TZOFFSETTO:-0800
TZNAME:PST
DTSTART:20281105T090000
END:STANDARD
END:VTIMEZONE
BEGIN:VEVENT
DTSTART;TZID=America/Los_Angeles:20270101T090000
DTEND;TZID=America/Los_Angeles:20270101T103000
DTSTAMP:20260425T083041
CREATED:20251110T144740Z
LAST-MODIFIED:20251113T050933Z
UID:10004294-1798794000-1798799400@orgrange.org
SUMMARY:Walk the Hall at Wickiup
DESCRIPTION:
URL:https://orgrange.org/event/walk-the-hall-at-wickiup/2027-01-01/
LOCATION:Wickiup Grange 722 Hall\, 92683 Svensen Market Rd\, Astoria\, OR\, 97103\, United States
CATEGORIES:Community Grange Event
END:VEVENT
BEGIN:VEVENT
DTSTART;TZID=America/Los_Angeles:20270101T090000
DTEND;TZID=America/Los_Angeles:20270101T103000
DTSTAMP:20260425T083041
CREATED:20260110T053544Z
LAST-MODIFIED:20260110T053544Z
UID:10004757-1798794000-1798799400@orgrange.org
SUMMARY:Zumba at Maplewood Grange
DESCRIPTION:Zumba with Cristine \n9-10:30 and 6-7:30 \nMonday thru Friday \n503-914-9561
URL:https://orgrange.org/event/zumba-at-maplewood-grange/2027-01-01/
LOCATION:Maplewood Grange 662 Hall\, 25480 S Hwy 99E\, Aurora\, OR\, 97002\, United States
CATEGORIES:Community Grange Event,Sponsored community benefit event
END:VEVENT
BEGIN:VEVENT
DTSTART;TZID=America/Los_Angeles:20270101T090000
DTEND;TZID=America/Los_Angeles:20270101T160000
DTSTAMP:20260425T083041
CREATED:20250705T162857Z
LAST-MODIFIED:20250705T162857Z
UID:10002912-1798794000-1798819200@orgrange.org
SUMMARY:Community Flea Market and Craft Fair at Pacific Grange
DESCRIPTION:
URL:https://orgrange.org/event/community-flea-market-and-craft-fair-at-pacific-grange/2027-01-01/
LOCATION:Pacific Grange 413 Hall\, 90475 Alt Hwy 101\, Astoria\, OR\, 97103\, United States
CATEGORIES:Community Grange Event
END:VEVENT
BEGIN:VEVENT
DTSTART;TZID=America/Los_Angeles:20270101T193000
DTEND;TZID=America/Los_Angeles:20270101T223000
DTSTAMP:20260425T083041
CREATED:20260227T155236Z
LAST-MODIFIED:20260227T155236Z
UID:10005048-1798831800-1798842600@orgrange.org
SUMMARY:Dance at McMinnville Grange
DESCRIPTION:
URL:https://orgrange.org/event/dance-at-mcminnville-grange/2027-01-01/
LOCATION:McMinnville Grange 31\, 1700 Old Sheridan Rd\, McMinnville\, OR\, 97128\, United States
CATEGORIES:Community Grange Event
END:VEVENT
BEGIN:VEVENT
DTSTART;TZID=America/Los_Angeles:20270103T073000
DTEND;TZID=America/Los_Angeles:20270103T083000
DTSTAMP:20260425T083041
CREATED:20260416T151647Z
LAST-MODIFIED:20260416T151647Z
UID:10005311-1798961400-1798965000@orgrange.org
SUMMARY:Tai Chi at Rockford Grange
DESCRIPTION:
URL:https://orgrange.org/event/tai-chi-at-rockford-grange/2027-01-03/
LOCATION:Rockford Grange 501\, 4262 Barrett Dr\, Hood River\, OR\, 97031\, United States
CATEGORIES:Community Grange Event
END:VEVENT
BEGIN:VEVENT
DTSTART;TZID=America/Los_Angeles:20270103T080000
DTEND;TZID=America/Los_Angeles:20270103T170000
DTSTAMP:20260425T083041
CREATED:20260213T164436Z
LAST-MODIFIED:20260213T164436Z
UID:10004964-1798963200-1798995600@orgrange.org
SUMMARY:Farmers market sign up at Winona Grange
DESCRIPTION:
URL:https://orgrange.org/event/farmers-market-sign-up-at-winona-grange/2027-01-03/
LOCATION:Winona Grange 271\, 8340 SW Seneca Street\, Tualatin\, OR\, 97062\, United States
CATEGORIES:Community Grange Event
END:VEVENT
BEGIN:VEVENT
DTSTART;TZID=America/Los_Angeles:20270104T090000
DTEND;TZID=America/Los_Angeles:20270104T103000
DTSTAMP:20260425T083041
CREATED:20260110T053544Z
LAST-MODIFIED:20260110T053544Z
UID:10004758-1799053200-1799058600@orgrange.org
SUMMARY:Zumba at Maplewood Grange
DESCRIPTION:Zumba with Cristine \n9-10:30 and 6-7:30 \nMonday thru Friday \n503-914-9561
URL:https://orgrange.org/event/zumba-at-maplewood-grange/2027-01-04/
LOCATION:Maplewood Grange 662 Hall\, 25480 S Hwy 99E\, Aurora\, OR\, 97002\, United States
CATEGORIES:Community Grange Event,Sponsored community benefit event
END:VEVENT
BEGIN:VEVENT
DTSTART;TZID=America/Los_Angeles:20270104T110000
DTEND;TZID=America/Los_Angeles:20270104T120000
DTSTAMP:20260425T083041
CREATED:20260110T052722Z
LAST-MODIFIED:20260110T052722Z
UID:10004502-1799060400-1799064000@orgrange.org
SUMMARY:Tai Chi Walking at Camas Valley Grange
DESCRIPTION:
URL:https://orgrange.org/event/tai-chi-walking-at-camas-valley-grange/2027-01-04/
LOCATION:Camas Valley Grange 521 Hall\, 321 S Camas Rd\, Camas Valley\, OR\, 97416\, United States
CATEGORIES:Community Grange Event,Sponsored community benefit event
END:VEVENT
BEGIN:VEVENT
DTSTART;TZID=America/Los_Angeles:20270104T190000
DTEND;TZID=America/Los_Angeles:20270104T203000
DTSTAMP:20260425T083041
CREATED:20251221T154853Z
LAST-MODIFIED:20251221T154853Z
UID:10004401-1799089200-1799094600@orgrange.org
SUMMARY:Dance classes at McMinnville Grange
DESCRIPTION:
URL:https://orgrange.org/event/dance-classes-at-mcminnville-grange/2027-01-04/
LOCATION:McMinnville Grange 31\, 1700 Old Sheridan Rd\, McMinnville\, OR\, 97128\, United States
CATEGORIES:Community Grange Event
END:VEVENT
BEGIN:VEVENT
DTSTART;TZID=America/Los_Angeles:20270105T090000
DTEND;TZID=America/Los_Angeles:20270105T103000
DTSTAMP:20260425T083041
CREATED:20260110T053544Z
LAST-MODIFIED:20260110T053544Z
UID:10004759-1799139600-1799145000@orgrange.org
SUMMARY:Zumba at Maplewood Grange
DESCRIPTION:Zumba with Cristine \n9-10:30 and 6-7:30 \nMonday thru Friday \n503-914-9561
URL:https://orgrange.org/event/zumba-at-maplewood-grange/2027-01-05/
LOCATION:Maplewood Grange 662 Hall\, 25480 S Hwy 99E\, Aurora\, OR\, 97002\, United States
CATEGORIES:Community Grange Event,Sponsored community benefit event
END:VEVENT
BEGIN:VEVENT
DTSTART;TZID=America/Los_Angeles:20270106T090000
DTEND;TZID=America/Los_Angeles:20270106T103000
DTSTAMP:20260425T083041
CREATED:20260110T053544Z
LAST-MODIFIED:20260110T053544Z
UID:10004760-1799226000-1799231400@orgrange.org
SUMMARY:Zumba at Maplewood Grange
DESCRIPTION:Zumba with Cristine \n9-10:30 and 6-7:30 \nMonday thru Friday \n503-914-9561
URL:https://orgrange.org/event/zumba-at-maplewood-grange/2027-01-06/
LOCATION:Maplewood Grange 662 Hall\, 25480 S Hwy 99E\, Aurora\, OR\, 97002\, United States
CATEGORIES:Community Grange Event,Sponsored community benefit event
END:VEVENT
BEGIN:VEVENT
DTSTART;TZID=America/Los_Angeles:20270106T123000
DTEND;TZID=America/Los_Angeles:20270106T133000
DTSTAMP:20260425T083041
CREATED:20260416T152026Z
LAST-MODIFIED:20260416T152026Z
UID:10005400-1799238600-1799242200@orgrange.org
SUMMARY:Tai Chi at Rockford Grange
DESCRIPTION:
URL:https://orgrange.org/event/tai-chi-at-rockford-grange-2/2027-01-06/
LOCATION:Rockford Grange 501\, 4262 Barrett Dr\, Hood River\, OR\, 97031\, United States
CATEGORIES:Community Grange Event
END:VEVENT
BEGIN:VEVENT
DTSTART;TZID=America/Los_Angeles:20270107T090000
DTEND;TZID=America/Los_Angeles:20270107T103000
DTSTAMP:20260425T083041
CREATED:20260110T053544Z
LAST-MODIFIED:20260110T053544Z
UID:10004761-1799312400-1799317800@orgrange.org
SUMMARY:Zumba at Maplewood Grange
DESCRIPTION:Zumba with Cristine \n9-10:30 and 6-7:30 \nMonday thru Friday \n503-914-9561
URL:https://orgrange.org/event/zumba-at-maplewood-grange/2027-01-07/
LOCATION:Maplewood Grange 662 Hall\, 25480 S Hwy 99E\, Aurora\, OR\, 97002\, United States
CATEGORIES:Community Grange Event,Sponsored community benefit event
END:VEVENT
BEGIN:VEVENT
DTSTART;TZID=America/Los_Angeles:20270108T090000
DTEND;TZID=America/Los_Angeles:20270108T103000
DTSTAMP:20260425T083041
CREATED:20260110T053544Z
LAST-MODIFIED:20260110T053544Z
UID:10004762-1799398800-1799404200@orgrange.org
SUMMARY:Zumba at Maplewood Grange
DESCRIPTION:Zumba with Cristine \n9-10:30 and 6-7:30 \nMonday thru Friday \n503-914-9561
URL:https://orgrange.org/event/zumba-at-maplewood-grange/2027-01-08/
LOCATION:Maplewood Grange 662 Hall\, 25480 S Hwy 99E\, Aurora\, OR\, 97002\, United States
CATEGORIES:Community Grange Event,Sponsored community benefit event
END:VEVENT
BEGIN:VEVENT
DTSTART;TZID=America/Los_Angeles:20270108T193000
DTEND;TZID=America/Los_Angeles:20270108T223000
DTSTAMP:20260425T083041
CREATED:20260227T155236Z
LAST-MODIFIED:20260227T155236Z
UID:10005049-1799436600-1799447400@orgrange.org
SUMMARY:Dance at McMinnville Grange
DESCRIPTION:
URL:https://orgrange.org/event/dance-at-mcminnville-grange/2027-01-08/
LOCATION:McMinnville Grange 31\, 1700 Old Sheridan Rd\, McMinnville\, OR\, 97128\, United States
CATEGORIES:Community Grange Event
END:VEVENT
BEGIN:VEVENT
DTSTART;TZID=America/Los_Angeles:20270109T090000
DTEND;TZID=America/Los_Angeles:20270109T103000
DTSTAMP:20260425T083041
CREATED:20260110T053544Z
LAST-MODIFIED:20260110T053544Z
UID:10004763-1799485200-1799490600@orgrange.org
SUMMARY:Zumba at Maplewood Grange
DESCRIPTION:Zumba with Cristine \n9-10:30 and 6-7:30 \nMonday thru Friday \n503-914-9561
URL:https://orgrange.org/event/zumba-at-maplewood-grange/2027-01-09/
LOCATION:Maplewood Grange 662 Hall\, 25480 S Hwy 99E\, Aurora\, OR\, 97002\, United States
CATEGORIES:Community Grange Event,Sponsored community benefit event
END:VEVENT
BEGIN:VEVENT
DTSTART;TZID=America/Los_Angeles:20270110T073000
DTEND;TZID=America/Los_Angeles:20270110T083000
DTSTAMP:20260425T083041
CREATED:20260416T151647Z
LAST-MODIFIED:20260416T151647Z
UID:10005312-1799566200-1799569800@orgrange.org
SUMMARY:Tai Chi at Rockford Grange
DESCRIPTION:
URL:https://orgrange.org/event/tai-chi-at-rockford-grange/2027-01-10/
LOCATION:Rockford Grange 501\, 4262 Barrett Dr\, Hood River\, OR\, 97031\, United States
CATEGORIES:Community Grange Event
END:VEVENT
BEGIN:VEVENT
DTSTART;TZID=America/Los_Angeles:20270110T080000
DTEND;TZID=America/Los_Angeles:20270110T170000
DTSTAMP:20260425T083041
CREATED:20260213T164436Z
LAST-MODIFIED:20260213T164436Z
UID:10004965-1799568000-1799600400@orgrange.org
SUMMARY:Farmers market sign up at Winona Grange
DESCRIPTION:
URL:https://orgrange.org/event/farmers-market-sign-up-at-winona-grange/2027-01-10/
LOCATION:Winona Grange 271\, 8340 SW Seneca Street\, Tualatin\, OR\, 97062\, United States
CATEGORIES:Community Grange Event
END:VEVENT
BEGIN:VEVENT
DTSTART;TZID=America/Los_Angeles:20270110T090000
DTEND;TZID=America/Los_Angeles:20270110T103000
DTSTAMP:20260425T083041
CREATED:20260110T053544Z
LAST-MODIFIED:20260110T053544Z
UID:10004764-1799571600-1799577000@orgrange.org
SUMMARY:Zumba at Maplewood Grange
DESCRIPTION:Zumba with Cristine \n9-10:30 and 6-7:30 \nMonday thru Friday \n503-914-9561
URL:https://orgrange.org/event/zumba-at-maplewood-grange/2027-01-10/
LOCATION:Maplewood Grange 662 Hall\, 25480 S Hwy 99E\, Aurora\, OR\, 97002\, United States
CATEGORIES:Community Grange Event,Sponsored community benefit event
END:VEVENT
BEGIN:VEVENT
DTSTART;TZID=America/Los_Angeles:20270111T090000
DTEND;TZID=America/Los_Angeles:20270111T103000
DTSTAMP:20260425T083041
CREATED:20260110T053544Z
LAST-MODIFIED:20260110T053544Z
UID:10004765-1799658000-1799663400@orgrange.org
SUMMARY:Zumba at Maplewood Grange
DESCRIPTION:Zumba with Cristine \n9-10:30 and 6-7:30 \nMonday thru Friday \n503-914-9561
URL:https://orgrange.org/event/zumba-at-maplewood-grange/2027-01-11/
LOCATION:Maplewood Grange 662 Hall\, 25480 S Hwy 99E\, Aurora\, OR\, 97002\, United States
CATEGORIES:Community Grange Event,Sponsored community benefit event
END:VEVENT
BEGIN:VEVENT
DTSTART;TZID=America/Los_Angeles:20270111T190000
DTEND;TZID=America/Los_Angeles:20270111T203000
DTSTAMP:20260425T083041
CREATED:20251221T154853Z
LAST-MODIFIED:20251221T154853Z
UID:10004402-1799694000-1799699400@orgrange.org
SUMMARY:Dance classes at McMinnville Grange
DESCRIPTION:
URL:https://orgrange.org/event/dance-classes-at-mcminnville-grange/2027-01-11/
LOCATION:McMinnville Grange 31\, 1700 Old Sheridan Rd\, McMinnville\, OR\, 97128\, United States
CATEGORIES:Community Grange Event
END:VEVENT
BEGIN:VEVENT
DTSTART;TZID=America/Los_Angeles:20270112T090000
DTEND;TZID=America/Los_Angeles:20270112T103000
DTSTAMP:20260425T083041
CREATED:20260110T053544Z
LAST-MODIFIED:20260110T053544Z
UID:10004766-1799744400-1799749800@orgrange.org
SUMMARY:Zumba at Maplewood Grange
DESCRIPTION:Zumba with Cristine \n9-10:30 and 6-7:30 \nMonday thru Friday \n503-914-9561
URL:https://orgrange.org/event/zumba-at-maplewood-grange/2027-01-12/
LOCATION:Maplewood Grange 662 Hall\, 25480 S Hwy 99E\, Aurora\, OR\, 97002\, United States
CATEGORIES:Community Grange Event,Sponsored community benefit event
END:VEVENT
BEGIN:VEVENT
DTSTART;TZID=America/Los_Angeles:20270113T123000
DTEND;TZID=America/Los_Angeles:20270113T133000
DTSTAMP:20260425T083041
CREATED:20260416T152026Z
LAST-MODIFIED:20260416T152026Z
UID:10005401-1799843400-1799847000@orgrange.org
SUMMARY:Tai Chi at Rockford Grange
DESCRIPTION:
URL:https://orgrange.org/event/tai-chi-at-rockford-grange-2/2027-01-13/
LOCATION:Rockford Grange 501\, 4262 Barrett Dr\, Hood River\, OR\, 97031\, United States
CATEGORIES:Community Grange Event
END:VEVENT
BEGIN:VEVENT
DTSTART;TZID=America/Los_Angeles:20270115T193000
DTEND;TZID=America/Los_Angeles:20270115T223000
DTSTAMP:20260425T083041
CREATED:20260227T155236Z
LAST-MODIFIED:20260227T155236Z
UID:10005050-1800041400-1800052200@orgrange.org
SUMMARY:Dance at McMinnville Grange
DESCRIPTION:
URL:https://orgrange.org/event/dance-at-mcminnville-grange/2027-01-15/
LOCATION:McMinnville Grange 31\, 1700 Old Sheridan Rd\, McMinnville\, OR\, 97128\, United States
CATEGORIES:Community Grange Event
END:VEVENT
BEGIN:VEVENT
DTSTART;TZID=America/Los_Angeles:20270117T073000
DTEND;TZID=America/Los_Angeles:20270117T083000
DTSTAMP:20260425T083041
CREATED:20260416T151647Z
LAST-MODIFIED:20260416T151647Z
UID:10005313-1800171000-1800174600@orgrange.org
SUMMARY:Tai Chi at Rockford Grange
DESCRIPTION:
URL:https://orgrange.org/event/tai-chi-at-rockford-grange/2027-01-17/
LOCATION:Rockford Grange 501\, 4262 Barrett Dr\, Hood River\, OR\, 97031\, United States
CATEGORIES:Community Grange Event
END:VEVENT
BEGIN:VEVENT
DTSTART;TZID=America/Los_Angeles:20270117T080000
DTEND;TZID=America/Los_Angeles:20270117T170000
DTSTAMP:20260425T083041
CREATED:20260213T164436Z
LAST-MODIFIED:20260213T164436Z
UID:10004966-1800172800-1800205200@orgrange.org
SUMMARY:Farmers market sign up at Winona Grange
DESCRIPTION:
URL:https://orgrange.org/event/farmers-market-sign-up-at-winona-grange/2027-01-17/
LOCATION:Winona Grange 271\, 8340 SW Seneca Street\, Tualatin\, OR\, 97062\, United States
CATEGORIES:Community Grange Event
END:VEVENT
BEGIN:VEVENT
DTSTART;TZID=America/Los_Angeles:20270118T190000
DTEND;TZID=America/Los_Angeles:20270118T203000
DTSTAMP:20260425T083041
CREATED:20251221T154853Z
LAST-MODIFIED:20251221T154853Z
UID:10004403-1800298800-1800304200@orgrange.org
SUMMARY:Dance classes at McMinnville Grange
DESCRIPTION:
URL:https://orgrange.org/event/dance-classes-at-mcminnville-grange/2027-01-18/
LOCATION:McMinnville Grange 31\, 1700 Old Sheridan Rd\, McMinnville\, OR\, 97128\, United States
CATEGORIES:Community Grange Event
END:VEVENT
BEGIN:VEVENT
DTSTART;TZID=America/Los_Angeles:20270120T123000
DTEND;TZID=America/Los_Angeles:20270120T133000
DTSTAMP:20260425T083041
CREATED:20260416T152026Z
LAST-MODIFIED:20260416T152026Z
UID:10005402-1800448200-1800451800@orgrange.org
SUMMARY:Tai Chi at Rockford Grange
DESCRIPTION:
URL:https://orgrange.org/event/tai-chi-at-rockford-grange-2/2027-01-20/
LOCATION:Rockford Grange 501\, 4262 Barrett Dr\, Hood River\, OR\, 97031\, United States
CATEGORIES:Community Grange Event
END:VEVENT
BEGIN:VEVENT
DTSTART;TZID=America/Los_Angeles:20270122T193000
DTEND;TZID=America/Los_Angeles:20270122T223000
DTSTAMP:20260425T083041
CREATED:20260227T155236Z
LAST-MODIFIED:20260227T155236Z
UID:10005051-1800646200-1800657000@orgrange.org
SUMMARY:Dance at McMinnville Grange
DESCRIPTION:
URL:https://orgrange.org/event/dance-at-mcminnville-grange/2027-01-22/
LOCATION:McMinnville Grange 31\, 1700 Old Sheridan Rd\, McMinnville\, OR\, 97128\, United States
CATEGORIES:Community Grange Event
END:VEVENT
BEGIN:VEVENT
DTSTART;TZID=America/Los_Angeles:20270124T073000
DTEND;TZID=America/Los_Angeles:20270124T083000
DTSTAMP:20260425T083041
CREATED:20260416T151647Z
LAST-MODIFIED:20260416T151647Z
UID:10005314-1800775800-1800779400@orgrange.org
SUMMARY:Tai Chi at Rockford Grange
DESCRIPTION:
URL:https://orgrange.org/event/tai-chi-at-rockford-grange/2027-01-24/
LOCATION:Rockford Grange 501\, 4262 Barrett Dr\, Hood River\, OR\, 97031\, United States
CATEGORIES:Community Grange Event
END:VEVENT
END:VCALENDAR