BEGIN:VCALENDAR
VERSION:2.0
PRODID:-//Oregon State Grange - ECPv6.15.17.1//NONSGML v1.0//EN
CALSCALE:GREGORIAN
METHOD:PUBLISH
X-WR-CALNAME:Oregon State Grange
X-ORIGINAL-URL:https://orgrange.org
X-WR-CALDESC:Events for Oregon State Grange
REFRESH-INTERVAL;VALUE=DURATION:PT1H
X-Robots-Tag:noindex
X-PUBLISHED-TTL:PT1H
BEGIN:VTIMEZONE
TZID:America/Los_Angeles
BEGIN:DAYLIGHT
TZOFFSETFROM:-0800
TZOFFSETTO:-0700
TZNAME:PDT
DTSTART:20250309T100000
END:DAYLIGHT
BEGIN:STANDARD
TZOFFSETFROM:-0700
TZOFFSETTO:-0800
TZNAME:PST
DTSTART:20251102T090000
END:STANDARD
BEGIN:DAYLIGHT
TZOFFSETFROM:-0800
TZOFFSETTO:-0700
TZNAME:PDT
DTSTART:20260308T100000
END:DAYLIGHT
BEGIN:STANDARD
TZOFFSETFROM:-0700
TZOFFSETTO:-0800
TZNAME:PST
DTSTART:20261101T090000
END:STANDARD
BEGIN:DAYLIGHT
TZOFFSETFROM:-0800
TZOFFSETTO:-0700
TZNAME:PDT
DTSTART:20270314T100000
END:DAYLIGHT
BEGIN:STANDARD
TZOFFSETFROM:-0700
TZOFFSETTO:-0800
TZNAME:PST
DTSTART:20271107T090000
END:STANDARD
END:VTIMEZONE
BEGIN:VEVENT
DTSTART;TZID=America/Los_Angeles:20261201T090000
DTEND;TZID=America/Los_Angeles:20261201T103000
DTSTAMP:20260425T053820
CREATED:20260110T053544Z
LAST-MODIFIED:20260110T053544Z
UID:10004734-1796115600-1796121000@orgrange.org
SUMMARY:Zumba at Maplewood Grange
DESCRIPTION:Zumba with Cristine \n9-10:30 and 6-7:30 \nMonday thru Friday \n503-914-9561
URL:https://orgrange.org/event/zumba-at-maplewood-grange/2026-12-01/
LOCATION:Maplewood Grange 662 Hall\, 25480 S Hwy 99E\, Aurora\, OR\, 97002\, United States
CATEGORIES:Community Grange Event,Sponsored community benefit event
END:VEVENT
BEGIN:VEVENT
DTSTART;TZID=America/Los_Angeles:20261201T183000
DTEND;TZID=America/Los_Angeles:20261201T213000
DTSTAMP:20260425T053820
CREATED:20250830T051006Z
LAST-MODIFIED:20250830T051006Z
UID:10003847-1796149800-1796160600@orgrange.org
SUMMARY:Jam Session Tuesdays at Hope Grange
DESCRIPTION:
URL:https://orgrange.org/event/jam-session-tuesdays-at-hope-grange/2026-12-01/
LOCATION:Hope Grange 269 Hall\, 27373 Alsea Deadwood Hwy\, Alsea\, OR\, 97324\, United States
CATEGORIES:Community Grange Event
END:VEVENT
BEGIN:VEVENT
DTSTART;TZID=America/Los_Angeles:20261202T090000
DTEND;TZID=America/Los_Angeles:20261202T103000
DTSTAMP:20260425T053820
CREATED:20260110T053544Z
LAST-MODIFIED:20260110T053544Z
UID:10004735-1796202000-1796207400@orgrange.org
SUMMARY:Zumba at Maplewood Grange
DESCRIPTION:Zumba with Cristine \n9-10:30 and 6-7:30 \nMonday thru Friday \n503-914-9561
URL:https://orgrange.org/event/zumba-at-maplewood-grange/2026-12-02/
LOCATION:Maplewood Grange 662 Hall\, 25480 S Hwy 99E\, Aurora\, OR\, 97002\, United States
CATEGORIES:Community Grange Event,Sponsored community benefit event
END:VEVENT
BEGIN:VEVENT
DTSTART;TZID=America/Los_Angeles:20261202T123000
DTEND;TZID=America/Los_Angeles:20261202T133000
DTSTAMP:20260425T053820
CREATED:20260416T152026Z
LAST-MODIFIED:20260416T152026Z
UID:10005395-1796214600-1796218200@orgrange.org
SUMMARY:Tai Chi at Rockford Grange
DESCRIPTION:
URL:https://orgrange.org/event/tai-chi-at-rockford-grange-2/2026-12-02/
LOCATION:Rockford Grange 501\, 4262 Barrett Dr\, Hood River\, OR\, 97031\, United States
CATEGORIES:Community Grange Event
END:VEVENT
BEGIN:VEVENT
DTSTART;TZID=America/Los_Angeles:20261202T123000
DTEND;TZID=America/Los_Angeles:20261202T140000
DTSTAMP:20260425T053820
CREATED:20260408T041424Z
LAST-MODIFIED:20260408T041424Z
UID:10005255-1796214600-1796220000@orgrange.org
SUMMARY:Food Pantry (free) at Williams Grange
DESCRIPTION:
URL:https://orgrange.org/event/food-pantry-free-at-williams-grange/2026-12-02/
LOCATION:Williams Grange 399 Hall\, 20100 Williams Hwy\, Williams\, OR\, United States
CATEGORIES:Community Grange Event,Sponsored community benefit event
END:VEVENT
BEGIN:VEVENT
DTSTART;TZID=America/Los_Angeles:20261203T090000
DTEND;TZID=America/Los_Angeles:20261203T103000
DTSTAMP:20260425T053820
CREATED:20260110T053544Z
LAST-MODIFIED:20260110T053544Z
UID:10004736-1796288400-1796293800@orgrange.org
SUMMARY:Zumba at Maplewood Grange
DESCRIPTION:Zumba with Cristine \n9-10:30 and 6-7:30 \nMonday thru Friday \n503-914-9561
URL:https://orgrange.org/event/zumba-at-maplewood-grange/2026-12-03/
LOCATION:Maplewood Grange 662 Hall\, 25480 S Hwy 99E\, Aurora\, OR\, 97002\, United States
CATEGORIES:Community Grange Event,Sponsored community benefit event
END:VEVENT
BEGIN:VEVENT
DTSTART;TZID=America/Los_Angeles:20261203T100000
DTEND;TZID=America/Los_Angeles:20261203T110000
DTSTAMP:20260425T053820
CREATED:20260206T061012Z
LAST-MODIFIED:20260206T061023Z
UID:10004216-1796292000-1796295600@orgrange.org
SUMMARY:Yoga in Cottage Grove at Row River Grange
DESCRIPTION:
URL:https://orgrange.org/event/yoga-in-cottage-grove-at-row-river-grange-2/2026-12-03/
LOCATION:Row River 835\, 34360 Row River Rd\, Cottage Grove\, OR\, 97424\, United States
CATEGORIES:Community Grange Event
END:VEVENT
BEGIN:VEVENT
DTSTART;TZID=America/Los_Angeles:20261203T100000
DTEND;TZID=America/Los_Angeles:20261203T110000
DTSTAMP:20260425T053820
CREATED:20260206T142417Z
LAST-MODIFIED:20260206T142417Z
UID:10004906-1796292000-1796295600@orgrange.org
SUMMARY:
DESCRIPTION:
URL:https://orgrange.org/event/7602/2026-12-03/
LOCATION:Salmon River Grange 516\, 5371 Salmon River Hwy\, Otis\, OR\, 97368\, United States
CATEGORIES:Community Grange Event
END:VEVENT
BEGIN:VEVENT
DTSTART;TZID=America/Los_Angeles:20261203T173000
DTEND;TZID=America/Los_Angeles:20261203T183000
DTSTAMP:20260425T053820
CREATED:20250207T061915Z
LAST-MODIFIED:20250207T061915Z
UID:10002343-1796319000-1796322600@orgrange.org
SUMMARY:Pilates and Yoga at Row River Grange
DESCRIPTION:Row
URL:https://orgrange.org/event/pilates-and-yoga-at-row-river-grange/2026-12-03/
LOCATION:Row River 835\, 34360 Row River Rd\, Cottage Grove\, OR\, 97424\, United States
CATEGORIES:Community Grange Event
END:VEVENT
BEGIN:VEVENT
DTSTART;TZID=America/Los_Angeles:20261204T090000
DTEND;TZID=America/Los_Angeles:20261204T103000
DTSTAMP:20260425T053820
CREATED:20251110T144740Z
LAST-MODIFIED:20251113T050933Z
UID:10004290-1796374800-1796380200@orgrange.org
SUMMARY:Walk the Hall at Wickiup
DESCRIPTION:
URL:https://orgrange.org/event/walk-the-hall-at-wickiup/2026-12-04/
LOCATION:Wickiup Grange 722 Hall\, 92683 Svensen Market Rd\, Astoria\, OR\, 97103\, United States
CATEGORIES:Community Grange Event
END:VEVENT
BEGIN:VEVENT
DTSTART;TZID=America/Los_Angeles:20261204T090000
DTEND;TZID=America/Los_Angeles:20261204T103000
DTSTAMP:20260425T053820
CREATED:20260110T053544Z
LAST-MODIFIED:20260110T053544Z
UID:10004737-1796374800-1796380200@orgrange.org
SUMMARY:Zumba at Maplewood Grange
DESCRIPTION:Zumba with Cristine \n9-10:30 and 6-7:30 \nMonday thru Friday \n503-914-9561
URL:https://orgrange.org/event/zumba-at-maplewood-grange/2026-12-04/
LOCATION:Maplewood Grange 662 Hall\, 25480 S Hwy 99E\, Aurora\, OR\, 97002\, United States
CATEGORIES:Community Grange Event,Sponsored community benefit event
END:VEVENT
BEGIN:VEVENT
DTSTART;TZID=America/Los_Angeles:20261204T090000
DTEND;TZID=America/Los_Angeles:20261204T160000
DTSTAMP:20260425T053820
CREATED:20250705T162857Z
LAST-MODIFIED:20250705T162857Z
UID:10002911-1796374800-1796400000@orgrange.org
SUMMARY:Community Flea Market and Craft Fair at Pacific Grange
DESCRIPTION:
URL:https://orgrange.org/event/community-flea-market-and-craft-fair-at-pacific-grange/2026-12-04/
LOCATION:Pacific Grange 413 Hall\, 90475 Alt Hwy 101\, Astoria\, OR\, 97103\, United States
CATEGORIES:Community Grange Event
END:VEVENT
BEGIN:VEVENT
DTSTART;TZID=America/Los_Angeles:20261204T193000
DTEND;TZID=America/Los_Angeles:20261204T223000
DTSTAMP:20260425T053820
CREATED:20260227T155236Z
LAST-MODIFIED:20260227T155236Z
UID:10005044-1796412600-1796423400@orgrange.org
SUMMARY:Dance at McMinnville Grange
DESCRIPTION:
URL:https://orgrange.org/event/dance-at-mcminnville-grange/2026-12-04/
LOCATION:McMinnville Grange 31\, 1700 Old Sheridan Rd\, McMinnville\, OR\, 97128\, United States
CATEGORIES:Community Grange Event
END:VEVENT
BEGIN:VEVENT
DTSTART;TZID=America/Los_Angeles:20261206T073000
DTEND;TZID=America/Los_Angeles:20261206T083000
DTSTAMP:20260425T053820
CREATED:20260416T151647Z
LAST-MODIFIED:20260416T151647Z
UID:10005307-1796542200-1796545800@orgrange.org
SUMMARY:Tai Chi at Rockford Grange
DESCRIPTION:
URL:https://orgrange.org/event/tai-chi-at-rockford-grange/2026-12-06/
LOCATION:Rockford Grange 501\, 4262 Barrett Dr\, Hood River\, OR\, 97031\, United States
CATEGORIES:Community Grange Event
END:VEVENT
BEGIN:VEVENT
DTSTART;TZID=America/Los_Angeles:20261206T080000
DTEND;TZID=America/Los_Angeles:20261206T170000
DTSTAMP:20260425T053820
CREATED:20260213T164436Z
LAST-MODIFIED:20260213T164436Z
UID:10004960-1796544000-1796576400@orgrange.org
SUMMARY:Farmers market sign up at Winona Grange
DESCRIPTION:
URL:https://orgrange.org/event/farmers-market-sign-up-at-winona-grange/2026-12-06/
LOCATION:Winona Grange 271\, 8340 SW Seneca Street\, Tualatin\, OR\, 97062\, United States
CATEGORIES:Community Grange Event
END:VEVENT
BEGIN:VEVENT
DTSTART;TZID=America/Los_Angeles:20261207T090000
DTEND;TZID=America/Los_Angeles:20261207T103000
DTSTAMP:20260425T053820
CREATED:20260110T053544Z
LAST-MODIFIED:20260110T053544Z
UID:10004738-1796634000-1796639400@orgrange.org
SUMMARY:Zumba at Maplewood Grange
DESCRIPTION:Zumba with Cristine \n9-10:30 and 6-7:30 \nMonday thru Friday \n503-914-9561
URL:https://orgrange.org/event/zumba-at-maplewood-grange/2026-12-07/
LOCATION:Maplewood Grange 662 Hall\, 25480 S Hwy 99E\, Aurora\, OR\, 97002\, United States
CATEGORIES:Community Grange Event,Sponsored community benefit event
END:VEVENT
BEGIN:VEVENT
DTSTART;TZID=America/Los_Angeles:20261207T100000
DTEND;TZID=America/Los_Angeles:20261207T110000
DTSTAMP:20260425T053820
CREATED:20260206T061012Z
LAST-MODIFIED:20260206T061023Z
UID:10004857-1796637600-1796641200@orgrange.org
SUMMARY:Yoga in Cottage Grove at Row River Grange
DESCRIPTION:
URL:https://orgrange.org/event/yoga-in-cottage-grove-at-row-river-grange-2/2026-12-07/
LOCATION:Row River 835\, 34360 Row River Rd\, Cottage Grove\, OR\, 97424\, United States
CATEGORIES:Community Grange Event
END:VEVENT
BEGIN:VEVENT
DTSTART;TZID=America/Los_Angeles:20261207T110000
DTEND;TZID=America/Los_Angeles:20261207T120000
DTSTAMP:20260425T053820
CREATED:20260110T052722Z
LAST-MODIFIED:20260110T052722Z
UID:10004498-1796641200-1796644800@orgrange.org
SUMMARY:Tai Chi Walking at Camas Valley Grange
DESCRIPTION:
URL:https://orgrange.org/event/tai-chi-walking-at-camas-valley-grange/2026-12-07/
LOCATION:Camas Valley Grange 521 Hall\, 321 S Camas Rd\, Camas Valley\, OR\, 97416\, United States
CATEGORIES:Community Grange Event,Sponsored community benefit event
END:VEVENT
BEGIN:VEVENT
DTSTART;TZID=America/Los_Angeles:20261207T190000
DTEND;TZID=America/Los_Angeles:20261207T203000
DTSTAMP:20260425T053820
CREATED:20251221T154853Z
LAST-MODIFIED:20251221T154853Z
UID:10004397-1796670000-1796675400@orgrange.org
SUMMARY:Dance classes at McMinnville Grange
DESCRIPTION:
URL:https://orgrange.org/event/dance-classes-at-mcminnville-grange/2026-12-07/
LOCATION:McMinnville Grange 31\, 1700 Old Sheridan Rd\, McMinnville\, OR\, 97128\, United States
CATEGORIES:Community Grange Event
END:VEVENT
BEGIN:VEVENT
DTSTART;TZID=America/Los_Angeles:20261208T090000
DTEND;TZID=America/Los_Angeles:20261208T103000
DTSTAMP:20260425T053820
CREATED:20260110T053544Z
LAST-MODIFIED:20260110T053544Z
UID:10004739-1796720400-1796725800@orgrange.org
SUMMARY:Zumba at Maplewood Grange
DESCRIPTION:Zumba with Cristine \n9-10:30 and 6-7:30 \nMonday thru Friday \n503-914-9561
URL:https://orgrange.org/event/zumba-at-maplewood-grange/2026-12-08/
LOCATION:Maplewood Grange 662 Hall\, 25480 S Hwy 99E\, Aurora\, OR\, 97002\, United States
CATEGORIES:Community Grange Event,Sponsored community benefit event
END:VEVENT
BEGIN:VEVENT
DTSTART;TZID=America/Los_Angeles:20261209T090000
DTEND;TZID=America/Los_Angeles:20261209T103000
DTSTAMP:20260425T053820
CREATED:20260110T053544Z
LAST-MODIFIED:20260110T053544Z
UID:10004740-1796806800-1796812200@orgrange.org
SUMMARY:Zumba at Maplewood Grange
DESCRIPTION:Zumba with Cristine \n9-10:30 and 6-7:30 \nMonday thru Friday \n503-914-9561
URL:https://orgrange.org/event/zumba-at-maplewood-grange/2026-12-09/
LOCATION:Maplewood Grange 662 Hall\, 25480 S Hwy 99E\, Aurora\, OR\, 97002\, United States
CATEGORIES:Community Grange Event,Sponsored community benefit event
END:VEVENT
BEGIN:VEVENT
DTSTART;TZID=America/Los_Angeles:20261209T123000
DTEND;TZID=America/Los_Angeles:20261209T133000
DTSTAMP:20260425T053820
CREATED:20260416T152026Z
LAST-MODIFIED:20260416T152026Z
UID:10005396-1796819400-1796823000@orgrange.org
SUMMARY:Tai Chi at Rockford Grange
DESCRIPTION:
URL:https://orgrange.org/event/tai-chi-at-rockford-grange-2/2026-12-09/
LOCATION:Rockford Grange 501\, 4262 Barrett Dr\, Hood River\, OR\, 97031\, United States
CATEGORIES:Community Grange Event
END:VEVENT
BEGIN:VEVENT
DTSTART;TZID=America/Los_Angeles:20261209T123000
DTEND;TZID=America/Los_Angeles:20261209T140000
DTSTAMP:20260425T053820
CREATED:20260408T041424Z
LAST-MODIFIED:20260408T041424Z
UID:10005256-1796819400-1796824800@orgrange.org
SUMMARY:Food Pantry (free) at Williams Grange
DESCRIPTION:
URL:https://orgrange.org/event/food-pantry-free-at-williams-grange/2026-12-09/
LOCATION:Williams Grange 399 Hall\, 20100 Williams Hwy\, Williams\, OR\, United States
CATEGORIES:Community Grange Event,Sponsored community benefit event
END:VEVENT
BEGIN:VEVENT
DTSTART;TZID=America/Los_Angeles:20261210T090000
DTEND;TZID=America/Los_Angeles:20261210T103000
DTSTAMP:20260425T053820
CREATED:20260110T053544Z
LAST-MODIFIED:20260110T053544Z
UID:10004741-1796893200-1796898600@orgrange.org
SUMMARY:Zumba at Maplewood Grange
DESCRIPTION:Zumba with Cristine \n9-10:30 and 6-7:30 \nMonday thru Friday \n503-914-9561
URL:https://orgrange.org/event/zumba-at-maplewood-grange/2026-12-10/
LOCATION:Maplewood Grange 662 Hall\, 25480 S Hwy 99E\, Aurora\, OR\, 97002\, United States
CATEGORIES:Community Grange Event,Sponsored community benefit event
END:VEVENT
BEGIN:VEVENT
DTSTART;TZID=America/Los_Angeles:20261210T100000
DTEND;TZID=America/Los_Angeles:20261210T110000
DTSTAMP:20260425T053820
CREATED:20260206T061012Z
LAST-MODIFIED:20260206T061023Z
UID:10004218-1796896800-1796900400@orgrange.org
SUMMARY:Yoga in Cottage Grove at Row River Grange
DESCRIPTION:
URL:https://orgrange.org/event/yoga-in-cottage-grove-at-row-river-grange-2/2026-12-10/
LOCATION:Row River 835\, 34360 Row River Rd\, Cottage Grove\, OR\, 97424\, United States
CATEGORIES:Community Grange Event
END:VEVENT
BEGIN:VEVENT
DTSTART;TZID=America/Los_Angeles:20261210T100000
DTEND;TZID=America/Los_Angeles:20261210T110000
DTSTAMP:20260425T053820
CREATED:20260206T142417Z
LAST-MODIFIED:20260206T142417Z
UID:10004907-1796896800-1796900400@orgrange.org
SUMMARY:
DESCRIPTION:
URL:https://orgrange.org/event/7602/2026-12-10/
LOCATION:Salmon River Grange 516\, 5371 Salmon River Hwy\, Otis\, OR\, 97368\, United States
CATEGORIES:Community Grange Event
END:VEVENT
BEGIN:VEVENT
DTSTART;TZID=America/Los_Angeles:20261210T173000
DTEND;TZID=America/Los_Angeles:20261210T183000
DTSTAMP:20260425T053820
CREATED:20250207T061915Z
LAST-MODIFIED:20250207T061915Z
UID:10002344-1796923800-1796927400@orgrange.org
SUMMARY:Pilates and Yoga at Row River Grange
DESCRIPTION:Row
URL:https://orgrange.org/event/pilates-and-yoga-at-row-river-grange/2026-12-10/
LOCATION:Row River 835\, 34360 Row River Rd\, Cottage Grove\, OR\, 97424\, United States
CATEGORIES:Community Grange Event
END:VEVENT
BEGIN:VEVENT
DTSTART;TZID=America/Los_Angeles:20261211T090000
DTEND;TZID=America/Los_Angeles:20261211T103000
DTSTAMP:20260425T053820
CREATED:20251110T144740Z
LAST-MODIFIED:20251113T050933Z
UID:10004291-1796979600-1796985000@orgrange.org
SUMMARY:Walk the Hall at Wickiup
DESCRIPTION:
URL:https://orgrange.org/event/walk-the-hall-at-wickiup/2026-12-11/
LOCATION:Wickiup Grange 722 Hall\, 92683 Svensen Market Rd\, Astoria\, OR\, 97103\, United States
CATEGORIES:Community Grange Event
END:VEVENT
BEGIN:VEVENT
DTSTART;TZID=America/Los_Angeles:20261211T090000
DTEND;TZID=America/Los_Angeles:20261211T103000
DTSTAMP:20260425T053820
CREATED:20260110T053544Z
LAST-MODIFIED:20260110T053544Z
UID:10004742-1796979600-1796985000@orgrange.org
SUMMARY:Zumba at Maplewood Grange
DESCRIPTION:Zumba with Cristine \n9-10:30 and 6-7:30 \nMonday thru Friday \n503-914-9561
URL:https://orgrange.org/event/zumba-at-maplewood-grange/2026-12-11/
LOCATION:Maplewood Grange 662 Hall\, 25480 S Hwy 99E\, Aurora\, OR\, 97002\, United States
CATEGORIES:Community Grange Event,Sponsored community benefit event
END:VEVENT
BEGIN:VEVENT
DTSTART;TZID=America/Los_Angeles:20261211T180000
DTEND;TZID=America/Los_Angeles:20261211T203000
DTSTAMP:20260425T053820
CREATED:20250705T171123Z
LAST-MODIFIED:20250705T171123Z
UID:10002937-1797012000-1797021000@orgrange.org
SUMMARY:Bingo Nights at Mary's River Grange
DESCRIPTION:
URL:https://orgrange.org/event/bingo-nights-at-marys-river-grange/2026-12-11/
LOCATION:Marys River Grange 685 Hall\, 24707 Grange Hall Rd\, Philomath\, OR\, 97370\, United States
CATEGORIES:Community Grange Event
END:VEVENT
END:VCALENDAR