BEGIN:VCALENDAR
VERSION:2.0
PRODID:-//Oregon State Grange - ECPv6.15.17.1//NONSGML v1.0//EN
CALSCALE:GREGORIAN
METHOD:PUBLISH
X-WR-CALNAME:Oregon State Grange
X-ORIGINAL-URL:https://orgrange.org
X-WR-CALDESC:Events for Oregon State Grange
REFRESH-INTERVAL;VALUE=DURATION:PT1H
X-Robots-Tag:noindex
X-PUBLISHED-TTL:PT1H
BEGIN:VTIMEZONE
TZID:America/Los_Angeles
BEGIN:DAYLIGHT
TZOFFSETFROM:-0800
TZOFFSETTO:-0700
TZNAME:PDT
DTSTART:20250309T100000
END:DAYLIGHT
BEGIN:STANDARD
TZOFFSETFROM:-0700
TZOFFSETTO:-0800
TZNAME:PST
DTSTART:20251102T090000
END:STANDARD
BEGIN:DAYLIGHT
TZOFFSETFROM:-0800
TZOFFSETTO:-0700
TZNAME:PDT
DTSTART:20260308T100000
END:DAYLIGHT
BEGIN:STANDARD
TZOFFSETFROM:-0700
TZOFFSETTO:-0800
TZNAME:PST
DTSTART:20261101T090000
END:STANDARD
BEGIN:DAYLIGHT
TZOFFSETFROM:-0800
TZOFFSETTO:-0700
TZNAME:PDT
DTSTART:20270314T100000
END:DAYLIGHT
BEGIN:STANDARD
TZOFFSETFROM:-0700
TZOFFSETTO:-0800
TZNAME:PST
DTSTART:20271107T090000
END:STANDARD
END:VTIMEZONE
BEGIN:VEVENT
DTSTART;TZID=America/Los_Angeles:20260901T090000
DTEND;TZID=America/Los_Angeles:20260901T103000
DTSTAMP:20260419T110438
CREATED:20260110T053544Z
LAST-MODIFIED:20260110T053544Z
UID:10004669-1788253200-1788258600@orgrange.org
SUMMARY:Zumba at Maplewood Grange
DESCRIPTION:Zumba with Cristine \n9-10:30 and 6-7:30 \nMonday thru Friday \n503-914-9561
URL:https://orgrange.org/event/zumba-at-maplewood-grange/2026-09-01/
LOCATION:Maplewood Grange 662 Hall\, 25480 S Hwy 99E\, Aurora\, OR\, 97002\, United States
CATEGORIES:Community Grange Event,Sponsored community benefit event
END:VEVENT
BEGIN:VEVENT
DTSTART;TZID=America/Los_Angeles:20260901T183000
DTEND;TZID=America/Los_Angeles:20260901T213000
DTSTAMP:20260419T110438
CREATED:20250830T051006Z
LAST-MODIFIED:20250830T051006Z
UID:10003844-1788287400-1788298200@orgrange.org
SUMMARY:Jam Session Tuesdays at Hope Grange
DESCRIPTION:
URL:https://orgrange.org/event/jam-session-tuesdays-at-hope-grange/2026-09-01/
LOCATION:Hope Grange 269 Hall\, 27373 Alsea Deadwood Hwy\, Alsea\, OR\, 97324\, United States
CATEGORIES:Community Grange Event
END:VEVENT
BEGIN:VEVENT
DTSTART;TZID=America/Los_Angeles:20260902T090000
DTEND;TZID=America/Los_Angeles:20260902T103000
DTSTAMP:20260419T110438
CREATED:20260110T053544Z
LAST-MODIFIED:20260110T053544Z
UID:10004670-1788339600-1788345000@orgrange.org
SUMMARY:Zumba at Maplewood Grange
DESCRIPTION:Zumba with Cristine \n9-10:30 and 6-7:30 \nMonday thru Friday \n503-914-9561
URL:https://orgrange.org/event/zumba-at-maplewood-grange/2026-09-02/
LOCATION:Maplewood Grange 662 Hall\, 25480 S Hwy 99E\, Aurora\, OR\, 97002\, United States
CATEGORIES:Community Grange Event,Sponsored community benefit event
END:VEVENT
BEGIN:VEVENT
DTSTART;TZID=America/Los_Angeles:20260902T123000
DTEND;TZID=America/Los_Angeles:20260902T133000
DTSTAMP:20260419T110438
CREATED:20260416T152026Z
LAST-MODIFIED:20260416T152026Z
UID:10005382-1788352200-1788355800@orgrange.org
SUMMARY:Tai Chi at Rockford Grange
DESCRIPTION:
URL:https://orgrange.org/event/tai-chi-at-rockford-grange-2/2026-09-02/
LOCATION:Rockford Grange 501\, 4262 Barrett Dr\, Hood River\, OR\, 97031\, United States
CATEGORIES:Community Grange Event
END:VEVENT
BEGIN:VEVENT
DTSTART;TZID=America/Los_Angeles:20260902T123000
DTEND;TZID=America/Los_Angeles:20260902T140000
DTSTAMP:20260419T110438
CREATED:20260408T041424Z
LAST-MODIFIED:20260408T041424Z
UID:10005242-1788352200-1788357600@orgrange.org
SUMMARY:Food Pantry (free) at Williams Grange
DESCRIPTION:
URL:https://orgrange.org/event/food-pantry-free-at-williams-grange/2026-09-02/
LOCATION:Williams Grange 399 Hall\, 20100 Williams Hwy\, Williams\, OR\, United States
CATEGORIES:Community Grange Event,Sponsored community benefit event
END:VEVENT
BEGIN:VEVENT
DTSTART;TZID=America/Los_Angeles:20260903T090000
DTEND;TZID=America/Los_Angeles:20260903T103000
DTSTAMP:20260419T110438
CREATED:20260110T053544Z
LAST-MODIFIED:20260110T053544Z
UID:10004671-1788426000-1788431400@orgrange.org
SUMMARY:Zumba at Maplewood Grange
DESCRIPTION:Zumba with Cristine \n9-10:30 and 6-7:30 \nMonday thru Friday \n503-914-9561
URL:https://orgrange.org/event/zumba-at-maplewood-grange/2026-09-03/
LOCATION:Maplewood Grange 662 Hall\, 25480 S Hwy 99E\, Aurora\, OR\, 97002\, United States
CATEGORIES:Community Grange Event,Sponsored community benefit event
END:VEVENT
BEGIN:VEVENT
DTSTART;TZID=America/Los_Angeles:20260903T100000
DTEND;TZID=America/Los_Angeles:20260903T110000
DTSTAMP:20260419T110438
CREATED:20260206T061012Z
LAST-MODIFIED:20260206T061023Z
UID:10004190-1788429600-1788433200@orgrange.org
SUMMARY:Yoga in Cottage Grove at Row River Grange
DESCRIPTION:
URL:https://orgrange.org/event/yoga-in-cottage-grove-at-row-river-grange-2/2026-09-03/
LOCATION:Row River 835\, 34360 Row River Rd\, Cottage Grove\, OR\, 97424\, United States
CATEGORIES:Community Grange Event
END:VEVENT
BEGIN:VEVENT
DTSTART;TZID=America/Los_Angeles:20260903T100000
DTEND;TZID=America/Los_Angeles:20260903T110000
DTSTAMP:20260419T110438
CREATED:20260206T142417Z
LAST-MODIFIED:20260206T142417Z
UID:10004893-1788429600-1788433200@orgrange.org
SUMMARY:
DESCRIPTION:
URL:https://orgrange.org/event/7602/2026-09-03/
LOCATION:Salmon River Grange 516\, 5371 Salmon River Hwy\, Otis\, OR\, 97368\, United States
CATEGORIES:Community Grange Event
END:VEVENT
BEGIN:VEVENT
DTSTART;TZID=America/Los_Angeles:20260903T173000
DTEND;TZID=America/Los_Angeles:20260903T183000
DTSTAMP:20260419T110438
CREATED:20250207T061915Z
LAST-MODIFIED:20250207T061915Z
UID:10002330-1788456600-1788460200@orgrange.org
SUMMARY:Pilates and Yoga at Row River Grange
DESCRIPTION:Row
URL:https://orgrange.org/event/pilates-and-yoga-at-row-river-grange/2026-09-03/
LOCATION:Row River 835\, 34360 Row River Rd\, Cottage Grove\, OR\, 97424\, United States
CATEGORIES:Community Grange Event
END:VEVENT
BEGIN:VEVENT
DTSTART;TZID=America/Los_Angeles:20260904T090000
DTEND;TZID=America/Los_Angeles:20260904T103000
DTSTAMP:20260419T110438
CREATED:20251110T144740Z
LAST-MODIFIED:20251113T050933Z
UID:10004277-1788512400-1788517800@orgrange.org
SUMMARY:Walk the Hall at Wickiup
DESCRIPTION:
URL:https://orgrange.org/event/walk-the-hall-at-wickiup/2026-09-04/
LOCATION:Wickiup Grange 722 Hall\, 92683 Svensen Market Rd\, Astoria\, OR\, 97103\, United States
CATEGORIES:Community Grange Event
END:VEVENT
BEGIN:VEVENT
DTSTART;TZID=America/Los_Angeles:20260904T090000
DTEND;TZID=America/Los_Angeles:20260904T103000
DTSTAMP:20260419T110438
CREATED:20260110T053544Z
LAST-MODIFIED:20260110T053544Z
UID:10004672-1788512400-1788517800@orgrange.org
SUMMARY:Zumba at Maplewood Grange
DESCRIPTION:Zumba with Cristine \n9-10:30 and 6-7:30 \nMonday thru Friday \n503-914-9561
URL:https://orgrange.org/event/zumba-at-maplewood-grange/2026-09-04/
LOCATION:Maplewood Grange 662 Hall\, 25480 S Hwy 99E\, Aurora\, OR\, 97002\, United States
CATEGORIES:Community Grange Event,Sponsored community benefit event
END:VEVENT
BEGIN:VEVENT
DTSTART;TZID=America/Los_Angeles:20260904T090000
DTEND;TZID=America/Los_Angeles:20260904T160000
DTSTAMP:20260419T110438
CREATED:20250705T162857Z
LAST-MODIFIED:20250705T162857Z
UID:10002908-1788512400-1788537600@orgrange.org
SUMMARY:Community Flea Market and Craft Fair at Pacific Grange
DESCRIPTION:
URL:https://orgrange.org/event/community-flea-market-and-craft-fair-at-pacific-grange/2026-09-04/
LOCATION:Pacific Grange 413 Hall\, 90475 Alt Hwy 101\, Astoria\, OR\, 97103\, United States
CATEGORIES:Community Grange Event
END:VEVENT
BEGIN:VEVENT
DTSTART;TZID=America/Los_Angeles:20260904T193000
DTEND;TZID=America/Los_Angeles:20260904T223000
DTSTAMP:20260419T110438
CREATED:20260227T155236Z
LAST-MODIFIED:20260227T155236Z
UID:10005031-1788550200-1788561000@orgrange.org
SUMMARY:Dance at McMinnville Grange
DESCRIPTION:
URL:https://orgrange.org/event/dance-at-mcminnville-grange/2026-09-04/
LOCATION:McMinnville Grange 31\, 1700 Old Sheridan Rd\, McMinnville\, OR\, 97128\, United States
CATEGORIES:Community Grange Event
END:VEVENT
BEGIN:VEVENT
DTSTART;TZID=America/Los_Angeles:20260906T073000
DTEND;TZID=America/Los_Angeles:20260906T083000
DTSTAMP:20260419T110438
CREATED:20260416T151647Z
LAST-MODIFIED:20260416T151647Z
UID:10005294-1788679800-1788683400@orgrange.org
SUMMARY:Tai Chi at Rockford Grange
DESCRIPTION:
URL:https://orgrange.org/event/tai-chi-at-rockford-grange/2026-09-06/
LOCATION:Rockford Grange 501\, 4262 Barrett Dr\, Hood River\, OR\, 97031\, United States
CATEGORIES:Community Grange Event
END:VEVENT
BEGIN:VEVENT
DTSTART;TZID=America/Los_Angeles:20260906T080000
DTEND;TZID=America/Los_Angeles:20260906T170000
DTSTAMP:20260419T110438
CREATED:20260213T164436Z
LAST-MODIFIED:20260213T164436Z
UID:10004947-1788681600-1788714000@orgrange.org
SUMMARY:Farmers market sign up at Winona Grange
DESCRIPTION:
URL:https://orgrange.org/event/farmers-market-sign-up-at-winona-grange/2026-09-06/
LOCATION:Winona Grange 271\, 8340 SW Seneca Street\, Tualatin\, OR\, 97062\, United States
CATEGORIES:Community Grange Event
END:VEVENT
BEGIN:VEVENT
DTSTART;TZID=America/Los_Angeles:20260906T130000
DTEND;TZID=America/Los_Angeles:20260906T160000
DTSTAMP:20260419T110438
CREATED:20260227T155828Z
LAST-MODIFIED:20260227T155828Z
UID:10005127-1788699600-1788710400@orgrange.org
SUMMARY:Dance at McMinnville Grange
DESCRIPTION:
URL:https://orgrange.org/event/dance-at-mcminnville-grange-2/2026-09-06/
LOCATION:McMinnville Grange 31\, 1700 Old Sheridan Rd\, McMinnville\, OR\, 97128\, United States
CATEGORIES:Community Grange Event
END:VEVENT
BEGIN:VEVENT
DTSTART;TZID=America/Los_Angeles:20260907T090000
DTEND;TZID=America/Los_Angeles:20260907T103000
DTSTAMP:20260419T110438
CREATED:20260110T053544Z
LAST-MODIFIED:20260110T053544Z
UID:10004673-1788771600-1788777000@orgrange.org
SUMMARY:Zumba at Maplewood Grange
DESCRIPTION:Zumba with Cristine \n9-10:30 and 6-7:30 \nMonday thru Friday \n503-914-9561
URL:https://orgrange.org/event/zumba-at-maplewood-grange/2026-09-07/
LOCATION:Maplewood Grange 662 Hall\, 25480 S Hwy 99E\, Aurora\, OR\, 97002\, United States
CATEGORIES:Community Grange Event,Sponsored community benefit event
END:VEVENT
BEGIN:VEVENT
DTSTART;TZID=America/Los_Angeles:20260907T100000
DTEND;TZID=America/Los_Angeles:20260907T110000
DTSTAMP:20260419T110438
CREATED:20260206T061012Z
LAST-MODIFIED:20260206T061023Z
UID:10004844-1788775200-1788778800@orgrange.org
SUMMARY:Yoga in Cottage Grove at Row River Grange
DESCRIPTION:
URL:https://orgrange.org/event/yoga-in-cottage-grove-at-row-river-grange-2/2026-09-07/
LOCATION:Row River 835\, 34360 Row River Rd\, Cottage Grove\, OR\, 97424\, United States
CATEGORIES:Community Grange Event
END:VEVENT
BEGIN:VEVENT
DTSTART;TZID=America/Los_Angeles:20260907T110000
DTEND;TZID=America/Los_Angeles:20260907T120000
DTSTAMP:20260419T110438
CREATED:20260110T052722Z
LAST-MODIFIED:20260110T052722Z
UID:10004485-1788778800-1788782400@orgrange.org
SUMMARY:Tai Chi Walking at Camas Valley Grange
DESCRIPTION:
URL:https://orgrange.org/event/tai-chi-walking-at-camas-valley-grange/2026-09-07/
LOCATION:Camas Valley Grange 521 Hall\, 321 S Camas Rd\, Camas Valley\, OR\, 97416\, United States
CATEGORIES:Community Grange Event,Sponsored community benefit event
END:VEVENT
BEGIN:VEVENT
DTSTART;TZID=America/Los_Angeles:20260907T190000
DTEND;TZID=America/Los_Angeles:20260907T203000
DTSTAMP:20260419T110438
CREATED:20251221T154853Z
LAST-MODIFIED:20251221T154853Z
UID:10004384-1788807600-1788813000@orgrange.org
SUMMARY:Dance classes at McMinnville Grange
DESCRIPTION:
URL:https://orgrange.org/event/dance-classes-at-mcminnville-grange/2026-09-07/
LOCATION:McMinnville Grange 31\, 1700 Old Sheridan Rd\, McMinnville\, OR\, 97128\, United States
CATEGORIES:Community Grange Event
END:VEVENT
BEGIN:VEVENT
DTSTART;TZID=America/Los_Angeles:20260908T090000
DTEND;TZID=America/Los_Angeles:20260908T103000
DTSTAMP:20260419T110438
CREATED:20260110T053544Z
LAST-MODIFIED:20260110T053544Z
UID:10004674-1788858000-1788863400@orgrange.org
SUMMARY:Zumba at Maplewood Grange
DESCRIPTION:Zumba with Cristine \n9-10:30 and 6-7:30 \nMonday thru Friday \n503-914-9561
URL:https://orgrange.org/event/zumba-at-maplewood-grange/2026-09-08/
LOCATION:Maplewood Grange 662 Hall\, 25480 S Hwy 99E\, Aurora\, OR\, 97002\, United States
CATEGORIES:Community Grange Event,Sponsored community benefit event
END:VEVENT
BEGIN:VEVENT
DTSTART;TZID=America/Los_Angeles:20260909T090000
DTEND;TZID=America/Los_Angeles:20260909T103000
DTSTAMP:20260419T110438
CREATED:20260110T053544Z
LAST-MODIFIED:20260110T053544Z
UID:10004675-1788944400-1788949800@orgrange.org
SUMMARY:Zumba at Maplewood Grange
DESCRIPTION:Zumba with Cristine \n9-10:30 and 6-7:30 \nMonday thru Friday \n503-914-9561
URL:https://orgrange.org/event/zumba-at-maplewood-grange/2026-09-09/
LOCATION:Maplewood Grange 662 Hall\, 25480 S Hwy 99E\, Aurora\, OR\, 97002\, United States
CATEGORIES:Community Grange Event,Sponsored community benefit event
END:VEVENT
BEGIN:VEVENT
DTSTART;TZID=America/Los_Angeles:20260909T123000
DTEND;TZID=America/Los_Angeles:20260909T133000
DTSTAMP:20260419T110438
CREATED:20260416T152026Z
LAST-MODIFIED:20260416T152026Z
UID:10005383-1788957000-1788960600@orgrange.org
SUMMARY:Tai Chi at Rockford Grange
DESCRIPTION:
URL:https://orgrange.org/event/tai-chi-at-rockford-grange-2/2026-09-09/
LOCATION:Rockford Grange 501\, 4262 Barrett Dr\, Hood River\, OR\, 97031\, United States
CATEGORIES:Community Grange Event
END:VEVENT
BEGIN:VEVENT
DTSTART;TZID=America/Los_Angeles:20260909T123000
DTEND;TZID=America/Los_Angeles:20260909T140000
DTSTAMP:20260419T110438
CREATED:20260408T041424Z
LAST-MODIFIED:20260408T041424Z
UID:10005243-1788957000-1788962400@orgrange.org
SUMMARY:Food Pantry (free) at Williams Grange
DESCRIPTION:
URL:https://orgrange.org/event/food-pantry-free-at-williams-grange/2026-09-09/
LOCATION:Williams Grange 399 Hall\, 20100 Williams Hwy\, Williams\, OR\, United States
CATEGORIES:Community Grange Event,Sponsored community benefit event
END:VEVENT
BEGIN:VEVENT
DTSTART;TZID=America/Los_Angeles:20260910T090000
DTEND;TZID=America/Los_Angeles:20260910T103000
DTSTAMP:20260419T110438
CREATED:20260110T053544Z
LAST-MODIFIED:20260110T053544Z
UID:10004676-1789030800-1789036200@orgrange.org
SUMMARY:Zumba at Maplewood Grange
DESCRIPTION:Zumba with Cristine \n9-10:30 and 6-7:30 \nMonday thru Friday \n503-914-9561
URL:https://orgrange.org/event/zumba-at-maplewood-grange/2026-09-10/
LOCATION:Maplewood Grange 662 Hall\, 25480 S Hwy 99E\, Aurora\, OR\, 97002\, United States
CATEGORIES:Community Grange Event,Sponsored community benefit event
END:VEVENT
BEGIN:VEVENT
DTSTART;TZID=America/Los_Angeles:20260910T100000
DTEND;TZID=America/Los_Angeles:20260910T110000
DTSTAMP:20260419T110438
CREATED:20260206T061012Z
LAST-MODIFIED:20260206T061023Z
UID:10004192-1789034400-1789038000@orgrange.org
SUMMARY:Yoga in Cottage Grove at Row River Grange
DESCRIPTION:
URL:https://orgrange.org/event/yoga-in-cottage-grove-at-row-river-grange-2/2026-09-10/
LOCATION:Row River 835\, 34360 Row River Rd\, Cottage Grove\, OR\, 97424\, United States
CATEGORIES:Community Grange Event
END:VEVENT
BEGIN:VEVENT
DTSTART;TZID=America/Los_Angeles:20260910T100000
DTEND;TZID=America/Los_Angeles:20260910T110000
DTSTAMP:20260419T110438
CREATED:20260206T142417Z
LAST-MODIFIED:20260206T142417Z
UID:10004894-1789034400-1789038000@orgrange.org
SUMMARY:
DESCRIPTION:
URL:https://orgrange.org/event/7602/2026-09-10/
LOCATION:Salmon River Grange 516\, 5371 Salmon River Hwy\, Otis\, OR\, 97368\, United States
CATEGORIES:Community Grange Event
END:VEVENT
BEGIN:VEVENT
DTSTART;TZID=America/Los_Angeles:20260910T173000
DTEND;TZID=America/Los_Angeles:20260910T183000
DTSTAMP:20260419T110438
CREATED:20250207T061915Z
LAST-MODIFIED:20250207T061915Z
UID:10002331-1789061400-1789065000@orgrange.org
SUMMARY:Pilates and Yoga at Row River Grange
DESCRIPTION:Row
URL:https://orgrange.org/event/pilates-and-yoga-at-row-river-grange/2026-09-10/
LOCATION:Row River 835\, 34360 Row River Rd\, Cottage Grove\, OR\, 97424\, United States
CATEGORIES:Community Grange Event
END:VEVENT
BEGIN:VEVENT
DTSTART;TZID=America/Los_Angeles:20260911T090000
DTEND;TZID=America/Los_Angeles:20260911T103000
DTSTAMP:20260419T110438
CREATED:20251110T144740Z
LAST-MODIFIED:20251113T050933Z
UID:10004278-1789117200-1789122600@orgrange.org
SUMMARY:Walk the Hall at Wickiup
DESCRIPTION:
URL:https://orgrange.org/event/walk-the-hall-at-wickiup/2026-09-11/
LOCATION:Wickiup Grange 722 Hall\, 92683 Svensen Market Rd\, Astoria\, OR\, 97103\, United States
CATEGORIES:Community Grange Event
END:VEVENT
BEGIN:VEVENT
DTSTART;TZID=America/Los_Angeles:20260911T090000
DTEND;TZID=America/Los_Angeles:20260911T103000
DTSTAMP:20260419T110438
CREATED:20260110T053544Z
LAST-MODIFIED:20260110T053544Z
UID:10004677-1789117200-1789122600@orgrange.org
SUMMARY:Zumba at Maplewood Grange
DESCRIPTION:Zumba with Cristine \n9-10:30 and 6-7:30 \nMonday thru Friday \n503-914-9561
URL:https://orgrange.org/event/zumba-at-maplewood-grange/2026-09-11/
LOCATION:Maplewood Grange 662 Hall\, 25480 S Hwy 99E\, Aurora\, OR\, 97002\, United States
CATEGORIES:Community Grange Event,Sponsored community benefit event
END:VEVENT
END:VCALENDAR