BEGIN:VCALENDAR
VERSION:2.0
PRODID:-//Oregon State Grange - ECPv6.15.17.1//NONSGML v1.0//EN
CALSCALE:GREGORIAN
METHOD:PUBLISH
X-WR-CALNAME:Oregon State Grange
X-ORIGINAL-URL:https://orgrange.org
X-WR-CALDESC:Events for Oregon State Grange
REFRESH-INTERVAL;VALUE=DURATION:PT1H
X-Robots-Tag:noindex
X-PUBLISHED-TTL:PT1H
BEGIN:VTIMEZONE
TZID:America/Los_Angeles
BEGIN:DAYLIGHT
TZOFFSETFROM:-0800
TZOFFSETTO:-0700
TZNAME:PDT
DTSTART:20250309T100000
END:DAYLIGHT
BEGIN:STANDARD
TZOFFSETFROM:-0700
TZOFFSETTO:-0800
TZNAME:PST
DTSTART:20251102T090000
END:STANDARD
BEGIN:DAYLIGHT
TZOFFSETFROM:-0800
TZOFFSETTO:-0700
TZNAME:PDT
DTSTART:20260308T100000
END:DAYLIGHT
BEGIN:STANDARD
TZOFFSETFROM:-0700
TZOFFSETTO:-0800
TZNAME:PST
DTSTART:20261101T090000
END:STANDARD
BEGIN:DAYLIGHT
TZOFFSETFROM:-0800
TZOFFSETTO:-0700
TZNAME:PDT
DTSTART:20270314T100000
END:DAYLIGHT
BEGIN:STANDARD
TZOFFSETFROM:-0700
TZOFFSETTO:-0800
TZNAME:PST
DTSTART:20271107T090000
END:STANDARD
END:VTIMEZONE
BEGIN:VEVENT
DTSTART;TZID=America/Los_Angeles:20260425T093000
DTEND;TZID=America/Los_Angeles:20260425T140000
DTSTAMP:20260425T052651
CREATED:20251027T201843Z
LAST-MODIFIED:20260324T235150Z
UID:10004084-1777109400-1777125600@orgrange.org
SUMMARY:Clackamas Pomona Grange Meeting
DESCRIPTION:Meeting 9:30\, $5 lunch at noon\nMemorial Service at 1 PM
URL:https://orgrange.org/event/clackamas-pomona-grange-meeting-2/
LOCATION:Clarkes Grange 261 Hall\, 21076 S Unger Rd\, Beavercreek\, OR\, 97004\, United States
CATEGORIES:Pomona Grange Event
END:VEVENT
BEGIN:VEVENT
DTSTART;TZID=America/Los_Angeles:20260425T100000
DTEND;TZID=America/Los_Angeles:20260425T140000
DTSTAMP:20260425T052651
CREATED:20260417T140059Z
LAST-MODIFIED:20260417T140059Z
UID:10005454-1777111200-1777125600@orgrange.org
SUMMARY:Plant Sale and Seed Swap at Mary's River Grange
DESCRIPTION:
URL:https://orgrange.org/event/plant-sale-and-seed-swap-at-marys-river-grange/
LOCATION:Marys River Grange 685 Hall\, 24707 Grange Hall Rd\, Philomath\, OR\, 97370\, United States
CATEGORIES:Community Grange Event,Sponsored community benefit event
END:VEVENT
BEGIN:VEVENT
DTSTART;TZID=America/Los_Angeles:20260425T130000
DTEND;TZID=America/Los_Angeles:20260425T160000
DTSTAMP:20260425T052652
CREATED:20260408T040059Z
LAST-MODIFIED:20260408T040059Z
UID:10005220-1777122000-1777132800@orgrange.org
SUMMARY:Seeds and Bees at Winona Grange
DESCRIPTION:
URL:https://orgrange.org/event/seeds-and-bees-at-winona-grange-2/
LOCATION:Winona Grange 271\, 8340 SW Seneca Street\, Tualatin\, OR\, 97062\, United States
CATEGORIES:Community Grange Event
END:VEVENT
BEGIN:VEVENT
DTSTART;TZID=America/Los_Angeles:20260425T140000
DTEND;TZID=America/Los_Angeles:20260425T170000
DTSTAMP:20260425T052652
CREATED:20260417T210459Z
LAST-MODIFIED:20260417T210459Z
UID:10005463-1777125600-1777136400@orgrange.org
SUMMARY:Candidate Forum for Lane County Commission at Creswell Grange
DESCRIPTION:
URL:https://orgrange.org/event/candidate-forum-for-lane-county-commission-at-creswell-grange/
LOCATION:Creswell Grange 496\, 274 W Oregon Ave\, Creswell\, OR\, 97426\, United States
CATEGORIES:Community Grange Event,Sponsored community benefit event
END:VEVENT
BEGIN:VEVENT
DTSTART;TZID=America/Los_Angeles:20260425T170000
DTEND;TZID=America/Los_Angeles:20260425T190000
DTSTAMP:20260425T052652
CREATED:20260125T141550Z
LAST-MODIFIED:20260125T141550Z
UID:10004793-1777136400-1777143600@orgrange.org
SUMMARY:Pulled Pork Dinner at Santiam Valley Grange
DESCRIPTION:
URL:https://orgrange.org/event/pulled-pork-dinner-at-santiam-valley-grange/
LOCATION:Santiam Valley Grange 828\, 1140 5th St\, Lyons\, OR\, 97358\, United States
CATEGORIES:Community Grange Event
END:VEVENT
BEGIN:VEVENT
DTSTART;TZID=America/Los_Angeles:20260425T170000
DTEND;TZID=America/Los_Angeles:20260425T200000
DTSTAMP:20260425T052652
CREATED:20260323T051158Z
LAST-MODIFIED:20260323T051158Z
UID:10005187-1777136400-1777147200@orgrange.org
SUMMARY:Fry Bread and Friends at Fruitdale Grange
DESCRIPTION:
URL:https://orgrange.org/event/fry-bread-and-friends-at-fruitdale-grange/
LOCATION:Fruitdale Grange 379 Hall\, 1440 Parkdale Dr\, Grants Pass\, OR\, 97527\, United States
CATEGORIES:Community Grange Event,Sponsored community benefit event
END:VEVENT
BEGIN:VEVENT
DTSTART;TZID=America/Los_Angeles:20260425T170000
DTEND;TZID=America/Los_Angeles:20260425T200000
DTSTAMP:20260425T052652
CREATED:20260417T141352Z
LAST-MODIFIED:20260417T141352Z
UID:10005456-1777136400-1777147200@orgrange.org
SUMMARY:Bingo at Alsea Hope Grange
DESCRIPTION:
URL:https://orgrange.org/event/bingo-at-alsea-hope-grange-2/
LOCATION:Hope Grange 269 Hall\, 27373 Alsea Deadwood Hwy\, Alsea\, OR\, 97324\, United States
CATEGORIES:Community Grange Event
END:VEVENT
END:VCALENDAR