BEGIN:VCALENDAR
VERSION:2.0
PRODID:-//Oregon State Grange - ECPv6.15.17.1//NONSGML v1.0//EN
CALSCALE:GREGORIAN
METHOD:PUBLISH
X-WR-CALNAME:Oregon State Grange
X-ORIGINAL-URL:https://orgrange.org
X-WR-CALDESC:Events for Oregon State Grange
REFRESH-INTERVAL;VALUE=DURATION:PT1H
X-Robots-Tag:noindex
X-PUBLISHED-TTL:PT1H
BEGIN:VTIMEZONE
TZID:America/Los_Angeles
BEGIN:DAYLIGHT
TZOFFSETFROM:-0800
TZOFFSETTO:-0700
TZNAME:PDT
DTSTART:20250309T100000
END:DAYLIGHT
BEGIN:STANDARD
TZOFFSETFROM:-0700
TZOFFSETTO:-0800
TZNAME:PST
DTSTART:20251102T090000
END:STANDARD
BEGIN:DAYLIGHT
TZOFFSETFROM:-0800
TZOFFSETTO:-0700
TZNAME:PDT
DTSTART:20260308T100000
END:DAYLIGHT
BEGIN:STANDARD
TZOFFSETFROM:-0700
TZOFFSETTO:-0800
TZNAME:PST
DTSTART:20261101T090000
END:STANDARD
BEGIN:DAYLIGHT
TZOFFSETFROM:-0800
TZOFFSETTO:-0700
TZNAME:PDT
DTSTART:20270314T100000
END:DAYLIGHT
BEGIN:STANDARD
TZOFFSETFROM:-0700
TZOFFSETTO:-0800
TZNAME:PST
DTSTART:20271107T090000
END:STANDARD
END:VTIMEZONE
BEGIN:VEVENT
DTSTART;TZID=America/Los_Angeles:20260423T090000
DTEND;TZID=America/Los_Angeles:20260423T103000
DTSTAMP:20260423T031012
CREATED:20260110T053544Z
LAST-MODIFIED:20260110T053544Z
UID:10004576-1776934800-1776940200@orgrange.org
SUMMARY:Zumba at Maplewood Grange
DESCRIPTION:Zumba with Cristine \n9-10:30 and 6-7:30 \nMonday thru Friday \n503-914-9561
URL:https://orgrange.org/event/zumba-at-maplewood-grange/2026-04-23/
LOCATION:Maplewood Grange 662 Hall\, 25480 S Hwy 99E\, Aurora\, OR\, 97002\, United States
CATEGORIES:Community Grange Event,Sponsored community benefit event
END:VEVENT
BEGIN:VEVENT
DTSTART;TZID=America/Los_Angeles:20260423T100000
DTEND;TZID=America/Los_Angeles:20260423T110000
DTSTAMP:20260423T031012
CREATED:20260206T061012Z
LAST-MODIFIED:20260206T061023Z
UID:10004152-1776938400-1776942000@orgrange.org
SUMMARY:Yoga in Cottage Grove at Row River Grange
DESCRIPTION:
URL:https://orgrange.org/event/yoga-in-cottage-grove-at-row-river-grange-2/2026-04-23/
LOCATION:Row River 835\, 34360 Row River Rd\, Cottage Grove\, OR\, 97424\, United States
CATEGORIES:Community Grange Event
END:VEVENT
BEGIN:VEVENT
DTSTART;TZID=America/Los_Angeles:20260423T100000
DTEND;TZID=America/Los_Angeles:20260423T110000
DTSTAMP:20260423T031012
CREATED:20260206T142417Z
LAST-MODIFIED:20260206T142417Z
UID:10004874-1776938400-1776942000@orgrange.org
SUMMARY:
DESCRIPTION:
URL:https://orgrange.org/event/7602/2026-04-23/
LOCATION:Salmon River Grange 516\, 5371 Salmon River Hwy\, Otis\, OR\, 97368\, United States
CATEGORIES:Community Grange Event
END:VEVENT
BEGIN:VEVENT
DTSTART;TZID=America/Los_Angeles:20260423T173000
DTEND;TZID=America/Los_Angeles:20260423T183000
DTSTAMP:20260423T031012
CREATED:20250207T061915Z
LAST-MODIFIED:20250207T061915Z
UID:10002311-1776965400-1776969000@orgrange.org
SUMMARY:Pilates and Yoga at Row River Grange
DESCRIPTION:Row
URL:https://orgrange.org/event/pilates-and-yoga-at-row-river-grange/2026-04-23/
LOCATION:Row River 835\, 34360 Row River Rd\, Cottage Grove\, OR\, 97424\, United States
CATEGORIES:Community Grange Event
END:VEVENT
END:VCALENDAR